BEGIN:VCALENDAR
VERSION:2.0
PRODID:-//Hardloopevenementen - ECPv6.15.14//NONSGML v1.0//EN
CALSCALE:GREGORIAN
METHOD:PUBLISH
X-ORIGINAL-URL:https://hardloopevenementen.com
X-WR-CALDESC:Evenementen voor Hardloopevenementen
REFRESH-INTERVAL;VALUE=DURATION:PT1H
X-Robots-Tag:noindex
X-PUBLISHED-TTL:PT1H
BEGIN:VTIMEZONE
TZID:UTC
BEGIN:STANDARD
TZOFFSETFROM:+0000
TZOFFSETTO:+0000
TZNAME:UTC
DTSTART:20070101T000000
END:STANDARD
END:VTIMEZONE
BEGIN:VEVENT
DTSTART;VALUE=DATE:20170625
DTEND;VALUE=DATE:20170626
DTSTAMP:20260420T070723
CREATED:20130125T155715Z
LAST-MODIFIED:20190423T114521Z
UID:14457-1498348800-1498348800@hardloopevenementen.com
SUMMARY:Hamersveldloop Leusden (UT)
DESCRIPTION:Doe mee met het hardloopevenement Hamersveldloop te Leusden (UT) op zo 25 jun 2017. De volgende afstanden staan op het programma: 1 km – 5 km – 10 km hardlopen. Wilt u inschrijven voor dit loopevenement?  Raadpleeg hiervoor dan de website van de organisatie\nDe uitslagen van deze hardloopwedstrijd zijn te raadplegen via dezelfde website of via de bekende websites zoals uitslagen.nl\, runtimer en mylaps. Doet u mee met dit evenement\, zorg dan dat u goed voorbereid aan de start staat! Met een goed trainingsschema komt u een heel eind. Train bijvoorbeeld met start to run van Evy Gruyaert. Download de start to run mp3 bestanden en zet ze op uw telefoon. Oortjes in\, hit the play button en en rennen maar! \n\n\n\n\nMeer informatie over Hamersveldloop op Hardloopkalender.nl  \n  \n  \n 
URL:https://hardloopevenementen.com/loopagenda/hamersveldloop-leusden-ut-2/
END:VEVENT
BEGIN:VEVENT
DTSTART;VALUE=DATE:20160626
DTEND;VALUE=DATE:20160627
DTSTAMP:20260420T070723
CREATED:20081112T022556Z
LAST-MODIFIED:20190423T112408Z
UID:12446-1466899200-1466899200@hardloopevenementen.com
SUMMARY:AFAS Hamersveldloop Leusden (UT)
DESCRIPTION:Doe mee met het hardloopevenement AFAS Hamersveldloop te Leusden (UT) op zo 26 jun 2016. De volgende afstanden staan op het programma: 1 km – 5 km – 10 km hardlopen. Wilt u inschrijven voor dit loopevenement?  Raadpleeg hiervoor dan de website van de organisatie\nDe uitslagen van deze hardloopwedstrijd zijn te raadplegen via dezelfde website of via de bekende websites zoals uitslagen.nl\, runtimer en mylaps. Doet u mee met dit evenement\, zorg dan dat u goed voorbereid aan de start staat! Met een goed trainingsschema komt u een heel eind. Train bijvoorbeeld met start to run van Evy Gruyaert. Download de start to run mp3 bestanden en zet ze op uw telefoon. Oortjes in\, hit the play button en en rennen maar! \n\n\n\n\nMeer informatie over AFAS Hamersveldloop op Hardloopkalender.nl  \nDe AFAS Hamersveldloop is een leuke loop over een snel verhard parcours. Na afloop kunnen alle deelnemers gratis zwemmen in het naastgelegen zwembad. \n  \n  \n 
URL:https://hardloopevenementen.com/loopagenda/afas-hamersveldloop-leusden-ut-2/
END:VEVENT
BEGIN:VEVENT
DTSTART;VALUE=DATE:20150628
DTEND;VALUE=DATE:20150629
DTSTAMP:20260420T070723
CREATED:20180924T110442Z
LAST-MODIFIED:20190423T111054Z
UID:10154-1435449600-1435449600@hardloopevenementen.com
SUMMARY:AFAS Hamersveldloop Leusden (UT)
DESCRIPTION:Doe mee met het hardloopevenement AFAS Hamersveldloop te Leusden (UT) op zo 28 jun 2015. De volgende afstanden staan op het programma: 1 km – 5 km – 10 km hardlopen. Wilt u inschrijven voor dit loopevenement?  Raadpleeg hiervoor dan de website van de organisatie\nDe uitslagen van deze hardloopwedstrijd zijn te raadplegen via dezelfde website of via de bekende websites zoals uitslagen.nl\, runtimer en mylaps. Doet u mee met dit evenement\, zorg dan dat u goed voorbereid aan de start staat! Met een goed trainingsschema komt u een heel eind. Train bijvoorbeeld met start to run van Evy Gruyaert. Download de start to run mp3 bestanden en zet ze op uw telefoon. Oortjes in\, hit the play button en en rennen maar! \n\n\n\n\nMeer informatie over AFAS Hamersveldloop op Hardloopkalender.nl  \nAFAS Hamersveldloop 28 juni 2015    Op zondag 28 juni 2015 is er weer een nieuwe editie van de Hamersveldloop in Leusden. Dit jaar met een paar mooie vernieuwingen. Allereerst kunnen we met trots melden dat we dit jaar een hoofdsponsor en naamgever hebben in de naam AFAS Software. Dankzij dit mooie bedrijf uit Leusden kunnen we nu gebruik maken van de chiptijdswaarneming van ETU.    Let op!  De start en finish is niet meer traditioneel voor zwembad Octopus\, maar iets verderop op de Bavoortseweg. De start en finish is vanaf nu bij korfbalvereniging Antilopen Lancyr Deelen. Hier hebben we de beschikking over moderne kleedlokalen en een prachtige kantine.      Inschrijven  Voorinschrijven voor de loop is vanaf nu tot en met 26 juni mogelijk via inschrijven.nl.     Na-inschrijven kan vanaf 9.45 uur tot 15 minuten voor de start van het onderdeel. \n  \n  \n 
URL:https://hardloopevenementen.com/loopagenda/afas-hamersveldloop-leusden-ut/
END:VEVENT
BEGIN:VEVENT
DTSTART;VALUE=DATE:20140629
DTEND;VALUE=DATE:20140630
DTSTAMP:20260420T070723
CREATED:20160202T143035Z
LAST-MODIFIED:20190423T105340Z
UID:33716-1404000000-1404000000@hardloopevenementen.com
SUMMARY:Hamersveldloop Leusden (UT)
DESCRIPTION:Doe mee met het hardloopevenement Hamersveldloop te Leusden (UT) op zo 29 jun 2014. De volgende afstanden staan op het programma: 1 km – 5 km – 10 km hardlopen. Wilt u inschrijven voor dit loopevenement?  Raadpleeg hiervoor dan de website van de organisatie\nDe uitslagen van deze hardloopwedstrijd zijn te raadplegen via dezelfde website of via de bekende websites zoals uitslagen.nl\, runtimer en mylaps. Doet u mee met dit evenement\, zorg dan dat u goed voorbereid aan de start staat! Met een goed trainingsschema komt u een heel eind. Train bijvoorbeeld met start to run van Evy Gruyaert. Download de start to run mp3 bestanden en zet ze op uw telefoon. Oortjes in\, hit the play button en en rennen maar! \n\n\n\n\nMeer informatie over Hamersveldloop op Hardloopkalender.nl  \nDe Hamersveldloop (georganiseerd door Atletiekvereniging Triathlon) staat na enkele jaren van afwezigheid weer op de hardloopkalender en wel op zondag 29 juni. De start- en finishlocatie isgelegen bij zwembad de Octopus aan de Bavoortseweg in Leusden. De jeugd tot en met 12 jaar kan deelnemen aan een afstand van 1 km. Voor de oudere kinderen en volwassenen is er een 5 km (één ronde) en 10 km (twee rondes). Iedere deelnemer mag na afloop op vertoon van het startnummer gratis zwemmen in zwembad de Octopus.     Programma  11:00 uur 1 km jeugdloop  11:30 uur 5 km prestatieloop  11:30 uur 10 km prestatie- en wedstrijdloop     De jeugd- en prestatielopen staan open voor iedereen. Voor de wedstrijdloop is een KNAU-licentie vereist.    Voorinschrijven voor de loop is vanaf nu tot en met 27 juni mogelijk via www.inschrijven.nl. Na-inschrijven kan op de dag zelf van 09:45 uur tot 15 minuten voor de start.     Voor meer informatie kunt u een e-mail sturen naar hamersveldloop@outlook.com. \n  \n  \n 
URL:https://hardloopevenementen.com/loopagenda/hamersveldloop-leusden-ut-4/
END:VEVENT
BEGIN:VEVENT
DTSTART;VALUE=DATE:20120624
DTEND;VALUE=DATE:20120625
DTSTAMP:20260420T070723
CREATED:20170505T231734Z
LAST-MODIFIED:20190423T103119Z
UID:28097-1340496000-1340496000@hardloopevenementen.com
SUMMARY:Hamersveldloop Leusden (UT)
DESCRIPTION:Doe mee met het hardloopevenement Hamersveldloop te Leusden (UT) op zo 24 jun 2012. De volgende afstanden staan op het programma: 1 km – 5 km – 10 km hardlopen. Wilt u inschrijven voor dit loopevenement?  Raadpleeg hiervoor dan de website van de organisatie\nDe uitslagen van deze hardloopwedstrijd zijn te raadplegen via dezelfde website of via de bekende websites zoals uitslagen.nl\, runtimer en mylaps. Doet u mee met dit evenement\, zorg dan dat u goed voorbereid aan de start staat! Met een goed trainingsschema komt u een heel eind. Train bijvoorbeeld met start to run van Evy Gruyaert. Download de start to run mp3 bestanden en zet ze op uw telefoon. Oortjes in\, hit the play button en en rennen maar! \n\n\n\n\nMeer informatie over Hamersveldloop op Hardloopkalender.nl  \nAfgelasting Hamersveldloop  Helaas is het niet mogelijk dit jaar een Hamersveldloop in Leusden te organiseren.  Deze gezellige dorpsloop vindt normaal plaats in het derde of vierde weekend van juni.  Organisatorisch en sportief staat dit jaar in het teken van de Marathon Amersfoort op 10 juni.  Daarom is door de organisatie besloten om een jaar over te slaan.  Volgend jaar heten we jullie weer van harte welkom in Leusden.  De organisatie van de Hamersveldloop. \n  \n  \n 
URL:https://hardloopevenementen.com/loopagenda/hamersveldloop-leusden-ut-3/
END:VEVENT
BEGIN:VEVENT
DTSTART;VALUE=DATE:20100620
DTEND;VALUE=DATE:20100621
DTSTAMP:20260420T070723
CREATED:20180426T025623Z
LAST-MODIFIED:20190423T101047Z
UID:4013-1276992000-1276992000@hardloopevenementen.com
SUMMARY:Hamersveldloop Delft (ZH)
DESCRIPTION:Doe mee met het hardloopevenement Hamersveldloop te Delft (ZH) op zo 20 jun 2010. De volgende afstanden staan op het programma: 1\,5 km – 5 km – 10 km – 15 km hardlopen. Wilt u inschrijven voor dit loopevenement?  Raadpleeg hiervoor dan de website van de organisatie\nDe uitslagen van deze hardloopwedstrijd zijn te raadplegen via dezelfde website of via de bekende websites zoals uitslagen.nl\, runtimer en mylaps. Doet u mee met dit evenement\, zorg dan dat u goed voorbereid aan de start staat! Met een goed trainingsschema komt u een heel eind. Train bijvoorbeeld met start to run van Evy Gruyaert. Download de start to run mp3 bestanden en zet ze op uw telefoon. Oortjes in\, hit the play button en en rennen maar! \n\n\n\n\nMeer informatie over Hamersveldloop op Hardloopkalender.nl  \nDit loopevenement wordt georganiseerd door AV `40.De eerste afstand (of onderdeel) start om 10:30.Het adres van de start en de finish is Sportring 12Categorie(ën): mannen\, vrouwen\, jeugdVooraf inschrijven is mogelijk vanaf 20 juni 2010 tot niet van toepassing.Inschrijven op de dag van de loop is mogelijk (vanaf 12:00uur) op dit adres: Bavoortseweg 9  Leusden.Meer informatie:Contactpersoon: G. AartsTel.: 0152565453Email: Aarts@dgg.nlEr is een kleedaccomodatie aanwezig. Douchen is mogelijk.Het parcours is deels onverhard.Vorig jaar deden er 74 lopers mee aan dit evenement.Overige bijzonderheden:  Parcours gaat door de mooie parken van tussen Delft en Nootdorp \n  \n  \n 
URL:https://hardloopevenementen.com/loopagenda/hamersveldloop-delft-zh/
END:VEVENT
BEGIN:VEVENT
DTSTART;VALUE=DATE:20100620
DTEND;VALUE=DATE:20100621
DTSTAMP:20260420T070723
CREATED:20140912T051528Z
LAST-MODIFIED:20190423T101047Z
UID:4012-1276992000-1276992000@hardloopevenementen.com
SUMMARY:Hamersveldloop Leusden (UT)
DESCRIPTION:Doe mee met het hardloopevenement Hamersveldloop te Leusden (UT) op zo 20 jun 2010. De volgende afstanden staan op het programma: 1 km – 5 km – 10 km hardlopen. Wilt u inschrijven voor dit loopevenement?  Raadpleeg hiervoor dan de website van de organisatie\nDe uitslagen van deze hardloopwedstrijd zijn te raadplegen via dezelfde website of via de bekende websites zoals uitslagen.nl\, runtimer en mylaps. Doet u mee met dit evenement\, zorg dan dat u goed voorbereid aan de start staat! Met een goed trainingsschema komt u een heel eind. Train bijvoorbeeld met start to run van Evy Gruyaert. Download de start to run mp3 bestanden en zet ze op uw telefoon. Oortjes in\, hit the play button en en rennen maar! \n\n\n\n\nMeer informatie over Hamersveldloop op Hardloopkalender.nl  \nDit loopevenement wordt georganiseerd door AV Triathlon.De eerste afstand (of onderdeel) start om 13:00.Het adres van de start en de finish is Bavoortseweg9Categorie(ën): mannen\, vrouwen\, jeugdVooraf inschrijven is mogelijk vanaf 01 mei 2010 tot 15 juni 2010.Inschrijven op de dag van de loop is mogelijk (vanaf 12:00uur) op dit adres: Bavoortseweg 9  Leusden.Meer informatie:Contactpersoon: theo van der helmTel.: 0622204524Email: hamersveldloop@avtriathlon.nlEr is een kleedaccomodatie aanwezig. Douchen is mogelijk.Het parcours is verhard.Vorig jaar deden er 400 lopers mee aan dit evenement.Overige bijzonderheden:  gratis zwemmen\, 20e editie \n  \n  \n 
URL:https://hardloopevenementen.com/loopagenda/hamersveldloop-leusden-ut/
END:VEVENT
BEGIN:VEVENT
DTSTART;VALUE=DATE:20080622
DTEND;VALUE=DATE:20080623
DTSTAMP:20260420T070723
CREATED:20100924T195818Z
LAST-MODIFIED:20190423T094639Z
UID:19507-1214092800-1214092800@hardloopevenementen.com
SUMMARY:Rabobank Hamersveldloop Leusden
DESCRIPTION:Doe mee met het hardloopevenement Rabobank Hamersveldloop te Leusden op zo 22 jun 2008. De volgende afstanden staan op het programma: 1 km – 5 km – 10 km hardlopen. Wilt u inschrijven voor dit loopevenement?  Raadpleeg hiervoor dan de website van de organisatie\nDe uitslagen van deze hardloopwedstrijd zijn te raadplegen via dezelfde website of via de bekende websites zoals uitslagen.nl\, runtimer en mylaps. Doet u mee met dit evenement\, zorg dan dat u goed voorbereid aan de start staat! Met een goed trainingsschema komt u een heel eind. Train bijvoorbeeld met start to run van Evy Gruyaert. Download de start to run mp3 bestanden en zet ze op uw telefoon. Oortjes in\, hit the play button en en rennen maar! \n\n\n\n\nMeer informatie over Rabobank Hamersveldloop op Hardloopkalender.nl  \nStarttijden  1 km 13:00 uur  10 km 13:45 uur  5-10 km 13:50 uur \n  \n  \n 
URL:https://hardloopevenementen.com/loopagenda/rabobank-hamersveldloop-leusden/
END:VEVENT
END:VCALENDAR