BEGIN:VCALENDAR
VERSION:2.0
PRODID:-//Hardloopevenementen - ECPv6.15.14//NONSGML v1.0//EN
CALSCALE:GREGORIAN
METHOD:PUBLISH
X-WR-CALNAME:Hardloopevenementen
X-ORIGINAL-URL:https://hardloopevenementen.com
X-WR-CALDESC:Evenementen voor Hardloopevenementen
REFRESH-INTERVAL;VALUE=DURATION:PT1H
X-Robots-Tag:noindex
X-PUBLISHED-TTL:PT1H
BEGIN:VTIMEZONE
TZID:UTC
BEGIN:STANDARD
TZOFFSETFROM:+0000
TZOFFSETTO:+0000
TZNAME:UTC
DTSTART:20070101T000000
END:STANDARD
END:VTIMEZONE
BEGIN:VEVENT
DTSTART;VALUE=DATE:20120613
DTEND;VALUE=DATE:20120614
DTSTAMP:20260421T070825
CREATED:20141011T090456Z
LAST-MODIFIED:20190423T103138Z
UID:28183-1339545600-1339545600@hardloopevenementen.com
SUMMARY:Hanze uurloop Bolsward (FR)
DESCRIPTION:Doe mee met het hardloopevenement Hanze uurloop te Bolsward (FR) op wo 13 jun 2012. De volgende afstanden staan op het programma:  hardlopen. Wilt u inschrijven voor dit loopevenement?  Raadpleeg hiervoor dan de website van de organisatie\nDe uitslagen van deze hardloopwedstrijd zijn te raadplegen via dezelfde website of via de bekende websites zoals uitslagen.nl\, runtimer en mylaps. Doet u mee met dit evenement\, zorg dan dat u goed voorbereid aan de start staat! Met een goed trainingsschema komt u een heel eind. Train bijvoorbeeld met start to run van Evy Gruyaert. Download de start to run mp3 bestanden en zet ze op uw telefoon. Oortjes in\, hit the play button en en rennen maar! \n\n\n\n\nMeer informatie over Hanze uurloop op Hardloopkalender.nl  \nHet loopevenement Hanze uurloop te Bolsward vindt plaats op woensdag 13 juni 2012. De loop wordt georganiseerd door Lange Afstandlopers Bolsward. Inschrijven is mogelijk vanaf 13 juni 2012. Klik hier voor het adres van de start (Google Maps).Bijzonderheden: elke deelnemer ontvangt een certificaat.Afstand SoortloopInschrijfgeldStarttijdInfoUltraloop4\,0019.30Voor meer informatie:H. Yntemahellayntema@home.nl0515575565http:  labbolsward.nl \n  \n  \n 
URL:https://hardloopevenementen.com/loopagenda/hanze-uurloop-bolsward-fr-3/
END:VEVENT
BEGIN:VEVENT
DTSTART;VALUE=DATE:20100609
DTEND;VALUE=DATE:20100610
DTSTAMP:20260421T070825
CREATED:20181220T183900Z
LAST-MODIFIED:20190423T101108Z
UID:4090-1276041600-1276041600@hardloopevenementen.com
SUMMARY:Hanze uurloop Bolsward (FR)
DESCRIPTION:Doe mee met het hardloopevenement Hanze uurloop te Bolsward (FR) op wo 09 jun 2010. De volgende afstanden staan op het programma: 1 uur 0 min hardlopen. Wilt u inschrijven voor dit loopevenement?  Raadpleeg hiervoor dan de website van de organisatie\nDe uitslagen van deze hardloopwedstrijd zijn te raadplegen via dezelfde website of via de bekende websites zoals uitslagen.nl\, runtimer en mylaps. Doet u mee met dit evenement\, zorg dan dat u goed voorbereid aan de start staat! Met een goed trainingsschema komt u een heel eind. Train bijvoorbeeld met start to run van Evy Gruyaert. Download de start to run mp3 bestanden en zet ze op uw telefoon. Oortjes in\, hit the play button en en rennen maar! \n\n\n\n\nMeer informatie over Hanze uurloop op Hardloopkalender.nl  \n  \n  \n 
URL:https://hardloopevenementen.com/loopagenda/hanze-uurloop-bolsward-fr-2/
END:VEVENT
BEGIN:VEVENT
DTSTART;VALUE=DATE:20090610
DTEND;VALUE=DATE:20090611
DTSTAMP:20260421T070825
CREATED:20090115T100524Z
LAST-MODIFIED:20190423T100050Z
UID:2192-1244592000-1244592000@hardloopevenementen.com
SUMMARY:Hanze-uurloop Bolsward (FR)
DESCRIPTION:Doe mee met het hardloopevenement Hanze-uurloop te Bolsward (FR) op wo 10 jun 2009. De volgende afstanden staan op het programma: 1 km hardlopen. Wilt u inschrijven voor dit loopevenement?  Raadpleeg hiervoor dan de website van de organisatie\nDe uitslagen van deze hardloopwedstrijd zijn te raadplegen via dezelfde website of via de bekende websites zoals uitslagen.nl\, runtimer en mylaps. Doet u mee met dit evenement\, zorg dan dat u goed voorbereid aan de start staat! Met een goed trainingsschema komt u een heel eind. Train bijvoorbeeld met start to run van Evy Gruyaert. Download de start to run mp3 bestanden en zet ze op uw telefoon. Oortjes in\, hit the play button en en rennen maar! \n\n\n\n\nMeer informatie over Hanze-uurloop op Hardloopkalender.nl  \n1-uurloop 19:30 uur \n  \n  \n 
URL:https://hardloopevenementen.com/loopagenda/hanze-uurloop-bolsward-fr/
END:VEVENT
BEGIN:VEVENT
DTSTART;VALUE=DATE:20080611
DTEND;VALUE=DATE:20080612
DTSTAMP:20260421T070825
CREATED:20130513T015617Z
LAST-MODIFIED:20190423T094652Z
UID:19573-1213142400-1213142400@hardloopevenementen.com
SUMMARY:Hanze Uurloop Bolsward
DESCRIPTION:Doe mee met het hardloopevenement Hanze Uurloop te Bolsward op wo 11 jun 2008. De volgende afstanden staan op het programma: 1 uur 0 min hardlopen. Wilt u inschrijven voor dit loopevenement?  Raadpleeg hiervoor dan de website van de organisatie\nDe uitslagen van deze hardloopwedstrijd zijn te raadplegen via dezelfde website of via de bekende websites zoals uitslagen.nl\, runtimer en mylaps. Doet u mee met dit evenement\, zorg dan dat u goed voorbereid aan de start staat! Met een goed trainingsschema komt u een heel eind. Train bijvoorbeeld met start to run van Evy Gruyaert. Download de start to run mp3 bestanden en zet ze op uw telefoon. Oortjes in\, hit the play button en en rennen maar! \n\n\n\n\nMeer informatie over Hanze Uurloop op Hardloopkalender.nl  \n11 juni 2008: Hanze uurloop  Start om 19.30 uur bij de sporthal De Middelzee \n  \n  \n 
URL:https://hardloopevenementen.com/loopagenda/hanze-uurloop-bolsward/
END:VEVENT
END:VCALENDAR