BEGIN:VCALENDAR
VERSION:2.0
PRODID:-//Hardloopevenementen - ECPv6.15.14//NONSGML v1.0//EN
CALSCALE:GREGORIAN
METHOD:PUBLISH
X-ORIGINAL-URL:https://hardloopevenementen.com
X-WR-CALDESC:Evenementen voor Hardloopevenementen
REFRESH-INTERVAL;VALUE=DURATION:PT1H
X-Robots-Tag:noindex
X-PUBLISHED-TTL:PT1H
BEGIN:VTIMEZONE
TZID:UTC
BEGIN:STANDARD
TZOFFSETFROM:+0000
TZOFFSETTO:+0000
TZNAME:UTC
DTSTART:20110101T000000
END:STANDARD
END:VTIMEZONE
BEGIN:VEVENT
DTSTART;VALUE=DATE:20191110
DTEND;VALUE=DATE:20191111
DTSTAMP:20260425T031222
CREATED:20131210T150231Z
LAST-MODIFIED:20191114T112350Z
UID:43213-1573344000-1573344000@hardloopevenementen.com
SUMMARY:HappyRunning Bunker cross IJmuiden\, gemeente Velsen (NH)
DESCRIPTION:Doe mee met het hardloopevenement HappyRunning Bunker cross te IJmuiden\, gemeente Velsen (NH) op zo 10 nov 2019. De volgende afstanden staan op het programma: 5 km – 10 km hardlopen. Wilt u inschrijven voor dit loopevenement?  Raadpleeg hiervoor dan de website van de organisatie\nDe uitslagen van deze hardloopwedstrijd zijn te raadplegen via dezelfde website of via de bekende websites zoals uitslagen.nl\, runtimer en mylaps. Doet u mee met dit evenement\, zorg dan dat u goed voorbereid aan de start staat! Met een goed trainingsschema komt u een heel eind. Train bijvoorbeeld met start to run van Evy Gruyaert. Download de start to run mp3 bestanden en zet ze op uw telefoon. Oortjes in\, hit the play button en en rennen maar! \n\n\n\n\nMeer informatie over HappyRunning Bunker cross op Hardloopkalender.nl  \n  \n  \n 
URL:https://hardloopevenementen.com/loopagenda/happyrunning-bunker-cross-ijmuiden-gemeente-velsen-nh/
END:VEVENT
BEGIN:VEVENT
DTSTART;VALUE=DATE:20171112
DTEND;VALUE=DATE:20171113
DTSTAMP:20260425T031222
CREATED:20160112T061508Z
LAST-MODIFIED:20190423T114243Z
UID:13759-1510444800-1510444800@hardloopevenementen.com
SUMMARY:6e HappyRunning Duin en Strandloop IJmuiden\, gemeente Velsen (NH)
DESCRIPTION:Doe mee met het hardloopevenement 6e HappyRunning Duin en Strandloop te IJmuiden\, gemeente Velsen (NH) op zo 12 nov 2017. De volgende afstanden staan op het programma: 5 km – 10 km hardlopen. Wilt u inschrijven voor dit loopevenement?  Raadpleeg hiervoor dan de website van de organisatie\nDe uitslagen van deze hardloopwedstrijd zijn te raadplegen via dezelfde website of via de bekende websites zoals uitslagen.nl\, runtimer en mylaps. Doet u mee met dit evenement\, zorg dan dat u goed voorbereid aan de start staat! Met een goed trainingsschema komt u een heel eind. Train bijvoorbeeld met start to run van Evy Gruyaert. Download de start to run mp3 bestanden en zet ze op uw telefoon. Oortjes in\, hit the play button en en rennen maar! \n\n\n\n\nMeer informatie over 6e HappyRunning Duin en Strandloop op Hardloopkalender.nl  \nHet gezelligste loopje van IJmuiden over het strand en door het duin.   Start 11:00 uur naast Paviljoen Noordzee.  Inschrijving bij Paviljoen Noordzee IJmuiderstrand  Inschrijfgeld 9\,00  Betaalde parkeerplaats.  Goed bereikbaar met het openbaar vervoer.  Prijs voor de eerst 3 binnenkomende dames en heren op beide afstanden.  Voor iedereen een herinnering.  Voorinschrijven via www.happyrunning.nl of Happyrunning@ziggo.nl \n  \n  \n 
URL:https://hardloopevenementen.com/loopagenda/6e-happyrunning-duin-en-strandloop-ijmuiden-gemeente-velsen-nh/
END:VEVENT
BEGIN:VEVENT
DTSTART;VALUE=DATE:20161113
DTEND;VALUE=DATE:20161114
DTSTAMP:20260425T031222
CREATED:20170730T010844Z
LAST-MODIFIED:20190423T112051Z
UID:11581-1478995200-1478995200@hardloopevenementen.com
SUMMARY:5e happyrunning duin en strandloop IJmuiden\, gemeente Velsen (NH)
DESCRIPTION:Doe mee met het hardloopevenement 5e happyrunning duin en strandloop te IJmuiden\, gemeente Velsen (NH) op zo 13 nov 2016. De volgende afstanden staan op het programma: 5 km – 10 km hardlopen. Wilt u inschrijven voor dit loopevenement?  Raadpleeg hiervoor dan de website van de organisatie\nDe uitslagen van deze hardloopwedstrijd zijn te raadplegen via dezelfde website of via de bekende websites zoals uitslagen.nl\, runtimer en mylaps. Doet u mee met dit evenement\, zorg dan dat u goed voorbereid aan de start staat! Met een goed trainingsschema komt u een heel eind. Train bijvoorbeeld met start to run van Evy Gruyaert. Download de start to run mp3 bestanden en zet ze op uw telefoon. Oortjes in\, hit the play button en en rennen maar! \n\n\n\n\nMeer informatie over 5e happyrunning duin en strandloop op Hardloopkalender.nl  \nVoor inschrijven: via www.happyrunning.nl  Na Inschrijven: Paviljoen Noordzee IJmuiden vanaf 10.00 uur.  Start 11.00 uur  Kosten:  8\,00   Duin en strand parcours van 5 of 10 km  Parkeren: Kennemerboulevard parkeerplaats IJmuiden  Makkelijk per bus te bereiken.     Voor iedereen een herinnering en voor de eerste 3 binnenkomende dame en heer op beide afstanden prijs. \n  \n  \n 
URL:https://hardloopevenementen.com/loopagenda/5e-happyrunning-duin-en-strandloop-ijmuiden-gemeente-velsen-nh/
END:VEVENT
BEGIN:VEVENT
DTSTART;VALUE=DATE:20121111
DTEND;VALUE=DATE:20121112
DTSTAMP:20260425T031222
CREATED:20150611T025748Z
LAST-MODIFIED:20190423T102756Z
UID:7377-1352592000-1352592000@hardloopevenementen.com
SUMMARY:1e HappyRunning Strandloop 2012 IJmuiden\, gemeente Velsen (NH)
DESCRIPTION:Doe mee met het hardloopevenement 1e HappyRunning Strandloop 2012 te IJmuiden\, gemeente Velsen (NH) op zo 11 nov 2012. De volgende afstanden staan op het programma: 5 km – 10 km hardlopen. Wilt u inschrijven voor dit loopevenement?  Raadpleeg hiervoor dan de website van de organisatie\nDe uitslagen van deze hardloopwedstrijd zijn te raadplegen via dezelfde website of via de bekende websites zoals uitslagen.nl\, runtimer en mylaps. Doet u mee met dit evenement\, zorg dan dat u goed voorbereid aan de start staat! Met een goed trainingsschema komt u een heel eind. Train bijvoorbeeld met start to run van Evy Gruyaert. Download de start to run mp3 bestanden en zet ze op uw telefoon. Oortjes in\, hit the play button en en rennen maar! \n\n\n\n\nMeer informatie over 1e HappyRunning Strandloop 2012 op Hardloopkalender.nl  \nDe 1e HappyRunning strandloop 2012 met de afstanden 5 en 10 km over het strand!   Start 11:00 uur  Lokatie IJmuider strand aan de Kennemerboulevard. Parkeer gelegenheid voldoende aanwezig dus komt allen! \n  \n  \n 
URL:https://hardloopevenementen.com/loopagenda/1e-happyrunning-strandloop-2012-ijmuiden-gemeente-velsen-nh/
END:VEVENT
END:VCALENDAR