BEGIN:VCALENDAR
VERSION:2.0
PRODID:-//Hardloopevenementen - ECPv6.15.14//NONSGML v1.0//EN
CALSCALE:GREGORIAN
METHOD:PUBLISH
X-ORIGINAL-URL:https://hardloopevenementen.com
X-WR-CALDESC:Evenementen voor Hardloopevenementen
REFRESH-INTERVAL;VALUE=DURATION:PT1H
X-Robots-Tag:noindex
X-PUBLISHED-TTL:PT1H
BEGIN:VTIMEZONE
TZID:UTC
BEGIN:STANDARD
TZOFFSETFROM:+0000
TZOFFSETTO:+0000
TZNAME:UTC
DTSTART:20150101T000000
END:STANDARD
END:VTIMEZONE
BEGIN:VEVENT
DTSTART;VALUE=DATE:20180909
DTEND;VALUE=DATE:20180910
DTSTAMP:20260420T151320
CREATED:20080810T095843Z
LAST-MODIFIED:20190423T120257Z
UID:16037-1536451200-1536451200@hardloopevenementen.com
SUMMARY:Hardloopevenement Lop wah los Laren\, gemeente Lochem (GE)
DESCRIPTION:Doe mee met het hardloopevenement Hardloopevenement Lop wah los te Laren\, gemeente Lochem (GE) op zo 09 sep 2018. De volgende afstanden staan op het programma: 0\,5 km – 1 km – 6 km – 10 km hardlopen. Wilt u inschrijven voor dit loopevenement?  Raadpleeg hiervoor dan de website van de organisatie\nDe uitslagen van deze hardloopwedstrijd zijn te raadplegen via dezelfde website of via de bekende websites zoals uitslagen.nl\, runtimer en mylaps. Doet u mee met dit evenement\, zorg dan dat u goed voorbereid aan de start staat! Met een goed trainingsschema komt u een heel eind. Train bijvoorbeeld met start to run van Evy Gruyaert. Download de start to run mp3 bestanden en zet ze op uw telefoon. Oortjes in\, hit the play button en en rennen maar! \n\n\n\n\nMeer informatie over Hardloopevenement Lop wah los op Hardloopkalender.nl  \nZondag 9 september vindt alweer de 3e editie van het hardloopevenement Löp wah lös in Laren plaats! Een kidsrun in het dorp (500 en 1000 meter) en een 6 en 10 km rondom het mooie Landgoed Verwolde. Start en finish in het gezellige dorpscentrum van Laren\, waar op dat moment de Larense Kermis is. \n  \n  \n 
URL:https://hardloopevenementen.com/loopagenda/hardloopevenement-lop-wah-los-laren-gemeente-lochem-ge/
END:VEVENT
BEGIN:VEVENT
DTSTART;VALUE=DATE:20170827
DTEND;VALUE=DATE:20170828
DTSTAMP:20260420T151320
CREATED:20091222T141933Z
LAST-MODIFIED:20190423T114430Z
UID:14236-1503792000-1503792000@hardloopevenementen.com
SUMMARY:FitFunRUN Hardloopevenement Harmelen Harmelen\, gemeente Woerden (UT)
DESCRIPTION:Doe mee met het hardloopevenement FitFunRUN Hardloopevenement Harmelen te Harmelen\, gemeente Woerden (UT) op zo 27 aug 2017. De volgende afstanden staan op het programma: 1 km – 5 km – 10 km hardlopen. Wilt u inschrijven voor dit loopevenement?  Raadpleeg hiervoor dan de website van de organisatie\nDe uitslagen van deze hardloopwedstrijd zijn te raadplegen via dezelfde website of via de bekende websites zoals uitslagen.nl\, runtimer en mylaps. Doet u mee met dit evenement\, zorg dan dat u goed voorbereid aan de start staat! Met een goed trainingsschema komt u een heel eind. Train bijvoorbeeld met start to run van Evy Gruyaert. Download de start to run mp3 bestanden en zet ze op uw telefoon. Oortjes in\, hit the play button en en rennen maar! \n\n\n\n\nMeer informatie over FitFunRUN Hardloopevenement Harmelen op Hardloopkalender.nl  \nFitFunRUN 2017 hét hardloopfeestje van het jaar!  Editie 2016 was een groot succes.     Afstanden: 1km KidsRun\, 5km\, 10km  Plaats: Harmelen (Gemeente Woerden (Utrecht))  Voor iedere deelnemer een medaille & een goodybag    Wees er snel bij\, er zijn 200 startbewijzen beschikbaar.    Houd de pagina www.fitfunrun.com fitfunrun in de gaten voor inschrijvingen. \n  \n  \n 
URL:https://hardloopevenementen.com/loopagenda/fitfunrun-hardloopevenement-harmelen-harmelen-gemeente-woerden-ut-2/
END:VEVENT
BEGIN:VEVENT
DTSTART;VALUE=DATE:20160828
DTEND;VALUE=DATE:20160829
DTSTAMP:20260420T151320
CREATED:20130626T003716Z
LAST-MODIFIED:20190423T112254Z
UID:12147-1472342400-1472342400@hardloopevenementen.com
SUMMARY:FitFunRUN Hardloopevenement Harmelen Harmelen\, gemeente Woerden (UT)
DESCRIPTION:Doe mee met het hardloopevenement FitFunRUN Hardloopevenement Harmelen te Harmelen\, gemeente Woerden (UT) op zo 28 aug 2016. De volgende afstanden staan op het programma: 1 km – 5 km – 10 km hardlopen. Wilt u inschrijven voor dit loopevenement?  Raadpleeg hiervoor dan de website van de organisatie\nDe uitslagen van deze hardloopwedstrijd zijn te raadplegen via dezelfde website of via de bekende websites zoals uitslagen.nl\, runtimer en mylaps. Doet u mee met dit evenement\, zorg dan dat u goed voorbereid aan de start staat! Met een goed trainingsschema komt u een heel eind. Train bijvoorbeeld met start to run van Evy Gruyaert. Download de start to run mp3 bestanden en zet ze op uw telefoon. Oortjes in\, hit the play button en en rennen maar! \n\n\n\n\nMeer informatie over FitFunRUN Hardloopevenement Harmelen op Hardloopkalender.nl  \nZondag 28 augustus 2016  de eerste editie van ‘FitFunRUN  Hardloopevenement Harmelen’.    Afstanden: 5km en 10km. En een KidsRun van 1km.  Deelname volwassenen  10\,- en Kids  2\,50      Voor alle deelnemers is er een mooie medaille en een flesje water na afloop.  Fysio Broekhuizen is aanwezig voor gratis massages.    (gehele opbrengst KidsRun en deel totale opbrengst gaat naar het goede doel: Jeugdsportfonds)    Wees er snel bij\, er zijn voor deze eerste editie 100 startbewijzen beschikbaar en die gaan snel!    Kijk voor meer informatie op: www.fitfunrun.com FitFunRUN \n  \n  \n 
URL:https://hardloopevenementen.com/loopagenda/fitfunrun-hardloopevenement-harmelen-harmelen-gemeente-woerden-ut/
END:VEVENT
END:VCALENDAR