BEGIN:VCALENDAR
VERSION:2.0
PRODID:-//Hardloopevenementen - ECPv6.15.14//NONSGML v1.0//EN
CALSCALE:GREGORIAN
METHOD:PUBLISH
X-WR-CALNAME:Hardloopevenementen
X-ORIGINAL-URL:https://hardloopevenementen.com
X-WR-CALDESC:Evenementen voor Hardloopevenementen
REFRESH-INTERVAL;VALUE=DURATION:PT1H
X-Robots-Tag:noindex
X-PUBLISHED-TTL:PT1H
BEGIN:VTIMEZONE
TZID:UTC
BEGIN:STANDARD
TZOFFSETFROM:+0000
TZOFFSETTO:+0000
TZNAME:UTC
DTSTART:20070101T000000
END:STANDARD
END:VTIMEZONE
BEGIN:VEVENT
DTSTART;VALUE=DATE:20081231
DTEND;VALUE=DATE:20090101
DTSTAMP:20260425T214230
CREATED:20110722T143558Z
LAST-MODIFIED:20190423T094231Z
UID:825-1230681600-1230681600@hardloopevenementen.com
SUMMARY:Westerink Oudejaarsloop Kampen
DESCRIPTION:Doe mee met het hardloopevenement Westerink Oudejaarsloop te Kampen op wo 31 dec 2008. De volgende afstanden staan op het programma: 3 km – 6 km – 9 km – 12 km – 15 km – 18 km – halve marathon hardlopen. Wilt u inschrijven voor dit loopevenement?  Raadpleeg hiervoor dan de website van de organisatie\nDe uitslagen van deze hardloopwedstrijd zijn te raadplegen via dezelfde website of via de bekende websites zoals uitslagen.nl\, runtimer en mylaps. Doet u mee met dit evenement\, zorg dan dat u goed voorbereid aan de start staat! Met een goed trainingsschema komt u een heel eind. Train bijvoorbeeld met start to run van Evy Gruyaert. Download de start to run mp3 bestanden en zet ze op uw telefoon. Oortjes in\, hit the play button en en rennen maar! \n\n\n\n\nMeer informatie over Westerink Oudejaarsloop op Hardloopkalender.nl  \nStart alle afstanden 11:00 uur \n  \n  \n 
URL:https://hardloopevenementen.com/loopagenda/westerink-oudejaarsloop-kampen/
END:VEVENT
BEGIN:VEVENT
DTSTART;VALUE=DATE:20080417
DTEND;VALUE=DATE:20080418
DTSTAMP:20260425T214231
CREATED:20140525T034710Z
LAST-MODIFIED:20190423T094759Z
UID:19861-1208390400-1208390400@hardloopevenementen.com
SUMMARY:Kamper Mijl Kampen
DESCRIPTION:Doe mee met het hardloopevenement Kamper Mijl te Kampen op do 17 apr 2008. De volgende afstanden staan op het programma: 1\,6 km hardlopen. Wilt u inschrijven voor dit loopevenement?  Raadpleeg hiervoor dan de website van de organisatie\nDe uitslagen van deze hardloopwedstrijd zijn te raadplegen via dezelfde website of via de bekende websites zoals uitslagen.nl\, runtimer en mylaps. Doet u mee met dit evenement\, zorg dan dat u goed voorbereid aan de start staat! Met een goed trainingsschema komt u een heel eind. Train bijvoorbeeld met start to run van Evy Gruyaert. Download de start to run mp3 bestanden en zet ze op uw telefoon. Oortjes in\, hit the play button en en rennen maar! \n\n\n\n\nMeer informatie over Kamper Mijl op Hardloopkalender.nl  \n1\,6 km 19:30 uur \n  \n  \n 
URL:https://hardloopevenementen.com/loopagenda/kamper-mijl-kampen/
END:VEVENT
BEGIN:VEVENT
DTSTART;VALUE=DATE:20080322
DTEND;VALUE=DATE:20080323
DTSTAMP:20260425T214231
CREATED:20101111T220848Z
LAST-MODIFIED:20190423T094830Z
UID:19994-1206144000-1206144000@hardloopevenementen.com
SUMMARY:De 32 en 21 kilometer van Kampen Kampen
DESCRIPTION:Doe mee met het hardloopevenement De 32 en 21 kilometer van Kampen te Kampen op za 22 mrt 2008. De volgende afstanden staan op het programma: halve marathon – 32 km hardlopen. Wilt u inschrijven voor dit loopevenement?  Raadpleeg hiervoor dan de website van de organisatie\nDe uitslagen van deze hardloopwedstrijd zijn te raadplegen via dezelfde website of via de bekende websites zoals uitslagen.nl\, runtimer en mylaps. Doet u mee met dit evenement\, zorg dan dat u goed voorbereid aan de start staat! Met een goed trainingsschema komt u een heel eind. Train bijvoorbeeld met start to run van Evy Gruyaert. Download de start to run mp3 bestanden en zet ze op uw telefoon. Oortjes in\, hit the play button en en rennen maar! \n\n\n\n\nMeer informatie over De 32 en 21 kilometer van Kampen op Hardloopkalender.nl  \n21\,1-32 km 11:00 uur  drie weken later de Marathon van Rotterdam plaatsvindt. Kampen biedt hiervoor een aantrekkelijke voorbereidingsloop. En ook al loop je niet mee in Rotterdam\, wellicht volg je wel het trainingsschema uit Runners World of iets dergelijks.  na een winterse loop in Egmond (de Halve Marathon van Egmond)\, Apeldoorn (de Midwintermarathon) of Dronten (de Houtwijk Kerstloop) is de 32 van Kampen of de Halve marathon van Kampen een goed vervolg om de wintertrainingsperiode af te sluiten. De afstanden zijn 32 kilometer en 21\,1 kilometer.  met name in de prille lente het parcours rondom Hanzestad Kampen veel afwisselend natuurschoon biedt. \n  \n  \n 
URL:https://hardloopevenementen.com/loopagenda/de-32-en-21-kilometer-van-kampen-kampen/
END:VEVENT
END:VCALENDAR