BEGIN:VCALENDAR
VERSION:2.0
PRODID:-//Hardloopevenementen - ECPv6.15.14//NONSGML v1.0//EN
CALSCALE:GREGORIAN
METHOD:PUBLISH
X-WR-CALNAME:Hardloopevenementen
X-ORIGINAL-URL:https://hardloopevenementen.com
X-WR-CALDESC:Evenementen voor Hardloopevenementen
REFRESH-INTERVAL;VALUE=DURATION:PT1H
X-Robots-Tag:noindex
X-PUBLISHED-TTL:PT1H
BEGIN:VTIMEZONE
TZID:UTC
BEGIN:STANDARD
TZOFFSETFROM:+0000
TZOFFSETTO:+0000
TZNAME:UTC
DTSTART:20060101T000000
END:STANDARD
END:VTIMEZONE
BEGIN:VEVENT
DTSTART;VALUE=DATE:20071111
DTEND;VALUE=DATE:20071112
DTSTAMP:20260421T005802
CREATED:20120220T144615Z
LAST-MODIFIED:20190423T093830Z
UID:159-1194739200-1194739200@hardloopevenementen.com
SUMMARY:Trimloop Baak 11 Baak
DESCRIPTION:Doe mee met het hardloopevenement Trimloop Baak 11 te Baak op zo 11 nov 2007. De volgende afstanden staan op het programma: 1\,2 km – 2\,5 km – 5 km – 10 km hardlopen. Wilt u inschrijven voor dit loopevenement?  Raadpleeg hiervoor dan de website van de organisatie\nDe uitslagen van deze hardloopwedstrijd zijn te raadplegen via dezelfde website of via de bekende websites zoals uitslagen.nl\, runtimer en mylaps. Doet u mee met dit evenement\, zorg dan dat u goed voorbereid aan de start staat! Met een goed trainingsschema komt u een heel eind. Train bijvoorbeeld met start to run van Evy Gruyaert. Download de start to run mp3 bestanden en zet ze op uw telefoon. Oortjes in\, hit the play button en en rennen maar! \n\n\n\n\nMeer informatie over Trimloop Baak 11 op Hardloopkalender.nl  \n  \n  \n 
URL:https://hardloopevenementen.com/loopagenda/trimloop-baak-11-baak/
END:VEVENT
BEGIN:VEVENT
DTSTART;VALUE=DATE:20071111
DTEND;VALUE=DATE:20071112
DTSTAMP:20260421T005802
CREATED:20090809T082329Z
LAST-MODIFIED:20190423T093828Z
UID:152-1194739200-1194739200@hardloopevenementen.com
SUMMARY:Trimloop Baak Baak
DESCRIPTION:Doe mee met het hardloopevenement Trimloop Baak te Baak op zo 11 nov 2007. De volgende afstanden staan op het programma: 1\,2 km – 2\,5 km – 5 km – 10 km hardlopen. Wilt u inschrijven voor dit loopevenement?  Raadpleeg hiervoor dan de website van de organisatie\nDe uitslagen van deze hardloopwedstrijd zijn te raadplegen via dezelfde website of via de bekende websites zoals uitslagen.nl\, runtimer en mylaps. Doet u mee met dit evenement\, zorg dan dat u goed voorbereid aan de start staat! Met een goed trainingsschema komt u een heel eind. Train bijvoorbeeld met start to run van Evy Gruyaert. Download de start to run mp3 bestanden en zet ze op uw telefoon. Oortjes in\, hit the play button en en rennen maar! \n\n\n\n\nMeer informatie over Trimloop Baak op Hardloopkalender.nl  \n  \n  \n 
URL:https://hardloopevenementen.com/loopagenda/trimloop-baak-baak/
END:VEVENT
BEGIN:VEVENT
DTSTART;VALUE=DATE:20070422
DTEND;VALUE=DATE:20070423
DTSTAMP:20260421T005802
CREATED:20130427T111002Z
LAST-MODIFIED:20190423T094012Z
UID:587-1177200000-1177200000@hardloopevenementen.com
SUMMARY:Trimloop Baak 4 Baak
DESCRIPTION:Doe mee met het hardloopevenement Trimloop Baak 4 te Baak op zo 22 apr 2007. De volgende afstanden staan op het programma: 1\,2 km – 2\,5 km – 5 km – 10 km hardlopen. Wilt u inschrijven voor dit loopevenement?  Raadpleeg hiervoor dan de website van de organisatie\nDe uitslagen van deze hardloopwedstrijd zijn te raadplegen via dezelfde website of via de bekende websites zoals uitslagen.nl\, runtimer en mylaps. Doet u mee met dit evenement\, zorg dan dat u goed voorbereid aan de start staat! Met een goed trainingsschema komt u een heel eind. Train bijvoorbeeld met start to run van Evy Gruyaert. Download de start to run mp3 bestanden en zet ze op uw telefoon. Oortjes in\, hit the play button en en rennen maar! \n\n\n\n\nMeer informatie over Trimloop Baak 4 op Hardloopkalender.nl  \n  \n  \n 
URL:https://hardloopevenementen.com/loopagenda/trimloop-baak-4-baak/
END:VEVENT
END:VCALENDAR