BEGIN:VCALENDAR
VERSION:2.0
PRODID:-//Hardloopevenementen - ECPv6.15.14//NONSGML v1.0//EN
CALSCALE:GREGORIAN
METHOD:PUBLISH
X-WR-CALNAME:Hardloopevenementen
X-ORIGINAL-URL:https://hardloopevenementen.com
X-WR-CALDESC:Evenementen voor Hardloopevenementen
REFRESH-INTERVAL;VALUE=DURATION:PT1H
X-Robots-Tag:noindex
X-PUBLISHED-TTL:PT1H
BEGIN:VTIMEZONE
TZID:UTC
BEGIN:STANDARD
TZOFFSETFROM:+0000
TZOFFSETTO:+0000
TZNAME:UTC
DTSTART:20070101T000000
END:STANDARD
END:VTIMEZONE
BEGIN:VEVENT
DTSTART;VALUE=DATE:20080302
DTEND;VALUE=DATE:20080303
DTSTAMP:20260421T012357
CREATED:20120625T202122Z
LAST-MODIFIED:20190423T094851Z
UID:20085-1204416000-1204416000@hardloopevenementen.com
SUMMARY:De Plok Baggerloop Didam
DESCRIPTION:Doe mee met het hardloopevenement De Plok Baggerloop te Didam op zo 02 mrt 2008. De volgende afstanden staan op het programma: 2\,5 km – 6 km – 12 km hardlopen. Wilt u inschrijven voor dit loopevenement?  Raadpleeg hiervoor dan de website van de organisatie\nDe uitslagen van deze hardloopwedstrijd zijn te raadplegen via dezelfde website of via de bekende websites zoals uitslagen.nl\, runtimer en mylaps. Doet u mee met dit evenement\, zorg dan dat u goed voorbereid aan de start staat! Met een goed trainingsschema komt u een heel eind. Train bijvoorbeeld met start to run van Evy Gruyaert. Download de start to run mp3 bestanden en zet ze op uw telefoon. Oortjes in\, hit the play button en en rennen maar! \n\n\n\n\nMeer informatie over De Plok Baggerloop op Hardloopkalender.nl  \nAlle deelnemers jong en oud krijgen dit jaar van de organisatie een grote kop gevulde snert. Alle deelnemers aan de jeugdloop krijgen bovendien een fraaie herinnering aan hun ontberingen.      Programma 2 maart 2008:     Afstand   Categorie   Starttijd     2 km    jeugd tot en met 16 jaar &  jeugd tot en met 10 jaar   10:00 uur     6 km   liefhebbers     10:30 uur     12 km   wedstrijdloop   (500\,- euro prijzengeld)   10:30 uur              Inschrijving kan op de dag van de wedstrijd tot een half uur voor de start of via onze web site.     De uitslagen zullen vanzelfsprekend binnen 24 uur op deze site beschikbaar zijn.    De flyers worden in dit jaar verzorgd door \n  \n  \n 
URL:https://hardloopevenementen.com/loopagenda/de-plok-baggerloop-didam/
END:VEVENT
END:VCALENDAR