BEGIN:VCALENDAR
VERSION:2.0
PRODID:-//Hardloopevenementen - ECPv6.15.14//NONSGML v1.0//EN
CALSCALE:GREGORIAN
METHOD:PUBLISH
X-ORIGINAL-URL:https://hardloopevenementen.com
X-WR-CALDESC:Evenementen voor Hardloopevenementen
REFRESH-INTERVAL;VALUE=DURATION:PT1H
X-Robots-Tag:noindex
X-PUBLISHED-TTL:PT1H
BEGIN:VTIMEZONE
TZID:UTC
BEGIN:STANDARD
TZOFFSETFROM:+0000
TZOFFSETTO:+0000
TZNAME:UTC
DTSTART:20070101T000000
END:STANDARD
END:VTIMEZONE
BEGIN:VEVENT
DTSTART;VALUE=DATE:20080512
DTEND;VALUE=DATE:20080513
DTSTAMP:20260423T081407
CREATED:20090409T103903Z
LAST-MODIFIED:20190423T094727Z
UID:19719-1210550400-1210550400@hardloopevenementen.com
SUMMARY:44e Rabo Pinksterloop Eersel
DESCRIPTION:Doe mee met het hardloopevenement 44e Rabo Pinksterloop te Eersel op ma 12 mei 2008. De volgende afstanden staan op het programma:  hardlopen. Wilt u inschrijven voor dit loopevenement?  Raadpleeg hiervoor dan de website van de organisatie\nDe uitslagen van deze hardloopwedstrijd zijn te raadplegen via dezelfde website of via de bekende websites zoals uitslagen.nl\, runtimer en mylaps. Doet u mee met dit evenement\, zorg dan dat u goed voorbereid aan de start staat! Met een goed trainingsschema komt u een heel eind. Train bijvoorbeeld met start to run van Evy Gruyaert. Download de start to run mp3 bestanden en zet ze op uw telefoon. Oortjes in\, hit the play button en en rennen maar! \n\n\n\n\nMeer informatie over 44e Rabo Pinksterloop op Hardloopkalender.nl  \n5-10 km 11:00 uur  Locatie: Sporthal\, Hoolstraat   Plaats   Provincie: Eersel (NBR)  Telefoonnummer: 0497-514077 \n  \n  \n 
URL:https://hardloopevenementen.com/loopagenda/44e-rabo-pinksterloop-eersel/
END:VEVENT
BEGIN:VEVENT
DTSTART;VALUE=DATE:20080301
DTEND;VALUE=DATE:20080302
DTSTAMP:20260423T081407
CREATED:20130822T055752Z
LAST-MODIFIED:20190423T094856Z
UID:20108-1204329600-1204329600@hardloopevenementen.com
SUMMARY:28e DES Halve Marathon Jan Kolenloop Eersel
DESCRIPTION:Doe mee met het hardloopevenement 28e DES Halve Marathon Jan Kolenloop te Eersel op za 01 mrt 2008. De volgende afstanden staan op het programma: 10\,5 km – halve marathon hardlopen. Wilt u inschrijven voor dit loopevenement?  Raadpleeg hiervoor dan de website van de organisatie\nDe uitslagen van deze hardloopwedstrijd zijn te raadplegen via dezelfde website of via de bekende websites zoals uitslagen.nl\, runtimer en mylaps. Doet u mee met dit evenement\, zorg dan dat u goed voorbereid aan de start staat! Met een goed trainingsschema komt u een heel eind. Train bijvoorbeeld met start to run van Evy Gruyaert. Download de start to run mp3 bestanden en zet ze op uw telefoon. Oortjes in\, hit the play button en en rennen maar! \n\n\n\n\nMeer informatie over 28e DES Halve Marathon Jan Kolenloop op Hardloopkalender.nl  \n10\,5-21\,1 km 11:00 uur  Sportpark Postelseweg  Eersel  Telefoonnummer: 0497-514077 \n  \n  \n 
URL:https://hardloopevenementen.com/loopagenda/28e-des-halve-marathon-jan-kolenloop-eersel/
END:VEVENT
BEGIN:VEVENT
DTSTART;VALUE=DATE:20080120
DTEND;VALUE=DATE:20080121
DTSTAMP:20260423T081407
CREATED:20061215T183856Z
LAST-MODIFIED:20190423T094937Z
UID:20286-1200787200-1200787200@hardloopevenementen.com
SUMMARY:7e DES Dieprijt Cross Eersel
DESCRIPTION:Doe mee met het hardloopevenement 7e DES Dieprijt Cross te Eersel op zo 20 jan 2008. De volgende afstanden staan op het programma: 3 km – 4\,5 km – 6 km – 7\,5 km – 9 km hardlopen. Wilt u inschrijven voor dit loopevenement?  Raadpleeg hiervoor dan de website van de organisatie\nDe uitslagen van deze hardloopwedstrijd zijn te raadplegen via dezelfde website of via de bekende websites zoals uitslagen.nl\, runtimer en mylaps. Doet u mee met dit evenement\, zorg dan dat u goed voorbereid aan de start staat! Met een goed trainingsschema komt u een heel eind. Train bijvoorbeeld met start to run van Evy Gruyaert. Download de start to run mp3 bestanden en zet ze op uw telefoon. Oortjes in\, hit the play button en en rennen maar! \n\n\n\n\nMeer informatie over 7e DES Dieprijt Cross op Hardloopkalender.nl  \n3-4\,5-6-7\,5-9 km 10:00 uur\, 9 km 11:00 uur\, 6 km 12:00 uur \n  \n  \n 
URL:https://hardloopevenementen.com/loopagenda/7e-des-dieprijt-cross-eersel/
END:VEVENT
END:VCALENDAR