BEGIN:VCALENDAR
VERSION:2.0
PRODID:-//Hardloopevenementen - ECPv6.15.14//NONSGML v1.0//EN
CALSCALE:GREGORIAN
METHOD:PUBLISH
X-WR-CALNAME:Hardloopevenementen
X-ORIGINAL-URL:https://hardloopevenementen.com
X-WR-CALDESC:Evenementen voor Hardloopevenementen
REFRESH-INTERVAL;VALUE=DURATION:PT1H
X-Robots-Tag:noindex
X-PUBLISHED-TTL:PT1H
BEGIN:VTIMEZONE
TZID:UTC
BEGIN:STANDARD
TZOFFSETFROM:+0000
TZOFFSETTO:+0000
TZNAME:UTC
DTSTART:20060101T000000
END:STANDARD
END:VTIMEZONE
BEGIN:VEVENT
DTSTART;VALUE=DATE:20081213
DTEND;VALUE=DATE:20081214
DTSTAMP:20260422T032850
CREATED:20140729T075245Z
LAST-MODIFIED:20190423T094335Z
UID:930-1229126400-1229126400@hardloopevenementen.com
SUMMARY:Goudse Kaas en Stroopwafelcross Gouda
DESCRIPTION:Doe mee met het hardloopevenement Goudse Kaas en Stroopwafelcross te Gouda op za 13 dec 2008. De volgende afstanden staan op het programma: 4\,6 km – 9 km hardlopen. Wilt u inschrijven voor dit loopevenement?  Raadpleeg hiervoor dan de website van de organisatie\nDe uitslagen van deze hardloopwedstrijd zijn te raadplegen via dezelfde website of via de bekende websites zoals uitslagen.nl\, runtimer en mylaps. Doet u mee met dit evenement\, zorg dan dat u goed voorbereid aan de start staat! Met een goed trainingsschema komt u een heel eind. Train bijvoorbeeld met start to run van Evy Gruyaert. Download de start to run mp3 bestanden en zet ze op uw telefoon. Oortjes in\, hit the play button en en rennen maar! \n\n\n\n\nMeer informatie over Goudse Kaas en Stroopwafelcross op Hardloopkalender.nl  \nstart 4\,6 km 13:45 uur\, 9 km 14:30 uur \n  \n  \n 
URL:https://hardloopevenementen.com/loopagenda/goudse-kaas-en-stroopwafelcross-gouda-2/
END:VEVENT
BEGIN:VEVENT
DTSTART;VALUE=DATE:20081213
DTEND;VALUE=DATE:20081214
DTSTAMP:20260422T032850
CREATED:20140408T004517Z
LAST-MODIFIED:20190423T094328Z
UID:917-1229126400-1229126400@hardloopevenementen.com
SUMMARY:Goudse Kaas en Stroopwafelcross 2008 Gouda
DESCRIPTION:Doe mee met het hardloopevenement Goudse Kaas en Stroopwafelcross 2008 te Gouda op za 13 dec 2008. De volgende afstanden staan op het programma: 9 km hardlopen. Wilt u inschrijven voor dit loopevenement?  Raadpleeg hiervoor dan de website van de organisatie\nDe uitslagen van deze hardloopwedstrijd zijn te raadplegen via dezelfde website of via de bekende websites zoals uitslagen.nl\, runtimer en mylaps. Doet u mee met dit evenement\, zorg dan dat u goed voorbereid aan de start staat! Met een goed trainingsschema komt u een heel eind. Train bijvoorbeeld met start to run van Evy Gruyaert. Download de start to run mp3 bestanden en zet ze op uw telefoon. Oortjes in\, hit the play button en en rennen maar! \n\n\n\n\nMeer informatie over Goudse Kaas en Stroopwafelcross 2008 op Hardloopkalender.nl  \n  \n  \n 
URL:https://hardloopevenementen.com/loopagenda/goudse-kaas-en-stroopwafelcross-2008-gouda/
END:VEVENT
BEGIN:VEVENT
DTSTART;VALUE=DATE:20080912
DTEND;VALUE=DATE:20080913
DTSTAMP:20260422T032850
CREATED:20140911T150748Z
LAST-MODIFIED:20190423T094531Z
UID:19210-1221177600-1221177600@hardloopevenementen.com
SUMMARY:Goudse Nationale Singelloop Gouda
DESCRIPTION:Doe mee met het hardloopevenement Goudse Nationale Singelloop te Gouda op vr 12 sep 2008. De volgende afstanden staan op het programma: 1 km – 3\,5 km – 7 km – 10 km hardlopen. Wilt u inschrijven voor dit loopevenement?  Raadpleeg hiervoor dan de website van de organisatie\nDe uitslagen van deze hardloopwedstrijd zijn te raadplegen via dezelfde website of via de bekende websites zoals uitslagen.nl\, runtimer en mylaps. Doet u mee met dit evenement\, zorg dan dat u goed voorbereid aan de start staat! Met een goed trainingsschema komt u een heel eind. Train bijvoorbeeld met start to run van Evy Gruyaert. Download de start to run mp3 bestanden en zet ze op uw telefoon. Oortjes in\, hit the play button en en rennen maar! \n\n\n\n\nMeer informatie over Goudse Nationale Singelloop op Hardloopkalender.nl  \n1 km 18:30 uur\, 10-10-10 km 18:45 uur\, 3\,5-7 km 19:30 uur \n  \n  \n 
URL:https://hardloopevenementen.com/loopagenda/goudse-nationale-singelloop-gouda/
END:VEVENT
BEGIN:VEVENT
DTSTART;VALUE=DATE:20080831
DTEND;VALUE=DATE:20080901
DTSTAMP:20260422T032850
CREATED:20070717T211204Z
LAST-MODIFIED:20190423T094546Z
UID:19277-1220140800-1220140800@hardloopevenementen.com
SUMMARY:Ultradag Gouda
DESCRIPTION:Doe mee met het hardloopevenement Ultradag te Gouda op zo 31 aug 2008. De volgende afstanden staan op het programma: 50 km hardlopen. Wilt u inschrijven voor dit loopevenement?  Raadpleeg hiervoor dan de website van de organisatie\nDe uitslagen van deze hardloopwedstrijd zijn te raadplegen via dezelfde website of via de bekende websites zoals uitslagen.nl\, runtimer en mylaps. Doet u mee met dit evenement\, zorg dan dat u goed voorbereid aan de start staat! Met een goed trainingsschema komt u een heel eind. Train bijvoorbeeld met start to run van Evy Gruyaert. Download de start to run mp3 bestanden en zet ze op uw telefoon. Oortjes in\, hit the play button en en rennen maar! \n\n\n\n\nMeer informatie over Ultradag op Hardloopkalender.nl  \nestafette 9:00 uur\, 50 km 10:00 uur \n  \n  \n 
URL:https://hardloopevenementen.com/loopagenda/ultradag-gouda/
END:VEVENT
BEGIN:VEVENT
DTSTART;VALUE=DATE:20080203
DTEND;VALUE=DATE:20080204
DTSTAMP:20260422T032850
CREATED:20110905T144724Z
LAST-MODIFIED:20190423T094926Z
UID:20239-1201996800-1201996800@hardloopevenementen.com
SUMMARY:Groenhovenplusloop Gouda
DESCRIPTION:Doe mee met het hardloopevenement Groenhovenplusloop te Gouda op zo 03 feb 2008. De volgende afstanden staan op het programma: 6 km – 11 km – halve marathon hardlopen. Wilt u inschrijven voor dit loopevenement?  Raadpleeg hiervoor dan de website van de organisatie\nDe uitslagen van deze hardloopwedstrijd zijn te raadplegen via dezelfde website of via de bekende websites zoals uitslagen.nl\, runtimer en mylaps. Doet u mee met dit evenement\, zorg dan dat u goed voorbereid aan de start staat! Met een goed trainingsschema komt u een heel eind. Train bijvoorbeeld met start to run van Evy Gruyaert. Download de start to run mp3 bestanden en zet ze op uw telefoon. Oortjes in\, hit the play button en en rennen maar! \n\n\n\n\nMeer informatie over Groenhovenplusloop op Hardloopkalender.nl  \nStart: 13.30 uur alle afstanden    Plaats:  Atletiekbaan Groenhoven aan  de Groenhovenweg in Gouda  (0182 534954).    Parcours:  Verkeersvrij parcours over wegen en paden door de Goudse wijk  Bloemendaal\, het Groenhovenpark\,en door het polderland.   Het parcours voor de Halve Marathon bestaat uit twee grote ronden en een kleine aanloopronde.    Onderdelen:  Prestatielopen over 21\,1 en 11 en 6 km    kosten  Prestatielopen 6 en 11 km: 3 euro  Prestatieloop 21\,1 km: 6 euro \n  \n  \n 
URL:https://hardloopevenementen.com/loopagenda/groenhovenplusloop-gouda/
END:VEVENT
BEGIN:VEVENT
DTSTART;VALUE=DATE:20071215
DTEND;VALUE=DATE:20071216
DTSTAMP:20260422T032850
CREATED:20130221T080441Z
LAST-MODIFIED:20190423T093809Z
UID:76-1197676800-1197676800@hardloopevenementen.com
SUMMARY:Goudse Kaas en Stroopwafelcross Gouda
DESCRIPTION:Doe mee met het hardloopevenement Goudse Kaas en Stroopwafelcross te Gouda op za 15 dec 2007. De volgende afstanden staan op het programma: 9 km hardlopen. Wilt u inschrijven voor dit loopevenement?  Raadpleeg hiervoor dan de website van de organisatie\nDe uitslagen van deze hardloopwedstrijd zijn te raadplegen via dezelfde website of via de bekende websites zoals uitslagen.nl\, runtimer en mylaps. Doet u mee met dit evenement\, zorg dan dat u goed voorbereid aan de start staat! Met een goed trainingsschema komt u een heel eind. Train bijvoorbeeld met start to run van Evy Gruyaert. Download de start to run mp3 bestanden en zet ze op uw telefoon. Oortjes in\, hit the play button en en rennen maar! \n\n\n\n\nMeer informatie over Goudse Kaas en Stroopwafelcross op Hardloopkalender.nl  \n  \n  \n 
URL:https://hardloopevenementen.com/loopagenda/goudse-kaas-en-stroopwafelcross-gouda/
END:VEVENT
END:VCALENDAR