BEGIN:VCALENDAR
VERSION:2.0
PRODID:-//Hardloopevenementen - ECPv6.15.14//NONSGML v1.0//EN
CALSCALE:GREGORIAN
METHOD:PUBLISH
X-WR-CALNAME:Hardloopevenementen
X-ORIGINAL-URL:https://hardloopevenementen.com
X-WR-CALDESC:Evenementen voor Hardloopevenementen
REFRESH-INTERVAL;VALUE=DURATION:PT1H
X-Robots-Tag:noindex
X-PUBLISHED-TTL:PT1H
BEGIN:VTIMEZONE
TZID:UTC
BEGIN:STANDARD
TZOFFSETFROM:+0000
TZOFFSETTO:+0000
TZNAME:UTC
DTSTART:20070101T000000
END:STANDARD
END:VTIMEZONE
BEGIN:VEVENT
DTSTART;VALUE=DATE:20080126
DTEND;VALUE=DATE:20080127
DTSTAMP:20260425T190552
CREATED:20120126T072128Z
LAST-MODIFIED:20190423T094934Z
UID:20276-1201305600-1201305600@hardloopevenementen.com
SUMMARY:Hunebedloop Havelte
DESCRIPTION:Doe mee met het hardloopevenement Hunebedloop te Havelte op za 26 jan 2008. De volgende afstanden staan op het programma: 8 km – 15 km hardlopen. Wilt u inschrijven voor dit loopevenement?  Raadpleeg hiervoor dan de website van de organisatie\nDe uitslagen van deze hardloopwedstrijd zijn te raadplegen via dezelfde website of via de bekende websites zoals uitslagen.nl\, runtimer en mylaps. Doet u mee met dit evenement\, zorg dan dat u goed voorbereid aan de start staat! Met een goed trainingsschema komt u een heel eind. Train bijvoorbeeld met start to run van Evy Gruyaert. Download de start to run mp3 bestanden en zet ze op uw telefoon. Oortjes in\, hit the play button en en rennen maar! \n\n\n\n\nMeer informatie over Hunebedloop op Hardloopkalender.nl  \nStartplaats: Kantine VV Havelte   Bijzonderheden: Kleedgelegenheid en EHBO     KNAU-wedstrijd: Nee   Inschrijving: Ter plekke vanaf 10:00 uur   Verdere informatie: Barry Hartsuiker   Postbus 183\, 7940 AD Meppel   0522 251241   hartsuiker85@zonnet.nl      Onderdelen: Onderdeel Starttijd   15 km 12:00   8 km 12:00 \n  \n  \n 
URL:https://hardloopevenementen.com/loopagenda/hunebedloop-havelte/
END:VEVENT
END:VCALENDAR