BEGIN:VCALENDAR
VERSION:2.0
PRODID:-//Hardloopevenementen - ECPv6.15.14//NONSGML v1.0//EN
CALSCALE:GREGORIAN
METHOD:PUBLISH
X-WR-CALNAME:Hardloopevenementen
X-ORIGINAL-URL:https://hardloopevenementen.com
X-WR-CALDESC:Evenementen voor Hardloopevenementen
REFRESH-INTERVAL;VALUE=DURATION:PT1H
X-Robots-Tag:noindex
X-PUBLISHED-TTL:PT1H
BEGIN:VTIMEZONE
TZID:UTC
BEGIN:STANDARD
TZOFFSETFROM:+0000
TZOFFSETTO:+0000
TZNAME:UTC
DTSTART:20060101T000000
END:STANDARD
END:VTIMEZONE
BEGIN:VEVENT
DTSTART;VALUE=DATE:20081230
DTEND;VALUE=DATE:20081231
DTSTAMP:20260424T070306
CREATED:20080818T230140Z
LAST-MODIFIED:20190423T094232Z
UID:833-1230595200-1230595200@hardloopevenementen.com
SUMMARY:6 uursloop Heerde
DESCRIPTION:Doe mee met het hardloopevenement 6 uursloop te Heerde op di 30 dec 2008. De volgende afstanden staan op het programma: 6 uur 0 min hardlopen. Wilt u inschrijven voor dit loopevenement?  Raadpleeg hiervoor dan de website van de organisatie\nDe uitslagen van deze hardloopwedstrijd zijn te raadplegen via dezelfde website of via de bekende websites zoals uitslagen.nl\, runtimer en mylaps. Doet u mee met dit evenement\, zorg dan dat u goed voorbereid aan de start staat! Met een goed trainingsschema komt u een heel eind. Train bijvoorbeeld met start to run van Evy Gruyaert. Download de start to run mp3 bestanden en zet ze op uw telefoon. Oortjes in\, hit the play button en en rennen maar! \n\n\n\n\nMeer informatie over 6 uursloop op Hardloopkalender.nl  \n6-uurloop 13:00 uur \n  \n  \n 
URL:https://hardloopevenementen.com/loopagenda/6-uursloop-heerde/
END:VEVENT
BEGIN:VEVENT
DTSTART;VALUE=DATE:20081129
DTEND;VALUE=DATE:20081130
DTSTAMP:20260424T070306
CREATED:20090820T184854Z
LAST-MODIFIED:20190423T094359Z
UID:1015-1227916800-1227916800@hardloopevenementen.com
SUMMARY:Sintloop Heerde
DESCRIPTION:Doe mee met het hardloopevenement Sintloop te Heerde op za 29 nov 2008. De volgende afstanden staan op het programma: 1 km – 3 km – 6\,2 km – 9\,1 km – 11\,9 km hardlopen. Wilt u inschrijven voor dit loopevenement?  Raadpleeg hiervoor dan de website van de organisatie\nDe uitslagen van deze hardloopwedstrijd zijn te raadplegen via dezelfde website of via de bekende websites zoals uitslagen.nl\, runtimer en mylaps. Doet u mee met dit evenement\, zorg dan dat u goed voorbereid aan de start staat! Met een goed trainingsschema komt u een heel eind. Train bijvoorbeeld met start to run van Evy Gruyaert. Download de start to run mp3 bestanden en zet ze op uw telefoon. Oortjes in\, hit the play button en en rennen maar! \n\n\n\n\nMeer informatie over Sintloop op Hardloopkalender.nl  \nstart  1 km 10:30 uur  3 km 10:35 uur  6\,2-9\,1-11\,9 km 11:00 uur \n  \n  \n 
URL:https://hardloopevenementen.com/loopagenda/sintloop-heerde/
END:VEVENT
BEGIN:VEVENT
DTSTART;VALUE=DATE:20081025
DTEND;VALUE=DATE:20081026
DTSTAMP:20260424T070306
CREATED:20160221T211000Z
LAST-MODIFIED:20190423T094438Z
UID:1182-1224892800-1224892800@hardloopevenementen.com
SUMMARY:26e Klokloop Heerde
DESCRIPTION:Doe mee met het hardloopevenement 26e Klokloop te Heerde op za 25 okt 2008. De volgende afstanden staan op het programma: 0\,7 km – 2 km – 5 km – 10\,8 km – 15 km hardlopen. Wilt u inschrijven voor dit loopevenement?  Raadpleeg hiervoor dan de website van de organisatie\nDe uitslagen van deze hardloopwedstrijd zijn te raadplegen via dezelfde website of via de bekende websites zoals uitslagen.nl\, runtimer en mylaps. Doet u mee met dit evenement\, zorg dan dat u goed voorbereid aan de start staat! Met een goed trainingsschema komt u een heel eind. Train bijvoorbeeld met start to run van Evy Gruyaert. Download de start to run mp3 bestanden en zet ze op uw telefoon. Oortjes in\, hit the play button en en rennen maar! \n\n\n\n\nMeer informatie over 26e Klokloop op Hardloopkalender.nl  \n0\,7 km 10:20 uur\, 2 km 10:40 uur\, 5 km 11:00 uur\, 10\,8 km 11:30 uur\, 15 km 11:40 uur \n  \n  \n 
URL:https://hardloopevenementen.com/loopagenda/26e-klokloop-heerde/
END:VEVENT
BEGIN:VEVENT
DTSTART;VALUE=DATE:20080705
DTEND;VALUE=DATE:20080706
DTSTAMP:20260424T070306
CREATED:20160630T193354Z
LAST-MODIFIED:20190423T094628Z
UID:19458-1215216000-1215216000@hardloopevenementen.com
SUMMARY:8e Van Bank tot Bank Heerde
DESCRIPTION:Doe mee met het hardloopevenement 8e Van Bank tot Bank te Heerde op za 05 jul 2008. De volgende afstanden staan op het programma: 0\,5 km – 1 km – 5 km – 15 km hardlopen. Wilt u inschrijven voor dit loopevenement?  Raadpleeg hiervoor dan de website van de organisatie\nDe uitslagen van deze hardloopwedstrijd zijn te raadplegen via dezelfde website of via de bekende websites zoals uitslagen.nl\, runtimer en mylaps. Doet u mee met dit evenement\, zorg dan dat u goed voorbereid aan de start staat! Met een goed trainingsschema komt u een heel eind. Train bijvoorbeeld met start to run van Evy Gruyaert. Download de start to run mp3 bestanden en zet ze op uw telefoon. Oortjes in\, hit the play button en en rennen maar! \n\n\n\n\nMeer informatie over 8e Van Bank tot Bank op Hardloopkalender.nl  \n15 km 19:00 uur\, 5 km 19:05 uur \n  \n  \n 
URL:https://hardloopevenementen.com/loopagenda/8e-van-bank-tot-bank-heerde/
END:VEVENT
BEGIN:VEVENT
DTSTART;VALUE=DATE:20080119
DTEND;VALUE=DATE:20080120
DTSTAMP:20260424T070306
CREATED:20131101T045131Z
LAST-MODIFIED:20190423T094941Z
UID:20306-1200700800-1200700800@hardloopevenementen.com
SUMMARY:Zwolsebos Halve Marathon Heerde
DESCRIPTION:Doe mee met het hardloopevenement Zwolsebos Halve Marathon te Heerde op za 19 jan 2008. De volgende afstanden staan op het programma: 7\,2 km – 14\,2 km – halve marathon hardlopen. Wilt u inschrijven voor dit loopevenement?  Raadpleeg hiervoor dan de website van de organisatie\nDe uitslagen van deze hardloopwedstrijd zijn te raadplegen via dezelfde website of via de bekende websites zoals uitslagen.nl\, runtimer en mylaps. Doet u mee met dit evenement\, zorg dan dat u goed voorbereid aan de start staat! Met een goed trainingsschema komt u een heel eind. Train bijvoorbeeld met start to run van Evy Gruyaert. Download de start to run mp3 bestanden en zet ze op uw telefoon. Oortjes in\, hit the play button en en rennen maar! \n\n\n\n\nMeer informatie over Zwolsebos Halve Marathon op Hardloopkalender.nl  \n7\,2-21\,1-14\,2 km 12:30 uur  WEDSTRIJD VOOR ATLETIEKUNIE LEDEN OVER 21\,1 KM  PRESTATIELOPEN OVER 1 KM – 7\,3 KM – 14\,2 KM – 21\,1 KM  De ideale test voor de Midwinter (mini)Marathon !!  WAAR : Sportpark Molenbeek aan de Veldweg te HEERDE.  TE BEREIKEN : Vanaf de Dorpenweg en de Kamperweg wijzen de borden Sportparken  u de weg. Ook via de A 50 afrit 29 HEERDE is het Sportpark te  bereiken\, na de afrit moet u richting HEERDE rijden.  AFSTANDEN + STARTTIJDEN:  12.00 uur Prestatieloop over 1 km  12.30 uur WEDSTRIJD Atletiekunie LEDEN over 21\,1 km  12.30 uur PRESTATIELOPEN over 7\,3 – 14\,2 – 21\,1 km  PARKOERS : de 1 km voor de jeugd wordt op de baan gelopen. Voor de overige afstanden is  een parkoers uitgezet dat gedeeltelijk over geasfalteerde wegen gaat en over bospaden in het  natuurterrein het ZWOLSE BOS.  VOORINSCHRIJVEN: tot 14 januari 2008 via www.inschrijven.nl  NA-INSCHRIJVEN: vanaf 11.00 uur op Sportpark Molenbeek  INSCHRIJFGELD : voorinschrijving na-inschrijving  21\,1 km   4\,00   5\,00  7\,3 en 14\,2 km   3\,00   4\,00 \n  \n  \n 
URL:https://hardloopevenementen.com/loopagenda/zwolsebos-halve-marathon-heerde/
END:VEVENT
BEGIN:VEVENT
DTSTART;VALUE=DATE:20070707
DTEND;VALUE=DATE:20070708
DTSTAMP:20260424T070306
CREATED:20140702T051517Z
LAST-MODIFIED:20190423T093931Z
UID:415-1183766400-1183766400@hardloopevenementen.com
SUMMARY:mini van bank tot bank Heerde
DESCRIPTION:Doe mee met het hardloopevenement mini van bank tot bank te Heerde op za 07 jul 2007. De volgende afstanden staan op het programma: 1 km hardlopen. Wilt u inschrijven voor dit loopevenement?  Raadpleeg hiervoor dan de website van de organisatie\nDe uitslagen van deze hardloopwedstrijd zijn te raadplegen via dezelfde website of via de bekende websites zoals uitslagen.nl\, runtimer en mylaps. Doet u mee met dit evenement\, zorg dan dat u goed voorbereid aan de start staat! Met een goed trainingsschema komt u een heel eind. Train bijvoorbeeld met start to run van Evy Gruyaert. Download de start to run mp3 bestanden en zet ze op uw telefoon. Oortjes in\, hit the play button en en rennen maar! \n\n\n\n\nMeer informatie over mini van bank tot bank op Hardloopkalender.nl  \n  \n  \n 
URL:https://hardloopevenementen.com/loopagenda/mini-van-bank-tot-bank-heerde/
END:VEVENT
END:VCALENDAR