BEGIN:VCALENDAR
VERSION:2.0
PRODID:-//Hardloopevenementen - ECPv6.15.14//NONSGML v1.0//EN
CALSCALE:GREGORIAN
METHOD:PUBLISH
X-WR-CALNAME:Hardloopevenementen
X-ORIGINAL-URL:https://hardloopevenementen.com
X-WR-CALDESC:Evenementen voor Hardloopevenementen
REFRESH-INTERVAL;VALUE=DURATION:PT1H
X-Robots-Tag:noindex
X-PUBLISHED-TTL:PT1H
BEGIN:VTIMEZONE
TZID:UTC
BEGIN:STANDARD
TZOFFSETFROM:+0000
TZOFFSETTO:+0000
TZNAME:UTC
DTSTART:20130101T000000
END:STANDARD
END:VTIMEZONE
BEGIN:VEVENT
DTSTART;VALUE=DATE:20191201
DTEND;VALUE=DATE:20191202
DTSTAMP:20260421T004226
CREATED:20090514T080359Z
LAST-MODIFIED:20090514T080359Z
UID:143600-1575158400-1575158400@hardloopevenementen.com
SUMMARY:Maasloop Kerkdriel\, gemeente Maasdriel (GE)
DESCRIPTION:Doe mee met het hardloopevenement Maasloop te Kerkdriel\, gemeente Maasdriel (GE) op zo 01 dec 2019. De volgende afstanden staan op het programma: 5 km – 10 km – 15 km hardlopen. Wilt u inschrijven voor dit loopevenement?  Raadpleeg hiervoor dan de website van de organisatie\nDe uitslagen van deze hardloopwedstrijd zijn te raadplegen via dezelfde website of via de bekende websites zoals uitslagen.nl\, runtimer en mylaps. Doet u mee met dit evenement\, zorg dan dat u goed voorbereid aan de start staat! Met een goed trainingsschema komt u een heel eind. Train bijvoorbeeld met start to run van Evy Gruyaert. Download de start to run mp3 bestanden en zet ze op uw telefoon. Oortjes in\, hit the play button en en rennen maar! \n\n\n\n\nMeer informatie over Maasloop op Hardloopkalender.nl  \nDe Maasloop is een winters loopevenement langs de Zandmeren in Kerkdriel dat wordt georganiseerd door TWC De Trillende Spaken. De Maasloop wordt jaarlijks gehouden op de eerste zondag van december. Tijdens de Maasloop kunnen vier verschillende afstanden worden gelopen\, namelijk 5\, 10 en 15 kilometer. De 31e editie wordt georganiseerd op zondag 1 december 2019 \n  \n  \n 
URL:https://hardloopevenementen.com/loopagenda/maasloop-kerkdriel-gemeente-maasdriel-ge/
END:VEVENT
BEGIN:VEVENT
DTSTART;VALUE=DATE:20171015
DTEND;VALUE=DATE:20171016
DTSTAMP:20260421T004226
CREATED:20170106T084107Z
LAST-MODIFIED:20190423T114317Z
UID:13901-1508025600-1508025600@hardloopevenementen.com
SUMMARY:Runfor2 Kerkdriel\, gemeente Maasdriel (GE)
DESCRIPTION:Doe mee met het hardloopevenement Runfor2 te Kerkdriel\, gemeente Maasdriel (GE) op zo 15 okt 2017. De volgende afstanden staan op het programma: 5 km – 10 km hardlopen. Wilt u inschrijven voor dit loopevenement?  Raadpleeg hiervoor dan de website van de organisatie\nDe uitslagen van deze hardloopwedstrijd zijn te raadplegen via dezelfde website of via de bekende websites zoals uitslagen.nl\, runtimer en mylaps. Doet u mee met dit evenement\, zorg dan dat u goed voorbereid aan de start staat! Met een goed trainingsschema komt u een heel eind. Train bijvoorbeeld met start to run van Evy Gruyaert. Download de start to run mp3 bestanden en zet ze op uw telefoon. Oortjes in\, hit the play button en en rennen maar! \n\n\n\n\nMeer informatie over Runfor2 op Hardloopkalender.nl  \nEr wordt ook een kids Obstacle run gehouden van 250 meter tot er met 6 jaar en 500 meter tot 12 jaar.  En voor degene die niet van hardlopen houden\, is er nog een wandeltocht van 7.5 km. \n  \n  \n 
URL:https://hardloopevenementen.com/loopagenda/runfor2-kerkdriel-gemeente-maasdriel-ge/
END:VEVENT
BEGIN:VEVENT
DTSTART;VALUE=DATE:20151010
DTEND;VALUE=DATE:20151011
DTSTAMP:20260421T004226
CREATED:20121111T050805Z
LAST-MODIFIED:20190423T110832Z
UID:9633-1444435200-1444435200@hardloopevenementen.com
SUMMARY:ZandmerenPontonCrossloop Kerkdriel\, gemeente Maasdriel (GE)
DESCRIPTION:Doe mee met het hardloopevenement ZandmerenPontonCrossloop te Kerkdriel\, gemeente Maasdriel (GE) op za 10 okt 2015. De volgende afstanden staan op het programma: 6 km – 12 km hardlopen. Wilt u inschrijven voor dit loopevenement?  Raadpleeg hiervoor dan de website van de organisatie\nDe uitslagen van deze hardloopwedstrijd zijn te raadplegen via dezelfde website of via de bekende websites zoals uitslagen.nl\, runtimer en mylaps. Doet u mee met dit evenement\, zorg dan dat u goed voorbereid aan de start staat! Met een goed trainingsschema komt u een heel eind. Train bijvoorbeeld met start to run van Evy Gruyaert. Download de start to run mp3 bestanden en zet ze op uw telefoon. Oortjes in\, hit the play button en en rennen maar! \n\n\n\n\nMeer informatie over ZandmerenPontonCrossloop op Hardloopkalender.nl  \nUNIEK!!!    Beleef de ZandmerenPontonCrossloop.    Op zaterdag 10 oktober is er een mogelijkheid om een unieke PontonCrossloop te doen.   Mede mogelijk gemaakt door de Defensie door de plaatsing van een pontonbrug over het water.    Dit rondje van 6 km is uniek omdat er alleen tijdens deze PontonCrossloop een oversteek gemaakt kan worden dmv de pontons. (Zie foto voor oversteek)    Afstanden:    6 km (1 rondje) of 12 km (2 rondjes)   Alle leeftijden.   Inschrijven tussen 7:45 en 8:15    Start 8:30  (restaurant Dukdalf aan de Zandstraat in Kerkdriel)    Voor vragen:   Mail info@ncfit.nl   Bel 0655308175 \n  \n  \n 
URL:https://hardloopevenementen.com/loopagenda/zandmerenpontoncrossloop-kerkdriel-gemeente-maasdriel-ge/
END:VEVENT
BEGIN:VEVENT
DTSTART;VALUE=DATE:20140426
DTEND;VALUE=DATE:20140427
DTSTAMP:20260421T004226
CREATED:20130329T004904Z
LAST-MODIFIED:20190423T105603Z
UID:34248-1398470400-1398470400@hardloopevenementen.com
SUMMARY:Acht van driel Kerkdriel\, gemeente Maasdriel (GE)
DESCRIPTION:Doe mee met het hardloopevenement Acht van driel te Kerkdriel\, gemeente Maasdriel (GE) op za 26 apr 2014. De volgende afstanden staan op het programma: 1\,3 km – 2\,6 km – 3\,9 km – 5\,2 km – 6\,5 km hardlopen. Wilt u inschrijven voor dit loopevenement?  Raadpleeg hiervoor dan de website van de organisatie\nDe uitslagen van deze hardloopwedstrijd zijn te raadplegen via dezelfde website of via de bekende websites zoals uitslagen.nl\, runtimer en mylaps. Doet u mee met dit evenement\, zorg dan dat u goed voorbereid aan de start staat! Met een goed trainingsschema komt u een heel eind. Train bijvoorbeeld met start to run van Evy Gruyaert. Download de start to run mp3 bestanden en zet ze op uw telefoon. Oortjes in\, hit the play button en en rennen maar! \n\n\n\n\nMeer informatie over Acht van driel op Hardloopkalender.nl  \nstratenloop door centrum kerkdriel\, op koningsdag 26 april.  Inschrijven van 11uur tot 13.30  uur bij cafe Babbels  in het centrum van Kerkdriel.  Inschrijving is gratis    Starttijd is vervroegd naar 14.00 uur.  Tevens is er een estafetteloop die ook om deze tijd start \n  \n  \n 
URL:https://hardloopevenementen.com/loopagenda/acht-van-driel-kerkdriel-gemeente-maasdriel-ge/
END:VEVENT
END:VCALENDAR