BEGIN:VCALENDAR
VERSION:2.0
PRODID:-//Hardloopevenementen - ECPv6.15.14//NONSGML v1.0//EN
CALSCALE:GREGORIAN
METHOD:PUBLISH
X-WR-CALNAME:Hardloopevenementen
X-ORIGINAL-URL:https://hardloopevenementen.com
X-WR-CALDESC:Evenementen voor Hardloopevenementen
REFRESH-INTERVAL;VALUE=DURATION:PT1H
X-Robots-Tag:noindex
X-PUBLISHED-TTL:PT1H
BEGIN:VTIMEZONE
TZID:UTC
BEGIN:STANDARD
TZOFFSETFROM:+0000
TZOFFSETTO:+0000
TZNAME:UTC
DTSTART:20060101T000000
END:STANDARD
END:VTIMEZONE
BEGIN:VEVENT
DTSTART;VALUE=DATE:20081011
DTEND;VALUE=DATE:20081012
DTSTAMP:20260424T225354
CREATED:20090404T224551Z
LAST-MODIFIED:20190423T094452Z
UID:19044-1223683200-1223683200@hardloopevenementen.com
SUMMARY:Halve Marathon van Loenen Loenen
DESCRIPTION:Doe mee met het hardloopevenement Halve Marathon van Loenen te Loenen op za 11 okt 2008. De volgende afstanden staan op het programma: 5 km – 10 km – halve marathon hardlopen. Wilt u inschrijven voor dit loopevenement?  Raadpleeg hiervoor dan de website van de organisatie\nDe uitslagen van deze hardloopwedstrijd zijn te raadplegen via dezelfde website of via de bekende websites zoals uitslagen.nl\, runtimer en mylaps. Doet u mee met dit evenement\, zorg dan dat u goed voorbereid aan de start staat! Met een goed trainingsschema komt u een heel eind. Train bijvoorbeeld met start to run van Evy Gruyaert. Download de start to run mp3 bestanden en zet ze op uw telefoon. Oortjes in\, hit the play button en en rennen maar! \n\n\n\n\nMeer informatie over Halve Marathon van Loenen op Hardloopkalender.nl  \nstart  10-21\,1 km 13:00 uur\, 5 km 13:05 uur \n  \n  \n 
URL:https://hardloopevenementen.com/loopagenda/halve-marathon-van-loenen-loenen-2/
END:VEVENT
BEGIN:VEVENT
DTSTART;VALUE=DATE:20080510
DTEND;VALUE=DATE:20080511
DTSTAMP:20260424T225354
CREATED:20080926T022333Z
LAST-MODIFIED:20190423T094729Z
UID:19731-1210377600-1210377600@hardloopevenementen.com
SUMMARY:Profict Hardloop-4-daagse Loenen
DESCRIPTION:Doe mee met het hardloopevenement Profict Hardloop-4-daagse te Loenen op za 10 mei 2008. De volgende afstanden staan op het programma: 14\,7 km hardlopen. Wilt u inschrijven voor dit loopevenement?  Raadpleeg hiervoor dan de website van de organisatie\nDe uitslagen van deze hardloopwedstrijd zijn te raadplegen via dezelfde website of via de bekende websites zoals uitslagen.nl\, runtimer en mylaps. Doet u mee met dit evenement\, zorg dan dat u goed voorbereid aan de start staat! Met een goed trainingsschema komt u een heel eind. Train bijvoorbeeld met start to run van Evy Gruyaert. Download de start to run mp3 bestanden en zet ze op uw telefoon. Oortjes in\, hit the play button en en rennen maar! \n\n\n\n\nMeer informatie over Profict Hardloop-4-daagse op Hardloopkalender.nl  \n14\,7 km 19:00 uur  Vier dagen hardlopen door de uitgestrekte bossen rond Apeldoorn    AV Veluwe organiseert in het Pinksterweekeinde van 2008 voor de zevende keer het unieke evenement:         DE PROFICT HARDLOOP4DAAGSE       Vrijdag 9 mei t m maandag 12 mei 2008.    Lopers kunnen kiezen uit:     6 etappes – totaal 100 km   4 etappes – totaal   60 km   ploegenklassement voor beide afstanden  Alle parcoursen zijn officieel gemeten en gaan over fietspaden en goed beloopbare zandpaden door de fraaiste natuurgebieden. Er wordt voor zowel de 100 als 60km lopers een eindklassement opgemaakt. \n  \n  \n 
URL:https://hardloopevenementen.com/loopagenda/profict-hardloop-4-daagse-loenen/
END:VEVENT
BEGIN:VEVENT
DTSTART;VALUE=DATE:20071013
DTEND;VALUE=DATE:20071014
DTSTAMP:20260424T225354
CREATED:20160904T140745Z
LAST-MODIFIED:20190423T093850Z
UID:244-1192233600-1192233600@hardloopevenementen.com
SUMMARY:Halve Marathon van Loenen Loenen
DESCRIPTION:Doe mee met het hardloopevenement Halve Marathon van Loenen te Loenen op za 13 okt 2007. De volgende afstanden staan op het programma: 5 km – 10 km – halve marathon hardlopen. Wilt u inschrijven voor dit loopevenement?  Raadpleeg hiervoor dan de website van de organisatie\nDe uitslagen van deze hardloopwedstrijd zijn te raadplegen via dezelfde website of via de bekende websites zoals uitslagen.nl\, runtimer en mylaps. Doet u mee met dit evenement\, zorg dan dat u goed voorbereid aan de start staat! Met een goed trainingsschema komt u een heel eind. Train bijvoorbeeld met start to run van Evy Gruyaert. Download de start to run mp3 bestanden en zet ze op uw telefoon. Oortjes in\, hit the play button en en rennen maar! \n\n\n\n\nMeer informatie over Halve Marathon van Loenen op Hardloopkalender.nl  \n  \n  \n 
URL:https://hardloopevenementen.com/loopagenda/halve-marathon-van-loenen-loenen/
END:VEVENT
END:VCALENDAR