BEGIN:VCALENDAR
VERSION:2.0
PRODID:-//Hardloopevenementen - ECPv6.15.14//NONSGML v1.0//EN
CALSCALE:GREGORIAN
METHOD:PUBLISH
X-ORIGINAL-URL:https://hardloopevenementen.com
X-WR-CALDESC:Evenementen voor Hardloopevenementen
REFRESH-INTERVAL;VALUE=DURATION:PT1H
X-Robots-Tag:noindex
X-PUBLISHED-TTL:PT1H
BEGIN:VTIMEZONE
TZID:UTC
BEGIN:STANDARD
TZOFFSETFROM:+0000
TZOFFSETTO:+0000
TZNAME:UTC
DTSTART:20060101T000000
END:STANDARD
END:VTIMEZONE
BEGIN:VEVENT
DTSTART;VALUE=DATE:20080615
DTEND;VALUE=DATE:20080616
DTSTAMP:20260422T011337
CREATED:20070706T113534Z
LAST-MODIFIED:20190423T094647Z
UID:19544-1213488000-1213488000@hardloopevenementen.com
SUMMARY:Maastrichts Mooiste Maastricht
DESCRIPTION:Doe mee met het hardloopevenement Maastrichts Mooiste te Maastricht op zo 15 jun 2008. De volgende afstanden staan op het programma: 0\,5 km – 1 km – 5 km – 15 km hardlopen. Wilt u inschrijven voor dit loopevenement?  Raadpleeg hiervoor dan de website van de organisatie\nDe uitslagen van deze hardloopwedstrijd zijn te raadplegen via dezelfde website of via de bekende websites zoals uitslagen.nl\, runtimer en mylaps. Doet u mee met dit evenement\, zorg dan dat u goed voorbereid aan de start staat! Met een goed trainingsschema komt u een heel eind. Train bijvoorbeeld met start to run van Evy Gruyaert. Download de start to run mp3 bestanden en zet ze op uw telefoon. Oortjes in\, hit the play button en en rennen maar! \n\n\n\n\nMeer informatie over Maastrichts Mooiste op Hardloopkalender.nl  \nMaastrichts Mooiste is het grootste en gezelligste hardloop- en wandelevenement in de provincie Limburg. Maastricht\, zonder twijfel de meest Bourgondische stad van Nederland\, toont in het lustrumjaar van het evenement vijf dagen lang hoe gezellig het hier toeven is.    Trainen voor Maastrichts Mooiste   Het is van groot belang voor uw gezondheid om goed voorbereid aan de start te komen. Wij adviseren u dan ook om u tijdig aan te melden voor Maastrichts Mooiste en gebruik te maken van onze maandelijkse digitale nieuwsbrieven vol met gezondheids- en trainingstips. In de nieuwsbrieven vindt u ook informatie over de verschillende trainingsprogramma’s die wij aanbieden.    Op dit moment zijn data en locaties van onze trainingsprogramma’s\, die in het voorjaar van 2008 starten\, nog niet bekend.    Via internet   Voor sporters die op individuele basis naar het evenement toe willen werken\, zijn via de website www.hardloopschema.nl gratis trainingsprogramma’s beschikbaar.    Voor diverse doelgroepen zijn er speciale trainingsprogramma’s en clinics. Meld u aan voor Maastrichts Mooiste Nieuwsbrief en blijf op de hoogte.     Het sportieve programma van Maastrichts Mooiste\, overzichtelijk op een rijtje:    Zaterdag 7 juni  Wandeltocht bejaarden + lichamelijk gehandicapten  Pietersberg    Zondag 8 juni  Wandeltocht algemeen  Kasteel de Hoogenweerth  Vrijdag 13 juni  Kelnerwedstrijden  Plein 1992  Zaterdag 14 juni  Sportmarkt  Markt  Zondag 15 juni  Hardloopwedstrijden  Plein 1992 \n  \n  \n 
URL:https://hardloopevenementen.com/loopagenda/maastrichts-mooiste-maastricht/
END:VEVENT
BEGIN:VEVENT
DTSTART;VALUE=DATE:20071104
DTEND;VALUE=DATE:20071105
DTSTAMP:20260422T011337
CREATED:20150407T074353Z
LAST-MODIFIED:20190423T093837Z
UID:190-1194134400-1194134400@hardloopevenementen.com
SUMMARY:ENCI Bergloop Maastricht
DESCRIPTION:Doe mee met het hardloopevenement ENCI Bergloop te Maastricht op zo 04 nov 2007. De volgende afstanden staan op het programma: 1 km – 1\,5 km – 5 km – 6 km – 10 km hardlopen. Wilt u inschrijven voor dit loopevenement?  Raadpleeg hiervoor dan de website van de organisatie\nDe uitslagen van deze hardloopwedstrijd zijn te raadplegen via dezelfde website of via de bekende websites zoals uitslagen.nl\, runtimer en mylaps. Doet u mee met dit evenement\, zorg dan dat u goed voorbereid aan de start staat! Met een goed trainingsschema komt u een heel eind. Train bijvoorbeeld met start to run van Evy Gruyaert. Download de start to run mp3 bestanden en zet ze op uw telefoon. Oortjes in\, hit the play button en en rennen maar! \n\n\n\n\nMeer informatie over ENCI Bergloop op Hardloopkalender.nl  \n  \n  \n 
URL:https://hardloopevenementen.com/loopagenda/enci-bergloop-maastricht/
END:VEVENT
END:VCALENDAR