BEGIN:VCALENDAR
VERSION:2.0
PRODID:-//Hardloopevenementen - ECPv6.15.14//NONSGML v1.0//EN
CALSCALE:GREGORIAN
METHOD:PUBLISH
X-WR-CALNAME:Hardloopevenementen
X-ORIGINAL-URL:https://hardloopevenementen.com
X-WR-CALDESC:Evenementen voor Hardloopevenementen
REFRESH-INTERVAL;VALUE=DURATION:PT1H
X-Robots-Tag:noindex
X-PUBLISHED-TTL:PT1H
BEGIN:VTIMEZONE
TZID:UTC
BEGIN:STANDARD
TZOFFSETFROM:+0000
TZOFFSETTO:+0000
TZNAME:UTC
DTSTART:20060101T000000
END:STANDARD
END:VTIMEZONE
BEGIN:VEVENT
DTSTART;VALUE=DATE:20081130
DTEND;VALUE=DATE:20081201
DTSTAMP:20260423T202256
CREATED:20131005T121440Z
LAST-MODIFIED:20190423T094355Z
UID:1001-1228003200-1228003200@hardloopevenementen.com
SUMMARY:Sint Nicolaasloop Monnickendam
DESCRIPTION:Doe mee met het hardloopevenement Sint Nicolaasloop te Monnickendam op zo 30 nov 2008. De volgende afstanden staan op het programma: 1 km – 5 km – 10 km hardlopen. Wilt u inschrijven voor dit loopevenement?  Raadpleeg hiervoor dan de website van de organisatie\nDe uitslagen van deze hardloopwedstrijd zijn te raadplegen via dezelfde website of via de bekende websites zoals uitslagen.nl\, runtimer en mylaps. Doet u mee met dit evenement\, zorg dan dat u goed voorbereid aan de start staat! Met een goed trainingsschema komt u een heel eind. Train bijvoorbeeld met start to run van Evy Gruyaert. Download de start to run mp3 bestanden en zet ze op uw telefoon. Oortjes in\, hit the play button en en rennen maar! \n\n\n\n\nMeer informatie over Sint Nicolaasloop op Hardloopkalender.nl  \nstart 5-10 km 11:00 uur\, 1 km 11:05 uur \n  \n  \n 
URL:https://hardloopevenementen.com/loopagenda/sint-nicolaasloop-monnickendam-2/
END:VEVENT
BEGIN:VEVENT
DTSTART;VALUE=DATE:20080622
DTEND;VALUE=DATE:20080623
DTSTAMP:20260423T202256
CREATED:20120902T205335Z
LAST-MODIFIED:20190423T094638Z
UID:19505-1214092800-1214092800@hardloopevenementen.com
SUMMARY:Blubberrace Monnickendam
DESCRIPTION:Doe mee met het hardloopevenement Blubberrace te Monnickendam op zo 22 jun 2008. De volgende afstanden staan op het programma: 3\,3 km hardlopen. Wilt u inschrijven voor dit loopevenement?  Raadpleeg hiervoor dan de website van de organisatie\nDe uitslagen van deze hardloopwedstrijd zijn te raadplegen via dezelfde website of via de bekende websites zoals uitslagen.nl\, runtimer en mylaps. Doet u mee met dit evenement\, zorg dan dat u goed voorbereid aan de start staat! Met een goed trainingsschema komt u een heel eind. Train bijvoorbeeld met start to run van Evy Gruyaert. Download de start to run mp3 bestanden en zet ze op uw telefoon. Oortjes in\, hit the play button en en rennen maar! \n\n\n\n\nMeer informatie over Blubberrace op Hardloopkalender.nl  \nstart van de 3\,3 km 14:00 uur \n  \n  \n 
URL:https://hardloopevenementen.com/loopagenda/blubberrace-monnickendam-2/
END:VEVENT
BEGIN:VEVENT
DTSTART;VALUE=DATE:20080601
DTEND;VALUE=DATE:20080602
DTSTAMP:20260423T202256
CREATED:20180819T080322Z
LAST-MODIFIED:20190423T094706Z
UID:19622-1212278400-1212278400@hardloopevenementen.com
SUMMARY:Waterland Halve Marathon Monnickendam
DESCRIPTION:Doe mee met het hardloopevenement Waterland Halve Marathon te Monnickendam op zo 01 jun 2008. De volgende afstanden staan op het programma: 1\,5 km – 10 km – halve marathon hardlopen. Wilt u inschrijven voor dit loopevenement?  Raadpleeg hiervoor dan de website van de organisatie\nDe uitslagen van deze hardloopwedstrijd zijn te raadplegen via dezelfde website of via de bekende websites zoals uitslagen.nl\, runtimer en mylaps. Doet u mee met dit evenement\, zorg dan dat u goed voorbereid aan de start staat! Met een goed trainingsschema komt u een heel eind. Train bijvoorbeeld met start to run van Evy Gruyaert. Download de start to run mp3 bestanden en zet ze op uw telefoon. Oortjes in\, hit the play button en en rennen maar! \n\n\n\n\nMeer informatie over Waterland Halve Marathon op Hardloopkalender.nl  \nStart  10-21\,1 km 10:30 uur  1\,5 km 10:35 uur \n  \n  \n 
URL:https://hardloopevenementen.com/loopagenda/waterland-halve-marathon-monnickendam-2/
END:VEVENT
BEGIN:VEVENT
DTSTART;VALUE=DATE:20071125
DTEND;VALUE=DATE:20071126
DTSTAMP:20260423T202256
CREATED:20101221T144142Z
LAST-MODIFIED:20190423T093819Z
UID:117-1195948800-1195948800@hardloopevenementen.com
SUMMARY:Sint Nicolaasloop Monnickendam
DESCRIPTION:Doe mee met het hardloopevenement Sint Nicolaasloop te Monnickendam op zo 25 nov 2007. De volgende afstanden staan op het programma: 1 km – 5 km – 10 km hardlopen. Wilt u inschrijven voor dit loopevenement?  Raadpleeg hiervoor dan de website van de organisatie\nDe uitslagen van deze hardloopwedstrijd zijn te raadplegen via dezelfde website of via de bekende websites zoals uitslagen.nl\, runtimer en mylaps. Doet u mee met dit evenement\, zorg dan dat u goed voorbereid aan de start staat! Met een goed trainingsschema komt u een heel eind. Train bijvoorbeeld met start to run van Evy Gruyaert. Download de start to run mp3 bestanden en zet ze op uw telefoon. Oortjes in\, hit the play button en en rennen maar! \n\n\n\n\nMeer informatie over Sint Nicolaasloop op Hardloopkalender.nl  \n  \n  \n 
URL:https://hardloopevenementen.com/loopagenda/sint-nicolaasloop-monnickendam/
END:VEVENT
BEGIN:VEVENT
DTSTART;VALUE=DATE:20070701
DTEND;VALUE=DATE:20070702
DTSTAMP:20260423T202256
CREATED:20110123T212329Z
LAST-MODIFIED:20190423T093934Z
UID:427-1183248000-1183248000@hardloopevenementen.com
SUMMARY:Blubberrace Monnickendam
DESCRIPTION:Doe mee met het hardloopevenement Blubberrace te Monnickendam op zo 01 jul 2007. De volgende afstanden staan op het programma: 3\,3 km hardlopen. Wilt u inschrijven voor dit loopevenement?  Raadpleeg hiervoor dan de website van de organisatie\nDe uitslagen van deze hardloopwedstrijd zijn te raadplegen via dezelfde website of via de bekende websites zoals uitslagen.nl\, runtimer en mylaps. Doet u mee met dit evenement\, zorg dan dat u goed voorbereid aan de start staat! Met een goed trainingsschema komt u een heel eind. Train bijvoorbeeld met start to run van Evy Gruyaert. Download de start to run mp3 bestanden en zet ze op uw telefoon. Oortjes in\, hit the play button en en rennen maar! \n\n\n\n\nMeer informatie over Blubberrace op Hardloopkalender.nl  \n  \n  \n 
URL:https://hardloopevenementen.com/loopagenda/blubberrace-monnickendam/
END:VEVENT
BEGIN:VEVENT
DTSTART;VALUE=DATE:20070603
DTEND;VALUE=DATE:20070604
DTSTAMP:20260423T202256
CREATED:20080617T192019Z
LAST-MODIFIED:20190423T093949Z
UID:496-1180828800-1180828800@hardloopevenementen.com
SUMMARY:Waterland Halve Marathon Monnickendam
DESCRIPTION:Doe mee met het hardloopevenement Waterland Halve Marathon te Monnickendam op zo 03 jun 2007. De volgende afstanden staan op het programma: 1\,5 km – 10 km – halve marathon hardlopen. Wilt u inschrijven voor dit loopevenement?  Raadpleeg hiervoor dan de website van de organisatie\nDe uitslagen van deze hardloopwedstrijd zijn te raadplegen via dezelfde website of via de bekende websites zoals uitslagen.nl\, runtimer en mylaps. Doet u mee met dit evenement\, zorg dan dat u goed voorbereid aan de start staat! Met een goed trainingsschema komt u een heel eind. Train bijvoorbeeld met start to run van Evy Gruyaert. Download de start to run mp3 bestanden en zet ze op uw telefoon. Oortjes in\, hit the play button en en rennen maar! \n\n\n\n\nMeer informatie over Waterland Halve Marathon op Hardloopkalender.nl  \n  \n  \n 
URL:https://hardloopevenementen.com/loopagenda/waterland-halve-marathon-monnickendam/
END:VEVENT
END:VCALENDAR