BEGIN:VCALENDAR
VERSION:2.0
PRODID:-//Hardloopevenementen - ECPv6.15.14//NONSGML v1.0//EN
CALSCALE:GREGORIAN
METHOD:PUBLISH
X-WR-CALNAME:Hardloopevenementen
X-ORIGINAL-URL:https://hardloopevenementen.com
X-WR-CALDESC:Evenementen voor Hardloopevenementen
REFRESH-INTERVAL;VALUE=DURATION:PT1H
X-Robots-Tag:noindex
X-PUBLISHED-TTL:PT1H
BEGIN:VTIMEZONE
TZID:UTC
BEGIN:STANDARD
TZOFFSETFROM:+0000
TZOFFSETTO:+0000
TZNAME:UTC
DTSTART:20070101T000000
END:STANDARD
END:VTIMEZONE
BEGIN:VEVENT
DTSTART;VALUE=DATE:20080614
DTEND;VALUE=DATE:20080615
DTSTAMP:20260422T003818
CREATED:20061225T000740Z
LAST-MODIFIED:20190423T094650Z
UID:19557-1213401600-1213401600@hardloopevenementen.com
SUMMARY:Slachtemarathon Oosterbierum
DESCRIPTION:Doe mee met het hardloopevenement Slachtemarathon te Oosterbierum op za 14 jun 2008. De volgende afstanden staan op het programma: marathon hardlopen. Wilt u inschrijven voor dit loopevenement?  Raadpleeg hiervoor dan de website van de organisatie\nDe uitslagen van deze hardloopwedstrijd zijn te raadplegen via dezelfde website of via de bekende websites zoals uitslagen.nl\, runtimer en mylaps. Doet u mee met dit evenement\, zorg dan dat u goed voorbereid aan de start staat! Met een goed trainingsschema komt u een heel eind. Train bijvoorbeeld met start to run van Evy Gruyaert. Download de start to run mp3 bestanden en zet ze op uw telefoon. Oortjes in\, hit the play button en en rennen maar! \n\n\n\n\nMeer informatie over Slachtemarathon op Hardloopkalender.nl  \nAfstand  42.195 meter\, zowel toegankelijk voor recreatieve als wedstrijddeelnemers. Het parcours is opgemeten en door de KNAU (atletiekunie)gecertificeerd.    Start  Nabij Oosterbierum.    Finish  In het dorpscentrum van Raerd.    Starttijd  s ochtends om 6.30 uur.    Parcours  De route gaat over een afwisselend parcours door het Friese terpenlandschap. Op een drietal stukken is de ondergrond grasdijk (nabij Franeker\, Achlum en Bozum  ongeveer 6 kilometer totaal). Het parcours is volledig verkeersvrij!    Verzorging  Er zullen verzorgingsposten zijn op iedere 5 kilometer. Hier is sportdrank\, fruit en water te verkrijgen. Tevens is er een massagemogelijkheid onderweg en bij de finish.    Omkleden douchen  Dit is mogelijk op het nieuwe sportcomplex Schuttersveld in Sneek\, nabij de atletiekbaan van AV Horror (Thomas Zandstrastraat 2).    Busvervoer  De deelnemers worden s ochtends om 5.30 uur in colonne vanuit Sneek naar de start gebracht. Tevens worden de deelnemers na de finish weer teruggebracht naar Sneek. Iedere 10 minuten vertrekt een bus vanuit Raerd.    Parkeren  Op en nabij het sportcomplex kunt u uw auto parkeren. Volg de aanwijzingen van de verkeersregelaars op.    Tijdregistratie  We maken gebruik van het RaceTimersysteem. Een primeur voor noord-Nederland! Via een chip in het startnummer worden de doorkomsttijden geregistreerd. Behalve de eindtijd wordt ook de halve marathontijd geregistreerd en gepubliceerd op deze webpagina. Het RaceTimer-systeem is door de KNAU (atletiekunie) gecertificeerd voor Nederlandse wedstrijden. Meer info op de nieuwspagina    Herinnering  Iedere gefinishte deelnemer ontvangt een blijvende herinnering in de vorm van een plexiglazen trofee en een T-shirt van één van onze sponsoren.    Prijzen  Ereprijzen\, geldprijzen en naturaprijzen ter waarde van circa 5000 euro. Er zijn overallprijzen voor de nummers 1 t m 3 heren en dames. Tevens zijn er categorieprijzen naar leeftijdsklasse. Het aantal prijzen wordt bepaald a.d.h.v. het aantal deelnemers in de betreffende categorie. De prijsuitreiking vindt plaatsop een nog nader te bepalen plaats en tijdstip. Winnaars dienen als ze aanspraak willen maken op een prijs verplicht aanwezig te zijn bij de prijsuitreiking.      Inschrijving  Door middel van voorinschrijving op deze webpagina. Uiterlijk voor 26 mei 2008. Na-inschrijving is niet mogelijk. De inschrijving start op 7 januari 2008!    Inschrijfgeld   KNAU (atletiekunie)-leden  25 euro    Niet KNAU (atletiekunie)-leden  27\,50 euro    Dit betekend dat deze kosten niet verhoogd zijn t.o.v. 2004! Deze bedragen zijn inclusief de bus- en tijdregistratiekosten. Betaling gebeurt door een eenmalige machtiging. De afschrijving is tevens bevestiging van deelname.     Organisatie hardloopmarathon  atletiekvereniging Horror\, Postbus 4024\, 8600 GA Sneek\, in samenwerking met de Stichting Slachtemarathon.Postbus 1288\, 8900 CG Leeuwarden.     Overnachtingen  Sneek en omgeving heeft prima hotels en campings. Kijk hiervoor op www.vvvsneek.nl    Diversen  Nadere informatie over het evenement wordt rond 4 juni 2008 per post toegestuurd. Hierbij toegevoegd het startnummer.   Via een nieuwsbrief proberen we je frequent op de hoogte te houden over de Slachtemarathon voor hardlopers. Deze nieuwsbrief is ook weer terug te lezen op www.slachtemarathon.com.   Er geldt een minimum leeftijd van 18 jaar.   Om organisatorische redenen geldt er een tijdslimiet van 5 ½ uur.   Het startnummer is persoonlijk. Restitutie van het inschrijfgeld is alleen mogelijk voor 15 mei 2008\, onder voorwaarde van aftrek van 8 euro administratiekosten. Overdracht van startnummer is wel mogelijk. Dit kan tot 12 juni 2008. Hiervoor worden 2 euro administratiekosten gevraagd.   Inschrijving voor de Slachtemarathon voor wandelaars kan via www.slachtemarathon.nl   Deelname geschiedt op eigen verantwoordelijkheid en risico.   Bij inschrijving ga je akkoord met de deelnemersvoorwaarden en het wedstrijdreglement (volgens richtlijnen atletiekunie). Deze zijn schriftelijk opvraagbaar bij de atletiekvereniging Horror. \n  \n  \n 
URL:https://hardloopevenementen.com/loopagenda/slachtemarathon-oosterbierum/
END:VEVENT
END:VCALENDAR