BEGIN:VCALENDAR
VERSION:2.0
PRODID:-//Hardloopevenementen - ECPv6.15.14//NONSGML v1.0//EN
CALSCALE:GREGORIAN
METHOD:PUBLISH
X-WR-CALNAME:Hardloopevenementen
X-ORIGINAL-URL:https://hardloopevenementen.com
X-WR-CALDESC:Evenementen voor Hardloopevenementen
REFRESH-INTERVAL;VALUE=DURATION:PT1H
X-Robots-Tag:noindex
X-PUBLISHED-TTL:PT1H
BEGIN:VTIMEZONE
TZID:UTC
BEGIN:STANDARD
TZOFFSETFROM:+0000
TZOFFSETTO:+0000
TZNAME:UTC
DTSTART:20060101T000000
END:STANDARD
END:VTIMEZONE
BEGIN:VEVENT
DTSTART;VALUE=DATE:20080330
DTEND;VALUE=DATE:20080331
DTSTAMP:20260421T162538
CREATED:20131019T033419Z
LAST-MODIFIED:20190423T094817Z
UID:19938-1206835200-1206835200@hardloopevenementen.com
SUMMARY:ING Venloop Venlo
DESCRIPTION:Doe mee met het hardloopevenement ING Venloop te Venlo op zo 30 mrt 2008. De volgende afstanden staan op het programma: 0\,5 km – 0\,6 km – 1\,2 km – 10 km – halve marathon hardlopen. Wilt u inschrijven voor dit loopevenement?  Raadpleeg hiervoor dan de website van de organisatie\nDe uitslagen van deze hardloopwedstrijd zijn te raadplegen via dezelfde website of via de bekende websites zoals uitslagen.nl\, runtimer en mylaps. Doet u mee met dit evenement\, zorg dan dat u goed voorbereid aan de start staat! Met een goed trainingsschema komt u een heel eind. Train bijvoorbeeld met start to run van Evy Gruyaert. Download de start to run mp3 bestanden en zet ze op uw telefoon. Oortjes in\, hit the play button en en rennen maar! \n\n\n\n\nMeer informatie over ING Venloop op Hardloopkalender.nl  \nDe limiettijden zijn als volgt:  halve marathon: 3 uur  10 km: 1\,5 uur    Hiervan afgeleid zullen we de limiet-tussentijden   vaststellen. Dit betekent 45 minuten op de 5 kilometer enzovoort.     ING VENLOOP Programma 2008    Tijd Onderdeel Afstand Leeftijd*   Groep Aantal inschrijvingen    10:30 Bambinoloop (6) 450m 4 t m 6   1-3 300 (+ max. 1 ouder)  11:00 Kinderloop (5) 600m 7 t m 9   4-6 400  11:15 Jeugdloop (4) 1.200m 10 t m 12   6-8 400  11:30 Scholierenloop (3) 2.900m 12 t m 16 400  12:00 10km (2) 10.000m 16+ 1.500  13:30 Halve marathon (1) 21.098m 18+ 4.000  *Leeftijd op de wedstrijddag       Categorieën    Nr Categorie Leeftijd M V Onderdeel   1 Mannen senioren 18-34 M Halve marathon (1)   2 Mannen 35 35-39 M Halve marathon (1)   3 Mannen 40 40-44 M Halve marathon (1)   4 Mannen 45 45-49 M Halve marathon (1)   5 Mannen 50 50-54 M Halve marathon (1)   6 Mannen 55 55-59 M Halve marathon (1)   7 Mannen 60 60-99 M Halve marathon (1)   8 Vrouwen senioren 18-34 V Halve marathon (1)   9 Vrouwen 35 35-39 V Halve marathon (1)   10 Vrouwen 40 40-44 V Halve marathon (1)   11 Vrouwen 45 45-49 V Halve marathon (1)   12 Vrouwen 50 50-54 V Halve marathon (1)   13 Vrouwen 55 55-99 V Halve marathon (1)   14 Mannen recreanten 18-99 M Halve marathon (1)   15 Vrouwen recreanten 18-99 V Halve marathon (1)   16 Mannen senioren 16-99 M 10 kilometer (2)   17 Vrouwen senioren 16-99 V 10 kilometer (2)   20 Jongens 12 t m 16 jaar 12-16 M 3.000 meter (3)   21 Meisjes 12 t m 16 jaar 12-16 V 3.000 meter (3)   22 Jongens 10 t m 12 jaar 10-12 M 1.160 meter (4)   23 Meisjes 10 t m 12 jaar 10-12 V 1.160 meter (4)   24 Jongens 7 t m 9 jaar 7-9 M 580 meter (5)   25 Meisjes 7 t m 9 jaar 7-9 V 580 meter (5)   26 Jongens 4 t m 6 jaar 4-6 M 450 meter (6)   27 Meisjes 4 t m 6 jaar 4-6 V 450 meter (6)               Inschrijfgeld 2008 – Inclusief huur ChampionChip   Jeugd Scholieren 10km 21km   Voorins. Na-ins. Voorins. Na-ins. Voorins. KNAU Na-ins. Voorins. KNAU Na-ins.   . 3\,00 . 3\,00 . 3\,00 . 3\,00 . 10\,00 . 8\,00 . 14\,00 . 14\,00 . 12\,00 . 18\,00          ChampionChip Shirt Annuleren SMS-Service   Huur Koop   Ja nee Kn. Dgn. vooraf Ja nee Kn. Pb   . 1\,50 . 28\,00 . 17\,50 ja . 5\,00   ja            Let op:   vetgedrukte bedragen zijn inclusief huur ChampionChip   alleen bij voorinschrijving op 10km en HM is gebruik van eigen ChampionChip mogelijk. Bij gebruik eigen chip wordt . 1\,50 korting verleend op het inschrijfgeld.   deelname aan jeugdlopen en scholierenloop is uitsluitend mogelijk met huurchip.   bij voortijdig bereiken van maximum aantal deelnemers\, is er op betreffend onderdeel geen na-inschrijving. \n  \n  \n 
URL:https://hardloopevenementen.com/loopagenda/ing-venloop-venlo/
END:VEVENT
BEGIN:VEVENT
DTSTART;VALUE=DATE:20080302
DTEND;VALUE=DATE:20080303
DTSTAMP:20260421T162538
CREATED:20100923T004020Z
LAST-MODIFIED:20190423T094852Z
UID:20091-1204416000-1204416000@hardloopevenementen.com
SUMMARY:3e Scopias Voorjaarsloop Venlo
DESCRIPTION:Doe mee met het hardloopevenement 3e Scopias Voorjaarsloop te Venlo op zo 02 mrt 2008. De volgende afstanden staan op het programma: 0\,9 km – 1\,8 km – 7\,5 km – 15 km hardlopen. Wilt u inschrijven voor dit loopevenement?  Raadpleeg hiervoor dan de website van de organisatie\nDe uitslagen van deze hardloopwedstrijd zijn te raadplegen via dezelfde website of via de bekende websites zoals uitslagen.nl\, runtimer en mylaps. Doet u mee met dit evenement\, zorg dan dat u goed voorbereid aan de start staat! Met een goed trainingsschema komt u een heel eind. Train bijvoorbeeld met start to run van Evy Gruyaert. Download de start to run mp3 bestanden en zet ze op uw telefoon. Oortjes in\, hit the play button en en rennen maar! \n\n\n\n\nMeer informatie over 3e Scopias Voorjaarsloop op Hardloopkalender.nl  \nOrganisatie: Atletiekvereniging Scopias     Parcours:   Start en finish op de atletiekbaan van sportpark Vrijenbroek\, Wittendijkweg 61 in Venlo. Klik hier voor een routebeschrijving.   Het parcours bestaat geheel uit verharde weg. Klik hier voor een parcoursbeschrijving    Secretariaat: Scopias clubgebouw op sportpark Vrijenbroek     Voorzieningen:   Er is voldoende kleed- en toiletruimte aanwezig. Bij de Fontys Hogeschool wordt een parkeerplaats ingericht. Volg de borden ter plaatse. Deelnemers uit de regio Venlo wordt toch geadviseerd zoveel mogelijk met de fiets te komen.     Inschrijving:   Deelname is alleen mogelijk via voorinschrijving. Ga hiervoor naar www.inschrijven.nl of klik op deze link (opent in een nieuw venster)  Inschrijven is mogelijk tot uiterlijk zondag 17 februari. Er is géén na-inschrijving.  Scholieren worden naar leeftijd ingedeeld bij de jeugdcategorieën.  De verschuldigde inschrijfkosten worden via automatische incasso geïncasseerd.    Teilnehmer aus Deutschland überweisen die Anmeldegebühr vor dem 21. Februar auf das Konto der Sparkasse Krefeld (BLZ 320 500 00)\, Kto-Nr. 36 706 828 (Vermerk: Leo  Hendriks\, voorjaarsloop 2008).    Inlichtingen: M. Lemmen tel. 077-3732236\, J. de Lange tel. 06-22486826 en L. Huijs tel. 077-3871245     Prijzen:   Eerste 3 in elke categorie. Er worden naturaprijzen uitgekeerd. De prijsuitreiking vindt aansluitend aan de diverse lopen plaats.  Deelnemers die niet bij de prijsuitreiking aanwezig zijn ontvangen GEEN prijs     Starttijd Categorie Afstand   10.00 uur – Jeugdloop Jongens t m 11 jaar  Meisjes t m 11 jaar  Jongens 12 t m 15 jaar  Meisjes 12 t m 15 jaar  Aansluitend prijsuitreiking jeugdloop 1200 m.   10.30 uur Mannen vrouwen t m 34 jaar  Mannen vrouwen 35 t m 44 jaar  Mannen vrouwen 45 t m 54 jaar  Mannen vrouwen vanaf 55 jaar  Aansluitend prijsuitreiking 7\,5 km loop 7500 m.   11.30 uur Mannen vrouwen t m 34 jaar  Mannen vrouwen 35 t m 44 jaar  Mannen vrouwen 45 t m 54 jaar  Mannen vrouwen vanaf 55 jaar  Aansluitend prijsuitreiking 15 km loop 15000 m.     Tijdmeting:   Er wordt gebruik gemaakt van elektronische tijdmeting via het startnummer. Ga voor meer informatie naar www.taf-timing.de (opent in nieuw venster)  De chip wordt meteen achter de finish afgenomen. Houd hier rekening mee. Er wordt alleen een brutotijd geregistreerd. Tijdens de wedstrijd kunt u de tijd volgen via een elektronische tijdklok.    Inschrijfgeld:   Jeugd t m 15 jaar  3\,00  Volwassenen  7\,50     Leden van Scopias die deelnemen aan de Jeugdloop betalen geen inschrijfkosten. Zodra ze op het inschrijfformulier aangeven lid te zijn van Scopias\, worden er geen kosten in rekening gebracht. Er vindt een controle plaats op basis van de actuele ledenlijst.     Afhalen startnummer:   Op de volgende dagen en tijden kan het startnummer worden afgehaald:  Ma 25 febr t m Vr 29 febr. dagelijks van 19.00 uur tot 20.00 uur  Za 1 maart. van 10.00uur tot 12.00 uur  Zo 2 maart van 9.00 uur tot 10.30 uur  LET OP: op zondagmorgen 2 maart is er maar één uitgiftepunt. Dit is in principe gereserveerd voor deelnemers van buiten de gemeente Venlo.   Voorkom wachttijden en haal in de week voorafgaand aan de wedstrijd het startnummer op.   De uitgifte van de startnummers vindt plaats in het clubgebouw van Scopias op sportpark Vrijenbroek.    Verzorging: Voor de deelnemers aan de 15km wordt een drankpost ingericht. Deze bevindt zich op de helft van het parcours  Alle deelnemers ontvangen na afloop van hun onderdeel een consumptie.    Muzikale omlijsting: wordt verzorgd door joekskapel Beejein veur de gein uit Belfeld.    Uitslagen: De uitslagen worden per categorie op onze website geplaatst.    Parcoursbeschrijving    – Start op baan bij clubgebouw richting Westelijke poort  – Bij kerkhofmuur linksaf Hulsforthofweg opdraaien  – Doorlopen tot aan fietspad en hier rechtsaf richting Hulsterweg  – Hulsterweg volgen tot aan kruising Wylrehofweg Meerkoetstraat  – Rechtsaf Meerkoetstraat opdraaien richting kinderboerderij  – Bij kinderboerderij rechtsaf richting Hagerlei  – Aan einde rechtsaf Natteweg opdraaien  – Doorlopen tot fietstunnel onder A73. Noot: na kruispunt met Vrijenbroekstraat en Egypte gaat Natteweg over in Pastoor Lemmenstraat  – Onder fietstunnel door. Noot: Patoor Lemmenstraat wordt Geldersebaan  – Na fietstunnel Geldersebaan vervolgen tot Nolensstraat. Hier rechtsaf Nolensstraat opdraaien  – Daarna 1e weg rechtsaf Hulsterweg en deze vervolgen tot Vindelsweg  – Op kruising rechtsaf Vindelsweg opdraaien en aan einde linksaf (Geldersebaan)  – Onder fietstunnel door en bij kruising linksaf Vrijenbroekweg opdraaien. Deze gaat aan einde over in fietspad  – Fietspad volgen richting Hulsterweg  – Hulsterweg volgen tot aan kruising Wylrehofweg Meerkoetstraat  – Rechtsaf Meerkoetstraat opdraaien richting kinderboerderij  – Bij kinderboerderij rechtsaf richting Hagerlei  – Aan einde rechtsaf Natteweg opdraaien  – Natteweg vervolgen tot kruising met Wittendijkweg. Hier rechtsaf  – Wittendijkweg volgen tot kerkhofmuur bij Hulsforthofweg  – Linksaf Hulsforthofweg opdraaien en doorlopen tot aan Westelijke toegangspoort  – Bij poort sportpark Vrijenbroek opdraaien  – Via grasveld kunststofatletiekbaan opdraaien  – Doorlopen tot finish bij jurytoren \n  \n  \n 
URL:https://hardloopevenementen.com/loopagenda/3e-scopias-voorjaarsloop-venlo/
END:VEVENT
BEGIN:VEVENT
DTSTART;VALUE=DATE:20070325
DTEND;VALUE=DATE:20070326
DTSTAMP:20260421T162538
CREATED:20131106T045319Z
LAST-MODIFIED:20190423T094025Z
UID:648-1174780800-1174780800@hardloopevenementen.com
SUMMARY:Venloop Venlo
DESCRIPTION:Doe mee met het hardloopevenement Venloop te Venlo op zo 25 mrt 2007. De volgende afstanden staan op het programma: 10 km – halve marathon hardlopen. Wilt u inschrijven voor dit loopevenement?  Raadpleeg hiervoor dan de website van de organisatie\nDe uitslagen van deze hardloopwedstrijd zijn te raadplegen via dezelfde website of via de bekende websites zoals uitslagen.nl\, runtimer en mylaps. Doet u mee met dit evenement\, zorg dan dat u goed voorbereid aan de start staat! Met een goed trainingsschema komt u een heel eind. Train bijvoorbeeld met start to run van Evy Gruyaert. Download de start to run mp3 bestanden en zet ze op uw telefoon. Oortjes in\, hit the play button en en rennen maar! \n\n\n\n\nMeer informatie over Venloop op Hardloopkalender.nl  \n  \n  \n 
URL:https://hardloopevenementen.com/loopagenda/venloop-venlo/
END:VEVENT
END:VCALENDAR