BEGIN:VCALENDAR
VERSION:2.0
PRODID:-//Hardloopevenementen - ECPv6.15.14//NONSGML v1.0//EN
CALSCALE:GREGORIAN
METHOD:PUBLISH
X-ORIGINAL-URL:https://hardloopevenementen.com
X-WR-CALDESC:Evenementen voor Hardloopevenementen
REFRESH-INTERVAL;VALUE=DURATION:PT1H
X-Robots-Tag:noindex
X-PUBLISHED-TTL:PT1H
BEGIN:VTIMEZONE
TZID:UTC
BEGIN:STANDARD
TZOFFSETFROM:+0000
TZOFFSETTO:+0000
TZNAME:UTC
DTSTART:20060101T000000
END:STANDARD
END:VTIMEZONE
BEGIN:VEVENT
DTSTART;VALUE=DATE:20080830
DTEND;VALUE=DATE:20080831
DTSTAMP:20260425T200928
CREATED:20171231T182043Z
LAST-MODIFIED:20190423T094548Z
UID:19286-1220054400-1220054400@hardloopevenementen.com
SUMMARY:Valkemaloop Wildervank
DESCRIPTION:Doe mee met het hardloopevenement Valkemaloop te Wildervank op za 30 aug 2008. De volgende afstanden staan op het programma: 5 km – 10 km hardlopen. Wilt u inschrijven voor dit loopevenement?  Raadpleeg hiervoor dan de website van de organisatie\nDe uitslagen van deze hardloopwedstrijd zijn te raadplegen via dezelfde website of via de bekende websites zoals uitslagen.nl\, runtimer en mylaps. Doet u mee met dit evenement\, zorg dan dat u goed voorbereid aan de start staat! Met een goed trainingsschema komt u een heel eind. Train bijvoorbeeld met start to run van Evy Gruyaert. Download de start to run mp3 bestanden en zet ze op uw telefoon. Oortjes in\, hit the play button en en rennen maar! \n\n\n\n\nMeer informatie over Valkemaloop op Hardloopkalender.nl  \n5-10-10 km 14:00 uur \n  \n  \n 
URL:https://hardloopevenementen.com/loopagenda/valkemaloop-wildervank-2/
END:VEVENT
BEGIN:VEVENT
DTSTART;VALUE=DATE:20080210
DTEND;VALUE=DATE:20080211
DTSTAMP:20260425T200928
CREATED:20110513T194814Z
LAST-MODIFIED:20190423T094916Z
UID:20196-1202601600-1202601600@hardloopevenementen.com
SUMMARY:Ford Timmermanloop Wildervank
DESCRIPTION:Doe mee met het hardloopevenement Ford Timmermanloop te Wildervank op zo 10 feb 2008. De volgende afstanden staan op het programma: 5 km – 10 km – 15 km hardlopen. Wilt u inschrijven voor dit loopevenement?  Raadpleeg hiervoor dan de website van de organisatie\nDe uitslagen van deze hardloopwedstrijd zijn te raadplegen via dezelfde website of via de bekende websites zoals uitslagen.nl\, runtimer en mylaps. Doet u mee met dit evenement\, zorg dan dat u goed voorbereid aan de start staat! Met een goed trainingsschema komt u een heel eind. Train bijvoorbeeld met start to run van Evy Gruyaert. Download de start to run mp3 bestanden en zet ze op uw telefoon. Oortjes in\, hit the play button en en rennen maar! \n\n\n\n\nMeer informatie over Ford Timmermanloop op Hardloopkalender.nl  \nFord Timmermanloop   Start: 11:00   Plaats: Wildervank     Inschrijving: Sportpark Wildervank Vanaf:  09:30     Organisatie: SV Veendam       Inlichtingen: Bert Gernaat Tel. 0598 623240   Kleedgelegenheid: Ja     Douches: Ja     Afstanden: Wedstrijd 15 km Recreanten 5-10-15 km    Jeugdloop: Nee\, alleen recreatie.   Recreanten 5-10-15 km \n  \n  \n 
URL:https://hardloopevenementen.com/loopagenda/ford-timmermanloop-wildervank-2/
END:VEVENT
BEGIN:VEVENT
DTSTART;VALUE=DATE:20070901
DTEND;VALUE=DATE:20070902
DTSTAMP:20260425T200928
CREATED:20100730T205732Z
LAST-MODIFIED:20190423T093914Z
UID:344-1188604800-1188604800@hardloopevenementen.com
SUMMARY:Valkemaloop Wildervank
DESCRIPTION:Doe mee met het hardloopevenement Valkemaloop te Wildervank op za 01 sep 2007. De volgende afstanden staan op het programma: 10 km hardlopen. Wilt u inschrijven voor dit loopevenement?  Raadpleeg hiervoor dan de website van de organisatie\nDe uitslagen van deze hardloopwedstrijd zijn te raadplegen via dezelfde website of via de bekende websites zoals uitslagen.nl\, runtimer en mylaps. Doet u mee met dit evenement\, zorg dan dat u goed voorbereid aan de start staat! Met een goed trainingsschema komt u een heel eind. Train bijvoorbeeld met start to run van Evy Gruyaert. Download de start to run mp3 bestanden en zet ze op uw telefoon. Oortjes in\, hit the play button en en rennen maar! \n\n\n\n\nMeer informatie over Valkemaloop op Hardloopkalender.nl  \n  \n  \n 
URL:https://hardloopevenementen.com/loopagenda/valkemaloop-wildervank/
END:VEVENT
BEGIN:VEVENT
DTSTART;VALUE=DATE:20070211
DTEND;VALUE=DATE:20070212
DTSTAMP:20260425T200928
CREATED:20120926T161201Z
LAST-MODIFIED:20190423T094044Z
UID:734-1171152000-1171152000@hardloopevenementen.com
SUMMARY:Ford Timmermanloop Wildervank
DESCRIPTION:Doe mee met het hardloopevenement Ford Timmermanloop te Wildervank op zo 11 feb 2007. De volgende afstanden staan op het programma:  hardlopen. Wilt u inschrijven voor dit loopevenement?  Raadpleeg hiervoor dan de website van de organisatie\nDe uitslagen van deze hardloopwedstrijd zijn te raadplegen via dezelfde website of via de bekende websites zoals uitslagen.nl\, runtimer en mylaps. Doet u mee met dit evenement\, zorg dan dat u goed voorbereid aan de start staat! Met een goed trainingsschema komt u een heel eind. Train bijvoorbeeld met start to run van Evy Gruyaert. Download de start to run mp3 bestanden en zet ze op uw telefoon. Oortjes in\, hit the play button en en rennen maar! \n\n\n\n\nMeer informatie over Ford Timmermanloop op Hardloopkalender.nl  \n  \n  \n 
URL:https://hardloopevenementen.com/loopagenda/ford-timmermanloop-wildervank/
END:VEVENT
END:VCALENDAR