BEGIN:VCALENDAR
VERSION:2.0
PRODID:-//Hardloopevenementen - ECPv6.15.14//NONSGML v1.0//EN
CALSCALE:GREGORIAN
METHOD:PUBLISH
X-ORIGINAL-URL:https://hardloopevenementen.com
X-WR-CALDESC:Evenementen voor Hardloopevenementen
REFRESH-INTERVAL;VALUE=DURATION:PT1H
X-Robots-Tag:noindex
X-PUBLISHED-TTL:PT1H
BEGIN:VTIMEZONE
TZID:UTC
BEGIN:STANDARD
TZOFFSETFROM:+0000
TZOFFSETTO:+0000
TZNAME:UTC
DTSTART:20090101T000000
END:STANDARD
END:VTIMEZONE
BEGIN:VEVENT
DTSTART;VALUE=DATE:20200410
DTEND;VALUE=DATE:20200411
DTSTAMP:20260420T064838
CREATED:20061009T185620Z
LAST-MODIFIED:20200206T111429Z
UID:145124-1586476800-1586476800@hardloopevenementen.com
SUMMARY:Hartloop Leusden Leusden (UT)
DESCRIPTION:Doe mee met het hardloopevenement Hartloop Leusden te Leusden (UT) op vr 10 apr 2020. De volgende afstanden staan op het programma: 5 km – 10 km hardlopen. Wilt u inschrijven voor dit loopevenement?  Raadpleeg hiervoor dan de website van de organisatie\nDe uitslagen van deze hardloopwedstrijd zijn te raadplegen via dezelfde website of via de bekende websites zoals uitslagen.nl\, runtimer en mylaps. Doet u mee met dit evenement\, zorg dan dat u goed voorbereid aan de start staat! Met een goed trainingsschema komt u een heel eind. Train bijvoorbeeld met start to run van Evy Gruyaert. Download de start to run mp3 bestanden en zet ze op uw telefoon. Oortjes in\, hit the play button en en rennen maar! \n\n\n\n\nMeer informatie over Hartloop Leusden op Hardloopkalender.nl  \nNa een geslaagd hardloop evenement van vorig jaar keert de Hartloop Leusden terug om dit jaar nog meer geld in te zamelen voor Stichting Hartekind. Op vrijdag 10 april is het zover\, ren 5 of 10 kilometer en geef kleine kinderen ook een kans op een goed leven. \n  \n  \n 
URL:https://hardloopevenementen.com/loopagenda/hartloop-leusden-leusden-ut/
END:VEVENT
BEGIN:VEVENT
DTSTART;VALUE=DATE:20190419
DTEND;VALUE=DATE:20190420
DTSTAMP:20260420T064838
CREATED:20170314T034241Z
LAST-MODIFIED:20191114T112700Z
UID:17738-1555632000-1555632000@hardloopevenementen.com
SUMMARY:Hartloop Leusden (UT)
DESCRIPTION:Doe mee met het hardloopevenement Hartloop te Leusden (UT) op vr 19 apr 2019. De volgende afstanden staan op het programma: 5 km – 10 km hardlopen. Wilt u inschrijven voor dit loopevenement?  Raadpleeg hiervoor dan de website van de organisatie\nDe uitslagen van deze hardloopwedstrijd zijn te raadplegen via dezelfde website of via de bekende websites zoals uitslagen.nl\, runtimer en mylaps. Doet u mee met dit evenement\, zorg dan dat u goed voorbereid aan de start staat! Met een goed trainingsschema komt u een heel eind. Train bijvoorbeeld met start to run van Evy Gruyaert. Download de start to run mp3 bestanden en zet ze op uw telefoon. Oortjes in\, hit the play button en en rennen maar! \n\n\n\n\nMeer informatie over Hartloop op Hardloopkalender.nl  \nOp 19 april 2019 wordt er een hardloopwedstrijd georganiseerd\, dat in het teken staat van het goede doel Stichting Hartekind. De wedstrijd wordt gehouden in Leusden en de start is om 19:30. U kunt kiezen om deel te nemen aan de 5 kilometer of aan de 10 kilometer. Voor meer informatie kunt u onze site bezoeken\, www.hartloop.nl. \n  \n  \n 
URL:https://hardloopevenementen.com/loopagenda/hartloop-leusden-ut/
END:VEVENT
BEGIN:VEVENT
DTSTART;VALUE=DATE:20100227
DTEND;VALUE=DATE:20100228
DTSTAMP:20260420T064838
CREATED:20080521T002444Z
LAST-MODIFIED:20190423T101354Z
UID:23940-1267228800-1267228800@hardloopevenementen.com
SUMMARY:Het Grachten Hartloop Festijn Meppel (DR)
DESCRIPTION:Doe mee met het hardloopevenement Het Grachten Hartloop Festijn te Meppel (DR) op za 27 feb 2010. De volgende afstanden staan op het programma: 1 km – 1\,5 km – 10 km hardlopen. Wilt u inschrijven voor dit loopevenement?  Raadpleeg hiervoor dan de website van de organisatie\nDe uitslagen van deze hardloopwedstrijd zijn te raadplegen via dezelfde website of via de bekende websites zoals uitslagen.nl\, runtimer en mylaps. Doet u mee met dit evenement\, zorg dan dat u goed voorbereid aan de start staat! Met een goed trainingsschema komt u een heel eind. Train bijvoorbeeld met start to run van Evy Gruyaert. Download de start to run mp3 bestanden en zet ze op uw telefoon. Oortjes in\, hit the play button en en rennen maar! \n\n\n\n\nMeer informatie over Het Grachten Hartloop Festijn op Hardloopkalender.nl  \nOp zaterdag 27 februari is er een hardloopwedstrijd in het hartje van Meppel langs de gerestaureerde grachten. De politieke partij Sterk Meppel organiseert het samen met Atletiek Vereniging Mc Donalds De Sprinter. Voor volwassenen is er een parcours van 10 km uitgezet\, voor de jeugd is er een kleiner parcours uitgezet van 1 of van 1½  km. Maar natuurlijk mogen de echte sportievelingen onder jullie ook met de 10 kilometerloop meedoen.    We doen dit om iedereen in Meppel te vertellen dat er binnenkort weer verkiezingen zijn. Maar natuurlijk ook omdat het gewoon gezond is om te bewegen en leuk is om samen sportief te zijn.    Wil jij ook meedoen?  Meld je dan aan op grachtenloop@SterkMeppel.nl of via de website van Sterk Meppel en kom zaterdag 27 februari om uiterlijk 13.00 uur naar de nieuwe gracht\, op het terrein voor B+O. Wij zouden het heel leuk vinden om jou daar te ontmoeten. En als je meedoet\, krijg je ook nog een leuk cadeautje!    Voor vragen kunnen jullie contact opnemen met: Peter de Vries.    Hopelijk zien we jullie!  Met sportieve groet\,    Mobiel telefoonnummer: 06-14936006  Mailadres: Peter.de.Vr@home.nl \n  \n  \n 
URL:https://hardloopevenementen.com/loopagenda/het-grachten-hartloop-festijn-meppel-dr/
END:VEVENT
END:VCALENDAR