BEGIN:VCALENDAR
VERSION:2.0
PRODID:-//Hardloopevenementen - ECPv6.15.14//NONSGML v1.0//EN
CALSCALE:GREGORIAN
METHOD:PUBLISH
X-WR-CALNAME:Hardloopevenementen
X-ORIGINAL-URL:https://hardloopevenementen.com
X-WR-CALDESC:Evenementen voor Hardloopevenementen
REFRESH-INTERVAL;VALUE=DURATION:PT1H
X-Robots-Tag:noindex
X-PUBLISHED-TTL:PT1H
BEGIN:VTIMEZONE
TZID:UTC
BEGIN:STANDARD
TZOFFSETFROM:+0000
TZOFFSETTO:+0000
TZNAME:UTC
DTSTART:20130101T000000
END:STANDARD
END:VTIMEZONE
BEGIN:VEVENT
DTSTART;VALUE=DATE:20161226
DTEND;VALUE=DATE:20161227
DTSTAMP:20260421T020247
CREATED:20150424T145025Z
LAST-MODIFIED:20190423T111958Z
UID:11346-1482710400-1482710400@hardloopevenementen.com
SUMMARY:De Belte Kerstcrossloop Nieuw-Heeten\, gemeente Raalte (OV)
DESCRIPTION:Doe mee met het hardloopevenement De Belte Kerstcrossloop te Nieuw-Heeten\, gemeente Raalte (OV) op ma 26 dec 2016. De volgende afstanden staan op het programma: 1 km – 2\,5 km – 5 km – 10 km hardlopen. Wilt u inschrijven voor dit loopevenement?  Raadpleeg hiervoor dan de website van de organisatie\nDe uitslagen van deze hardloopwedstrijd zijn te raadplegen via dezelfde website of via de bekende websites zoals uitslagen.nl\, runtimer en mylaps. Doet u mee met dit evenement\, zorg dan dat u goed voorbereid aan de start staat! Met een goed trainingsschema komt u een heel eind. Train bijvoorbeeld met start to run van Evy Gruyaert. Download de start to run mp3 bestanden en zet ze op uw telefoon. Oortjes in\, hit the play button en en rennen maar! \n\n\n\n\nMeer informatie over De Belte Kerstcrossloop op Hardloopkalender.nl  \nHet loopevenement De Belte Kerstcrossloop te Nieuw Heeten vindt plaats op maandag 26 december 2016. \n  \n  \n 
URL:https://hardloopevenementen.com/loopagenda/de-belte-kerstcrossloop-nieuw-heeten-gemeente-raalte-ov-2/
END:VEVENT
BEGIN:VEVENT
DTSTART;VALUE=DATE:20151226
DTEND;VALUE=DATE:20151227
DTSTAMP:20260421T020247
CREATED:20110720T093541Z
LAST-MODIFIED:20190423T110628Z
UID:9168-1451088000-1451088000@hardloopevenementen.com
SUMMARY:De Belte Kerstcrossloop Nieuw-Heeten\, gemeente Raalte (OV)
DESCRIPTION:Doe mee met het hardloopevenement De Belte Kerstcrossloop te Nieuw-Heeten\, gemeente Raalte (OV) op za 26 dec 2015. De volgende afstanden staan op het programma: 1 km – 2\,5 km – 5 km – 10 km hardlopen. Wilt u inschrijven voor dit loopevenement?  Raadpleeg hiervoor dan de website van de organisatie\nDe uitslagen van deze hardloopwedstrijd zijn te raadplegen via dezelfde website of via de bekende websites zoals uitslagen.nl\, runtimer en mylaps. Doet u mee met dit evenement\, zorg dan dat u goed voorbereid aan de start staat! Met een goed trainingsschema komt u een heel eind. Train bijvoorbeeld met start to run van Evy Gruyaert. Download de start to run mp3 bestanden en zet ze op uw telefoon. Oortjes in\, hit the play button en en rennen maar! \n\n\n\n\nMeer informatie over De Belte Kerstcrossloop op Hardloopkalender.nl  \nHet loopevenement De Belte Kerstcrossloop te Nieuw Heeten vindt plaats op zaterdag 26 december 2015. \n  \n  \n 
URL:https://hardloopevenementen.com/loopagenda/de-belte-kerstcrossloop-nieuw-heeten-gemeente-raalte-ov/
END:VEVENT
BEGIN:VEVENT
DTSTART;VALUE=DATE:20141226
DTEND;VALUE=DATE:20141227
DTSTAMP:20260421T020247
CREATED:20090601T101617Z
LAST-MODIFIED:20190423T104827Z
UID:8479-1419552000-1419552000@hardloopevenementen.com
SUMMARY:Rabobank Kerstcrossloop Nieuw-Heeten\, gemeente Raalte (OV)
DESCRIPTION:Doe mee met het hardloopevenement Rabobank Kerstcrossloop te Nieuw-Heeten\, gemeente Raalte (OV) op vr 26 dec 2014. De volgende afstanden staan op het programma: 1 km – 2\,5 km – 5 km – 10 km hardlopen. Wilt u inschrijven voor dit loopevenement?  Raadpleeg hiervoor dan de website van de organisatie\nDe uitslagen van deze hardloopwedstrijd zijn te raadplegen via dezelfde website of via de bekende websites zoals uitslagen.nl\, runtimer en mylaps. Doet u mee met dit evenement\, zorg dan dat u goed voorbereid aan de start staat! Met een goed trainingsschema komt u een heel eind. Train bijvoorbeeld met start to run van Evy Gruyaert. Download de start to run mp3 bestanden en zet ze op uw telefoon. Oortjes in\, hit the play button en en rennen maar! \n\n\n\n\nMeer informatie over Rabobank Kerstcrossloop op Hardloopkalender.nl  \nHet loopevenement Rabobank Kerstcrossloop te Nieuw Heeten vindt plaats op vrijdag 26 december 2014. De loop wordt georganisseerd door Sportvereniging Nieuw Heeten. Klik hier voor het adres van de start (Google Maps). \n  \n  \n 
URL:https://hardloopevenementen.com/loopagenda/rabobank-kerstcrossloop-nieuw-heeten-gemeente-raalte-ov/
END:VEVENT
END:VCALENDAR