BEGIN:VCALENDAR
VERSION:2.0
PRODID:-//Hardloopevenementen - ECPv6.15.14//NONSGML v1.0//EN
CALSCALE:GREGORIAN
METHOD:PUBLISH
X-WR-CALNAME:Hardloopevenementen
X-ORIGINAL-URL:https://hardloopevenementen.com
X-WR-CALDESC:Evenementen voor Hardloopevenementen
REFRESH-INTERVAL;VALUE=DURATION:PT1H
X-Robots-Tag:noindex
X-PUBLISHED-TTL:PT1H
BEGIN:VTIMEZONE
TZID:UTC
BEGIN:STANDARD
TZOFFSETFROM:+0000
TZOFFSETTO:+0000
TZNAME:UTC
DTSTART:20090101T000000
END:STANDARD
END:VTIMEZONE
BEGIN:VEVENT
DTSTART;VALUE=DATE:20190316
DTEND;VALUE=DATE:20190317
DTSTAMP:20260420T022818
CREATED:20100802T214846Z
LAST-MODIFIED:20191114T112736Z
UID:17623-1552694400-1552694400@hardloopevenementen.com
SUMMARY:Herperduin trailrun Herpen\, gemeente Oss (NB)
DESCRIPTION:Doe mee met het hardloopevenement Herperduin trailrun te Herpen\, gemeente Oss (NB) op za 16 mrt 2019. De volgende afstanden staan op het programma: 9 km – 11 km – 14 km – 18 km – 22 km – 26 km hardlopen. Wilt u inschrijven voor dit loopevenement?  Raadpleeg hiervoor dan de website van de organisatie\nDe uitslagen van deze hardloopwedstrijd zijn te raadplegen via dezelfde website of via de bekende websites zoals uitslagen.nl\, runtimer en mylaps. Doet u mee met dit evenement\, zorg dan dat u goed voorbereid aan de start staat! Met een goed trainingsschema komt u een heel eind. Train bijvoorbeeld met start to run van Evy Gruyaert. Download de start to run mp3 bestanden en zet ze op uw telefoon. Oortjes in\, hit the play button en en rennen maar! \n\n\n\n\nMeer informatie over Herperduin trailrun op Hardloopkalender.nl  \ndiverse trailafstanden in het mooie bos- en duinlandschap van Herpen oost Brabant. \n  \n  \n 
URL:https://hardloopevenementen.com/loopagenda/herperduin-trailrun-herpen-gemeente-oss-nb/
END:VEVENT
BEGIN:VEVENT
DTSTART;VALUE=DATE:20131222
DTEND;VALUE=DATE:20131223
DTSTAMP:20260420T022818
CREATED:20170208T102540Z
LAST-MODIFIED:20190423T103722Z
UID:7894-1387670400-1387670400@hardloopevenementen.com
SUMMARY:Herperduin cross Herpen\, gemeente Oss (NB)
DESCRIPTION:Doe mee met het hardloopevenement Herperduin cross te Herpen\, gemeente Oss (NB) op zo 22 dec 2013. De volgende afstanden staan op het programma:  hardlopen. Wilt u inschrijven voor dit loopevenement?  Raadpleeg hiervoor dan de website van de organisatie\nDe uitslagen van deze hardloopwedstrijd zijn te raadplegen via dezelfde website of via de bekende websites zoals uitslagen.nl\, runtimer en mylaps. Doet u mee met dit evenement\, zorg dan dat u goed voorbereid aan de start staat! Met een goed trainingsschema komt u een heel eind. Train bijvoorbeeld met start to run van Evy Gruyaert. Download de start to run mp3 bestanden en zet ze op uw telefoon. Oortjes in\, hit the play button en en rennen maar! \n\n\n\n\nMeer informatie over Herperduin cross op Hardloopkalender.nl  \nHet loopevenement Herperduin cross te Herpen vindt plaats op zondag 22 december 2013. De loop wordt georganisseerd door AV Oss `78. Inschrijven is mogelijk vanaf 31 oktober 2009. Klik hier voor het adres van de start (Google Maps).Er is geen verkleedaccomodatie aanwezig. Er is EHBO aanwezig. Voor meer informatie:H.M.van Oorschotwedstrijden@avoss78.nl0412633163http:  www.avoss78.nl \n  \n  \n 
URL:https://hardloopevenementen.com/loopagenda/herperduin-cross-herpen-gemeente-oss-nb-3/
END:VEVENT
BEGIN:VEVENT
DTSTART;VALUE=DATE:20111218
DTEND;VALUE=DATE:20111219
DTSTAMP:20260420T022818
CREATED:20171111T135420Z
LAST-MODIFIED:20190423T101625Z
UID:5770-1324166400-1324166400@hardloopevenementen.com
SUMMARY:Herperduin cross Herpen\, gemeente Oss (NB)
DESCRIPTION:Doe mee met het hardloopevenement Herperduin cross te Herpen\, gemeente Oss (NB) op zo 18 dec 2011. De volgende afstanden staan op het programma: 4\,8 km – 9\,6 km hardlopen. Wilt u inschrijven voor dit loopevenement?  Raadpleeg hiervoor dan de website van de organisatie\nDe uitslagen van deze hardloopwedstrijd zijn te raadplegen via dezelfde website of via de bekende websites zoals uitslagen.nl\, runtimer en mylaps. Doet u mee met dit evenement\, zorg dan dat u goed voorbereid aan de start staat! Met een goed trainingsschema komt u een heel eind. Train bijvoorbeeld met start to run van Evy Gruyaert. Download de start to run mp3 bestanden en zet ze op uw telefoon. Oortjes in\, hit the play button en en rennen maar! \n\n\n\n\nMeer informatie over Herperduin cross op Hardloopkalender.nl  \nHet loopevenement Herperduin cross te Herpen vindt plaats op zondag 18 december 2011. De loop wordt georganiseerd door AV Oss `78. Inschrijven is mogelijk vanaf 31 oktober 2011. Klik hier voor het adres van de start (Google Maps).Er is geen verkleedaccomodatie aanwezig. Er is EHBO aanwezig. Afstand(km)Inschrijfgeld(€)Starttijd9\,6€4\,0010uur4\,8€4\,0010uurVoor meer informatie:H.M.van Oorschotwedstrijden@avoss78.nl0412633163http:  www.avoss78.nl \n  \n  \n 
URL:https://hardloopevenementen.com/loopagenda/herperduin-cross-herpen-gemeente-oss-nb-2/
END:VEVENT
BEGIN:VEVENT
DTSTART;VALUE=DATE:20101219
DTEND;VALUE=DATE:20101220
DTSTAMP:20260420T022818
CREATED:20120820T140204Z
LAST-MODIFIED:20190423T100542Z
UID:3065-1292716800-1292716800@hardloopevenementen.com
SUMMARY:Herperduin cross Herpen\, gemeente Oss (NB)
DESCRIPTION:Doe mee met het hardloopevenement Herperduin cross te Herpen\, gemeente Oss (NB) op zo 19 dec 2010. De volgende afstanden staan op het programma: 4\,8 km – 9\,6 km hardlopen. Wilt u inschrijven voor dit loopevenement?  Raadpleeg hiervoor dan de website van de organisatie\nDe uitslagen van deze hardloopwedstrijd zijn te raadplegen via dezelfde website of via de bekende websites zoals uitslagen.nl\, runtimer en mylaps. Doet u mee met dit evenement\, zorg dan dat u goed voorbereid aan de start staat! Met een goed trainingsschema komt u een heel eind. Train bijvoorbeeld met start to run van Evy Gruyaert. Download de start to run mp3 bestanden en zet ze op uw telefoon. Oortjes in\, hit the play button en en rennen maar! \n\n\n\n\nMeer informatie over Herperduin cross op Hardloopkalender.nl  \nDit loopevenement wordt georganiseerd door AV Oss `78.De eerste afstand (of onderdeel) start om 10:00.Het adres van de start en de finish is Schaijkseweg 3Categorie(ën): mannen\, vrouwen\, jeugdVooraf inschrijven is mogelijk vanaf 31 oktober 2009 tot 31 oktober 2009.Inschrijven op de dag van de loop is mogelijk (vanaf onbekend) op dit adres: In het bos nabij Zwembad “de Kriekenput “.Meer informatie:Contactpersoon: H.M.van OorschotTel.: 0412633163Email: wedstrijden@avoss78.nlEr is geen kleedaccomodatie aanwezig.Het parcours is verhard.Overige bijzonderheden:  snel loopparcours vanaf het in kerstsfeer verkerende Energie \n  \n  \n 
URL:https://hardloopevenementen.com/loopagenda/herperduin-cross-herpen-gemeente-oss-nb/
END:VEVENT
END:VCALENDAR