BEGIN:VCALENDAR
VERSION:2.0
PRODID:-//Hardloopevenementen - ECPv6.15.14//NONSGML v1.0//EN
CALSCALE:GREGORIAN
METHOD:PUBLISH
X-ORIGINAL-URL:https://hardloopevenementen.com
X-WR-CALDESC:Evenementen voor Hardloopevenementen
REFRESH-INTERVAL;VALUE=DURATION:PT1H
X-Robots-Tag:noindex
X-PUBLISHED-TTL:PT1H
BEGIN:VTIMEZONE
TZID:UTC
BEGIN:STANDARD
TZOFFSETFROM:+0000
TZOFFSETTO:+0000
TZNAME:UTC
DTSTART:20140101T000000
END:STANDARD
END:VTIMEZONE
BEGIN:VEVENT
DTSTART;VALUE=DATE:20170924
DTEND;VALUE=DATE:20170925
DTSTAMP:20260425T184803
CREATED:20170623T195249Z
LAST-MODIFIED:20190423T114351Z
UID:14057-1506211200-1506211200@hardloopevenementen.com
SUMMARY:De 10 van Sportshop Heshof Steenbergen (NB)
DESCRIPTION:Doe mee met het hardloopevenement De 10 van Sportshop Heshof te Steenbergen (NB) op zo 24 sep 2017. De volgende afstanden staan op het programma: 5 km – 10 km hardlopen. Wilt u inschrijven voor dit loopevenement?  Raadpleeg hiervoor dan de website van de organisatie\nDe uitslagen van deze hardloopwedstrijd zijn te raadplegen via dezelfde website of via de bekende websites zoals uitslagen.nl\, runtimer en mylaps. Doet u mee met dit evenement\, zorg dan dat u goed voorbereid aan de start staat! Met een goed trainingsschema komt u een heel eind. Train bijvoorbeeld met start to run van Evy Gruyaert. Download de start to run mp3 bestanden en zet ze op uw telefoon. Oortjes in\, hit the play button en en rennen maar! \n\n\n\n\nMeer informatie over De 10 van Sportshop Heshof op Hardloopkalender.nl  \nStartlocatie: Kaaistraat 11\, Steenbergen.  Aanvang: 11:00.  Voorinschrijving: Sportshop Heshof.  Inschrijving: ter plaatse\, tot 30 min voor de start.  Inschrijfgeld: 5 (komt ten goede van de Roparun) \n  \n  \n 
URL:https://hardloopevenementen.com/loopagenda/de-10-van-sportshop-heshof-steenbergen-nb/
END:VEVENT
BEGIN:VEVENT
DTSTART;VALUE=DATE:20150919
DTEND;VALUE=DATE:20150920
DTSTAMP:20260425T184803
CREATED:20100712T072356Z
LAST-MODIFIED:20190423T110908Z
UID:9762-1442620800-1442620800@hardloopevenementen.com
SUMMARY:8 van Heshof Steenbergen (NB)
DESCRIPTION:Doe mee met het hardloopevenement 8 van Heshof te Steenbergen (NB) op za 19 sep 2015. De volgende afstanden staan op het programma: 1\,3 km – 5 km – 10 km hardlopen. Wilt u inschrijven voor dit loopevenement?  Raadpleeg hiervoor dan de website van de organisatie\nDe uitslagen van deze hardloopwedstrijd zijn te raadplegen via dezelfde website of via de bekende websites zoals uitslagen.nl\, runtimer en mylaps. Doet u mee met dit evenement\, zorg dan dat u goed voorbereid aan de start staat! Met een goed trainingsschema komt u een heel eind. Train bijvoorbeeld met start to run van Evy Gruyaert. Download de start to run mp3 bestanden en zet ze op uw telefoon. Oortjes in\, hit the play button en en rennen maar! \n\n\n\n\nMeer informatie over 8 van Heshof op Hardloopkalender.nl  \nHet loopevenement 8 van Heshof te Steenbergen Nb vindt plaats op zaterdag 19 september 2015. \n  \n  \n 
URL:https://hardloopevenementen.com/loopagenda/8-van-heshof-steenbergen-nb/
END:VEVENT
END:VCALENDAR