BEGIN:VCALENDAR
VERSION:2.0
PRODID:-//Hardloopevenementen - ECPv6.15.14//NONSGML v1.0//EN
CALSCALE:GREGORIAN
METHOD:PUBLISH
X-WR-CALNAME:Hardloopevenementen
X-ORIGINAL-URL:https://hardloopevenementen.com
X-WR-CALDESC:Evenementen voor Hardloopevenementen
REFRESH-INTERVAL;VALUE=DURATION:PT1H
X-Robots-Tag:noindex
X-PUBLISHED-TTL:PT1H
BEGIN:VTIMEZONE
TZID:UTC
BEGIN:STANDARD
TZOFFSETFROM:+0000
TZOFFSETTO:+0000
TZNAME:UTC
DTSTART:20150101T000000
END:STANDARD
END:VTIMEZONE
BEGIN:VEVENT
DTSTART;VALUE=DATE:20170924
DTEND;VALUE=DATE:20170925
DTSTAMP:20260422T023951
CREATED:20150330T073324Z
LAST-MODIFIED:20190423T114345Z
UID:14027-1506211200-1506211200@hardloopevenementen.com
SUMMARY:7 Heuvelen Trailrun Heerde (GE)
DESCRIPTION:Doe mee met het hardloopevenement 7 Heuvelen Trailrun te Heerde (GE) op zo 24 sep 2017. De volgende afstanden staan op het programma: 10 Engelse mijl – 20 km hardlopen. Wilt u inschrijven voor dit loopevenement?  Raadpleeg hiervoor dan de website van de organisatie\nDe uitslagen van deze hardloopwedstrijd zijn te raadplegen via dezelfde website of via de bekende websites zoals uitslagen.nl\, runtimer en mylaps. Doet u mee met dit evenement\, zorg dan dat u goed voorbereid aan de start staat! Met een goed trainingsschema komt u een heel eind. Train bijvoorbeeld met start to run van Evy Gruyaert. Download de start to run mp3 bestanden en zet ze op uw telefoon. Oortjes in\, hit the play button en en rennen maar! \n\n\n\n\nMeer informatie over 7 Heuvelen Trailrun op Hardloopkalender.nl  \n7 Heuvelen Trailrun  24 September 2017    7 Heuvelen Trailrun  7 Heuvelen Trailrun is op zondag 24 september 2017 om 09.30 uur. Snelheid indicatie voor deelnemers: de halve marathon ruim binnen de 2 uur kunnen afleggen. De organisatie is door trailrunning Veluwe. De start is aan de Elburegerweg 31 te Heerde: de kiosk bij De Schaapskooi ter plaatse. De trailrun gaat volledig over de heide bij de Heerde en Epe. Het gebied rondom de schaapskooi heet De Renderklippen. Bekend van de uitgestrekte heidevelden in combinatie met bos. Zeer fraaie heuvels welke op de Veluwe in overal in Nederland bergen heten!  Meedoen!    Direct inschrijven kan HIER of met een e-mail naar info@trailrunning-veluwe.nl. De kosten voor één event zijn  10\,- en voor  20\,- per jaar kun je al drie trailsruns deelnemen (exclusief de Veluwe Marathon   Summertrail). Bij het inschrijven heb je verschillende keuze opties om direct voor meerdere trails in te schrijven. Zelfs voor een heel jaar. Na je inschrijving ontvang je een bevestiging. \n  \n  \n 
URL:https://hardloopevenementen.com/loopagenda/7-heuvelen-trailrun-heerde-ge-2/
END:VEVENT
BEGIN:VEVENT
DTSTART;VALUE=DATE:20160925
DTEND;VALUE=DATE:20160926
DTSTAMP:20260422T023951
CREATED:20090516T011550Z
LAST-MODIFIED:20190423T112156Z
UID:11875-1474761600-1474761600@hardloopevenementen.com
SUMMARY:7 Heuvelen Trailrun Heerde (GE)
DESCRIPTION:Doe mee met het hardloopevenement 7 Heuvelen Trailrun te Heerde (GE) op zo 25 sep 2016. De volgende afstanden staan op het programma: 10 Engelse mijl – halve marathon hardlopen. Wilt u inschrijven voor dit loopevenement?  Raadpleeg hiervoor dan de website van de organisatie\nDe uitslagen van deze hardloopwedstrijd zijn te raadplegen via dezelfde website of via de bekende websites zoals uitslagen.nl\, runtimer en mylaps. Doet u mee met dit evenement\, zorg dan dat u goed voorbereid aan de start staat! Met een goed trainingsschema komt u een heel eind. Train bijvoorbeeld met start to run van Evy Gruyaert. Download de start to run mp3 bestanden en zet ze op uw telefoon. Oortjes in\, hit the play button en en rennen maar! \n\n\n\n\nMeer informatie over 7 Heuvelen Trailrun op Hardloopkalender.nl  \n7 Heuvelen Trailrun  25 September 2016    7 Heuvelen Trailrun  7 Heuvelen Trailrun is op zondag 25 september 2016 om 09.30 uur. Snelheid indicatie voor deelnemers: de halve marathon ruim binnen de 2 uur kunnen afleggen. De organisatie is door trailrunning Veluwe. De start is aan de Elburegerweg 31 te Heerde: de kiosk bij De Schaapskooi ter plaatse. De trailrun gaat volledig over de heide bij de Heerde en Epe. Het gebied rondom de schaapskooi heet De Renderklippen. Bekend van de uitgestrekte heidevelden in combinatie met bos. Zeer fraie heuvels welke op de Veluwe in overal in Nederland bergen heten! \n  \n  \n 
URL:https://hardloopevenementen.com/loopagenda/7-heuvelen-trailrun-heerde-ge/
END:VEVENT
END:VCALENDAR