BEGIN:VCALENDAR
VERSION:2.0
PRODID:-//Hardloopevenementen - ECPv6.15.14//NONSGML v1.0//EN
CALSCALE:GREGORIAN
METHOD:PUBLISH
X-WR-CALNAME:Hardloopevenementen
X-ORIGINAL-URL:https://hardloopevenementen.com
X-WR-CALDESC:Evenementen voor Hardloopevenementen
REFRESH-INTERVAL;VALUE=DURATION:PT1H
X-Robots-Tag:noindex
X-PUBLISHED-TTL:PT1H
BEGIN:VTIMEZONE
TZID:UTC
BEGIN:STANDARD
TZOFFSETFROM:+0000
TZOFFSETTO:+0000
TZNAME:UTC
DTSTART:20130101T000000
END:STANDARD
END:VTIMEZONE
BEGIN:VEVENT
DTSTART;VALUE=DATE:20180821
DTEND;VALUE=DATE:20180822
DTSTAMP:20260424T005947
CREATED:20170701T215351Z
LAST-MODIFIED:20190423T120324Z
UID:16158-1534809600-1534809600@hardloopevenementen.com
SUMMARY:Hoevense Polderloop Hoeven\, gemeente Halderberge (NB)
DESCRIPTION:Doe mee met het hardloopevenement Hoevense Polderloop te Hoeven\, gemeente Halderberge (NB) op di 21 aug 2018. De volgende afstanden staan op het programma: 2 km – 4 km – 6 km – 10 km – 15 km hardlopen. Wilt u inschrijven voor dit loopevenement?  Raadpleeg hiervoor dan de website van de organisatie\nDe uitslagen van deze hardloopwedstrijd zijn te raadplegen via dezelfde website of via de bekende websites zoals uitslagen.nl\, runtimer en mylaps. Doet u mee met dit evenement\, zorg dan dat u goed voorbereid aan de start staat! Met een goed trainingsschema komt u een heel eind. Train bijvoorbeeld met start to run van Evy Gruyaert. Download de start to run mp3 bestanden en zet ze op uw telefoon. Oortjes in\, hit the play button en en rennen maar! \n\n\n\n\nMeer informatie over Hoevense Polderloop op Hardloopkalender.nl  \nHardloopwedstrijd in de Hoevense polder.  Starttijd voor alle afstanden 19.30 uur \n  \n  \n 
URL:https://hardloopevenementen.com/loopagenda/hoevense-polderloop-hoeven-gemeente-halderberge-nb/
END:VEVENT
BEGIN:VEVENT
DTSTART;VALUE=DATE:20150818
DTEND;VALUE=DATE:20150819
DTSTAMP:20260424T005947
CREATED:20100326T124400Z
LAST-MODIFIED:20190423T111009Z
UID:9981-1439856000-1439856000@hardloopevenementen.com
SUMMARY:34e Hoevense Polderloop Hoeven\, gemeente Halderberge (NB)
DESCRIPTION:Doe mee met het hardloopevenement 34e Hoevense Polderloop te Hoeven\, gemeente Halderberge (NB) op di 18 aug 2015. De volgende afstanden staan op het programma: 2 km – 4 km – 6 km – 10 km – 15 km hardlopen. Wilt u inschrijven voor dit loopevenement?  Raadpleeg hiervoor dan de website van de organisatie\nDe uitslagen van deze hardloopwedstrijd zijn te raadplegen via dezelfde website of via de bekende websites zoals uitslagen.nl\, runtimer en mylaps. Doet u mee met dit evenement\, zorg dan dat u goed voorbereid aan de start staat! Met een goed trainingsschema komt u een heel eind. Train bijvoorbeeld met start to run van Evy Gruyaert. Download de start to run mp3 bestanden en zet ze op uw telefoon. Oortjes in\, hit the play button en en rennen maar! \n\n\n\n\nMeer informatie over 34e Hoevense Polderloop op Hardloopkalender.nl  \nHet loopevenement 34e Hoevense Polderloop te Hoeven vindt plaats op dinsdag 18 augustus 2015. \n  \n  \n 
URL:https://hardloopevenementen.com/loopagenda/34e-hoevense-polderloop-hoeven-gemeente-halderberge-nb/
END:VEVENT
BEGIN:VEVENT
DTSTART;VALUE=DATE:20140819
DTEND;VALUE=DATE:20140820
DTSTAMP:20260424T005947
CREATED:20140509T163231Z
LAST-MODIFIED:20190423T105235Z
UID:33483-1408406400-1408406400@hardloopevenementen.com
SUMMARY:Hoevense Polderloop Hoeven\, gemeente Gemert-Bakel (NB)
DESCRIPTION:Doe mee met het hardloopevenement Hoevense Polderloop te Hoeven\, gemeente Gemert-Bakel (NB) op di 19 aug 2014. De volgende afstanden staan op het programma: 2 km – 4 km – 6 km – 10 km – 15 km hardlopen. Wilt u inschrijven voor dit loopevenement?  Raadpleeg hiervoor dan de website van de organisatie\nDe uitslagen van deze hardloopwedstrijd zijn te raadplegen via dezelfde website of via de bekende websites zoals uitslagen.nl\, runtimer en mylaps. Doet u mee met dit evenement\, zorg dan dat u goed voorbereid aan de start staat! Met een goed trainingsschema komt u een heel eind. Train bijvoorbeeld met start to run van Evy Gruyaert. Download de start to run mp3 bestanden en zet ze op uw telefoon. Oortjes in\, hit the play button en en rennen maar! \n\n\n\n\nMeer informatie over Hoevense Polderloop op Hardloopkalender.nl  \nHet loopevenement Hoevense Polderloop te Hoeven vindt plaats op dinsdag 19 augustus 2014. De loop wordt georganisseerd door Stichting Hoevense Polderloop. Klik hier voor het adres van de start (Google Maps). \n  \n  \n 
URL:https://hardloopevenementen.com/loopagenda/hoevense-polderloop-hoeven-gemeente-gemert-bakel-nb/
END:VEVENT
END:VCALENDAR