BEGIN:VCALENDAR
VERSION:2.0
PRODID:-//Hardloopevenementen - ECPv6.15.14//NONSGML v1.0//EN
CALSCALE:GREGORIAN
METHOD:PUBLISH
X-WR-CALNAME:Hardloopevenementen
X-ORIGINAL-URL:https://hardloopevenementen.com
X-WR-CALDESC:Evenementen voor Hardloopevenementen
REFRESH-INTERVAL;VALUE=DURATION:PT1H
X-Robots-Tag:noindex
X-PUBLISHED-TTL:PT1H
BEGIN:VTIMEZONE
TZID:UTC
BEGIN:STANDARD
TZOFFSETFROM:+0000
TZOFFSETTO:+0000
TZNAME:UTC
DTSTART:20130101T000000
END:STANDARD
END:VTIMEZONE
BEGIN:VEVENT
DTSTART;VALUE=DATE:20190331
DTEND;VALUE=DATE:20190401
DTSTAMP:20260422T214058
CREATED:20070406T150608Z
LAST-MODIFIED:20191114T112720Z
UID:17543-1553990400-1553990400@hardloopevenementen.com
SUMMARY:Hollen door de Bollen Lisse (ZH)
DESCRIPTION:Doe mee met het hardloopevenement Hollen door de Bollen te Lisse (ZH) op zo 31 mrt 2019. De volgende afstanden staan op het programma: 5 km – 10 km – 10 Engelse mijl hardlopen. Wilt u inschrijven voor dit loopevenement?  Raadpleeg hiervoor dan de website van de organisatie\nDe uitslagen van deze hardloopwedstrijd zijn te raadplegen via dezelfde website of via de bekende websites zoals uitslagen.nl\, runtimer en mylaps. Doet u mee met dit evenement\, zorg dan dat u goed voorbereid aan de start staat! Met een goed trainingsschema komt u een heel eind. Train bijvoorbeeld met start to run van Evy Gruyaert. Download de start to run mp3 bestanden en zet ze op uw telefoon. Oortjes in\, hit the play button en en rennen maar! \n\n\n\n\nMeer informatie over Hollen door de Bollen op Hardloopkalender.nl  \nDe opbrengst van deze loop gaat naar Team Bollenstreek voor stichting De Roparun tbv palliatieve zorg voor kankerpatienten. \n  \n  \n 
URL:https://hardloopevenementen.com/loopagenda/hollen-door-de-bollen-lisse-zh-4/
END:VEVENT
BEGIN:VEVENT
DTSTART;VALUE=DATE:20180408
DTEND;VALUE=DATE:20180409
DTSTAMP:20260422T214058
CREATED:20161018T102834Z
LAST-MODIFIED:20190423T120544Z
UID:16788-1523145600-1523145600@hardloopevenementen.com
SUMMARY:Hollen door de Bollen Lisse (ZH)
DESCRIPTION:Doe mee met het hardloopevenement Hollen door de Bollen te Lisse (ZH) op zo 08 apr 2018. De volgende afstanden staan op het programma: 5 km – 6\,5 km – 10 km – halve marathon hardlopen. Wilt u inschrijven voor dit loopevenement?  Raadpleeg hiervoor dan de website van de organisatie\nDe uitslagen van deze hardloopwedstrijd zijn te raadplegen via dezelfde website of via de bekende websites zoals uitslagen.nl\, runtimer en mylaps. Doet u mee met dit evenement\, zorg dan dat u goed voorbereid aan de start staat! Met een goed trainingsschema komt u een heel eind. Train bijvoorbeeld met start to run van Evy Gruyaert. Download de start to run mp3 bestanden en zet ze op uw telefoon. Oortjes in\, hit the play button en en rennen maar! \n\n\n\n\nMeer informatie over Hollen door de Bollen op Hardloopkalender.nl  \nHardloop- en wandelevenement tbv Stichting de Roparun.    De 5 en 10 km zijn trimlopen.  De 6\,5  10 en 21 km zijn wandeltochten.    Alle afstanden gaan langs de prachtige bollenvelden. \n  \n  \n 
URL:https://hardloopevenementen.com/loopagenda/hollen-door-de-bollen-lisse-zh-3/
END:VEVENT
BEGIN:VEVENT
DTSTART;VALUE=DATE:20170409
DTEND;VALUE=DATE:20170410
DTSTAMP:20260422T214058
CREATED:20160424T074859Z
LAST-MODIFIED:20190423T114713Z
UID:14963-1491696000-1491696000@hardloopevenementen.com
SUMMARY:Hollen door de Bollen 2017 Lisse (ZH)
DESCRIPTION:Doe mee met het hardloopevenement Hollen door de Bollen 2017 te Lisse (ZH) op zo 09 apr 2017. De volgende afstanden staan op het programma: 5 km – 10 km hardlopen. Wilt u inschrijven voor dit loopevenement?  Raadpleeg hiervoor dan de website van de organisatie\nDe uitslagen van deze hardloopwedstrijd zijn te raadplegen via dezelfde website of via de bekende websites zoals uitslagen.nl\, runtimer en mylaps. Doet u mee met dit evenement\, zorg dan dat u goed voorbereid aan de start staat! Met een goed trainingsschema komt u een heel eind. Train bijvoorbeeld met start to run van Evy Gruyaert. Download de start to run mp3 bestanden en zet ze op uw telefoon. Oortjes in\, hit the play button en en rennen maar! \n\n\n\n\nMeer informatie over Hollen door de Bollen 2017 op Hardloopkalender.nl  \nTevens ook een wandeltocht. Voor meer informatie check de site. \n  \n  \n 
URL:https://hardloopevenementen.com/loopagenda/hollen-door-de-bollen-2017-lisse-zh/
END:VEVENT
BEGIN:VEVENT
DTSTART;VALUE=DATE:20160410
DTEND;VALUE=DATE:20160411
DTSTAMP:20260422T214058
CREATED:20170301T015103Z
LAST-MODIFIED:20190423T112606Z
UID:12976-1460246400-1460246400@hardloopevenementen.com
SUMMARY:Hollen door de Bollen Lisse (ZH)
DESCRIPTION:Doe mee met het hardloopevenement Hollen door de Bollen te Lisse (ZH) op zo 10 apr 2016. De volgende afstanden staan op het programma: 5 km – 10 km hardlopen. Wilt u inschrijven voor dit loopevenement?  Raadpleeg hiervoor dan de website van de organisatie\nDe uitslagen van deze hardloopwedstrijd zijn te raadplegen via dezelfde website of via de bekende websites zoals uitslagen.nl\, runtimer en mylaps. Doet u mee met dit evenement\, zorg dan dat u goed voorbereid aan de start staat! Met een goed trainingsschema komt u een heel eind. Train bijvoorbeeld met start to run van Evy Gruyaert. Download de start to run mp3 bestanden en zet ze op uw telefoon. Oortjes in\, hit the play button en en rennen maar! \n\n\n\n\nMeer informatie over Hollen door de Bollen op Hardloopkalender.nl  \nDe totale opbrengst gaat naar Stichting de Roparun \n  \n  \n 
URL:https://hardloopevenementen.com/loopagenda/hollen-door-de-bollen-lisse-zh-2/
END:VEVENT
BEGIN:VEVENT
DTSTART;VALUE=DATE:20150419
DTEND;VALUE=DATE:20150420
DTSTAMP:20260422T214058
CREATED:20110611T022233Z
LAST-MODIFIED:20190423T111257Z
UID:10644-1429401600-1429401600@hardloopevenementen.com
SUMMARY:Hollen door de Bollen Lisse (ZH)
DESCRIPTION:Doe mee met het hardloopevenement Hollen door de Bollen te Lisse (ZH) op zo 19 apr 2015. De volgende afstanden staan op het programma: 1\,3 km – 5 km – 6\,5 km – 10 km hardlopen. Wilt u inschrijven voor dit loopevenement?  Raadpleeg hiervoor dan de website van de organisatie\nDe uitslagen van deze hardloopwedstrijd zijn te raadplegen via dezelfde website of via de bekende websites zoals uitslagen.nl\, runtimer en mylaps. Doet u mee met dit evenement\, zorg dan dat u goed voorbereid aan de start staat! Met een goed trainingsschema komt u een heel eind. Train bijvoorbeeld met start to run van Evy Gruyaert. Download de start to run mp3 bestanden en zet ze op uw telefoon. Oortjes in\, hit the play button en en rennen maar! \n\n\n\n\nMeer informatie over Hollen door de Bollen op Hardloopkalender.nl  \nUniek parcours tussen de bollen door. De opbrengst gaat volledig naar Stichting de Roparun. \n  \n  \n 
URL:https://hardloopevenementen.com/loopagenda/hollen-door-de-bollen-lisse-zh/
END:VEVENT
BEGIN:VEVENT
DTSTART;VALUE=DATE:20140427
DTEND;VALUE=DATE:20140428
DTSTAMP:20260422T214058
CREATED:20180331T200207Z
LAST-MODIFIED:20190423T105557Z
UID:34230-1398556800-1398556800@hardloopevenementen.com
SUMMARY:Hollen door de Bollen Lisse (ZH)
DESCRIPTION:Doe mee met het hardloopevenement Hollen door de Bollen te Lisse (ZH) op zo 27 apr 2014. De volgende afstanden staan op het programma: 5 km – 10 km hardlopen. Wilt u inschrijven voor dit loopevenement?  Raadpleeg hiervoor dan de website van de organisatie\nDe uitslagen van deze hardloopwedstrijd zijn te raadplegen via dezelfde website of via de bekende websites zoals uitslagen.nl\, runtimer en mylaps. Doet u mee met dit evenement\, zorg dan dat u goed voorbereid aan de start staat! Met een goed trainingsschema komt u een heel eind. Train bijvoorbeeld met start to run van Evy Gruyaert. Download de start to run mp3 bestanden en zet ze op uw telefoon. Oortjes in\, hit the play button en en rennen maar! \n\n\n\n\nMeer informatie over Hollen door de Bollen op Hardloopkalender.nl  \nUniek parcours tussen de bloembollenvelden en door het Keukenhofbos.  De gehele opbrengst gaat naar Team Bollenstreek van Stichting Roparun.  http:  www.teambollenstreek.nl  http:  www.roparun.nl \n  \n  \n 
URL:https://hardloopevenementen.com/loopagenda/hollen-door-de-bollen-lisse-zh-5/
END:VEVENT
END:VCALENDAR