BEGIN:VCALENDAR
VERSION:2.0
PRODID:-//Hardloopevenementen - ECPv6.15.14//NONSGML v1.0//EN
CALSCALE:GREGORIAN
METHOD:PUBLISH
X-ORIGINAL-URL:https://hardloopevenementen.com
X-WR-CALDESC:Evenementen voor Hardloopevenementen
REFRESH-INTERVAL;VALUE=DURATION:PT1H
X-Robots-Tag:noindex
X-PUBLISHED-TTL:PT1H
BEGIN:VTIMEZONE
TZID:UTC
BEGIN:STANDARD
TZOFFSETFROM:+0000
TZOFFSETTO:+0000
TZNAME:UTC
DTSTART:20130101T000000
END:STANDARD
END:VTIMEZONE
BEGIN:VEVENT
DTSTART;VALUE=DATE:20151121
DTEND;VALUE=DATE:20151122
DTSTAMP:20260424T230842
CREATED:20170919T075459Z
LAST-MODIFIED:20190423T110720Z
UID:9364-1448064000-1448064000@hardloopevenementen.com
SUMMARY:Run for Hope Dordrecht (ZH)
DESCRIPTION:Doe mee met het hardloopevenement Run for Hope te Dordrecht (ZH) op za 21 nov 2015. De volgende afstanden staan op het programma: 0 km hardlopen. Wilt u inschrijven voor dit loopevenement?  Raadpleeg hiervoor dan de website van de organisatie\nDe uitslagen van deze hardloopwedstrijd zijn te raadplegen via dezelfde website of via de bekende websites zoals uitslagen.nl\, runtimer en mylaps. Doet u mee met dit evenement\, zorg dan dat u goed voorbereid aan de start staat! Met een goed trainingsschema komt u een heel eind. Train bijvoorbeeld met start to run van Evy Gruyaert. Download de start to run mp3 bestanden en zet ze op uw telefoon. Oortjes in\, hit the play button en en rennen maar! \n\n\n\n\nMeer informatie over Run for Hope op Hardloopkalender.nl  \nHelaas is de Run for Hope van 21 november geannuleerd door te weinig aanmeldingen. \n  \n  \n 
URL:https://hardloopevenementen.com/loopagenda/run-for-hope-dordrecht-zh/
END:VEVENT
BEGIN:VEVENT
DTSTART;VALUE=DATE:20140629
DTEND;VALUE=DATE:20140630
DTSTAMP:20260424T230842
CREATED:20110830T115659Z
LAST-MODIFIED:20190423T105341Z
UID:33718-1404000000-1404000000@hardloopevenementen.com
SUMMARY:Run for Hope Landsmeer (NH)
DESCRIPTION:Doe mee met het hardloopevenement Run for Hope te Landsmeer (NH) op zo 29 jun 2014. De volgende afstanden staan op het programma: 5 km hardlopen. Wilt u inschrijven voor dit loopevenement?  Raadpleeg hiervoor dan de website van de organisatie\nDe uitslagen van deze hardloopwedstrijd zijn te raadplegen via dezelfde website of via de bekende websites zoals uitslagen.nl\, runtimer en mylaps. Doet u mee met dit evenement\, zorg dan dat u goed voorbereid aan de start staat! Met een goed trainingsschema komt u een heel eind. Train bijvoorbeeld met start to run van Evy Gruyaert. Download de start to run mp3 bestanden en zet ze op uw telefoon. Oortjes in\, hit the play button en en rennen maar! \n\n\n\n\nMeer informatie over Run for Hope op Hardloopkalender.nl  \nHardloop evenement voor goed doel:  Run for Hope is the fundraising event of Education for Hope in 2014.  The goal of Education for Hope is to send children to school in Ethiopia and provide them with medical care. To find out more about our project please visit:  www.educationforhope.com \n  \n  \n 
URL:https://hardloopevenementen.com/loopagenda/run-for-hope-landsmeer-nh/
END:VEVENT
END:VCALENDAR