BEGIN:VCALENDAR
VERSION:2.0
PRODID:-//Hardloopevenementen - ECPv6.15.14//NONSGML v1.0//EN
CALSCALE:GREGORIAN
METHOD:PUBLISH
X-WR-CALNAME:Hardloopevenementen
X-ORIGINAL-URL:https://hardloopevenementen.com
X-WR-CALDESC:Evenementen voor Hardloopevenementen
REFRESH-INTERVAL;VALUE=DURATION:PT1H
X-Robots-Tag:noindex
X-PUBLISHED-TTL:PT1H
BEGIN:VTIMEZONE
TZID:UTC
BEGIN:STANDARD
TZOFFSETFROM:+0000
TZOFFSETTO:+0000
TZNAME:UTC
DTSTART:20160101T000000
END:STANDARD
END:VTIMEZONE
BEGIN:VEVENT
DTSTART;VALUE=DATE:20200826
DTEND;VALUE=DATE:20200827
DTSTAMP:20260422T172429
CREATED:20090912T052844Z
LAST-MODIFIED:20200206T111259Z
UID:144744-1598400000-1598400000@hardloopevenementen.com
SUMMARY:VISSER IJDAGENLOOP Harlingen (FR)
DESCRIPTION:Doe mee met het hardloopevenement VISSER IJDAGENLOOP te Harlingen (FR) op wo 26 aug 2020. De volgende afstanden staan op het programma: 3 km – 5 km – 10 km – 10 Engelse mijl hardlopen. Wilt u inschrijven voor dit loopevenement?  Raadpleeg hiervoor dan de website van de organisatie\nDe uitslagen van deze hardloopwedstrijd zijn te raadplegen via dezelfde website of via de bekende websites zoals uitslagen.nl\, runtimer en mylaps. Doet u mee met dit evenement\, zorg dan dat u goed voorbereid aan de start staat! Met een goed trainingsschema komt u een heel eind. Train bijvoorbeeld met start to run van Evy Gruyaert. Download de start to run mp3 bestanden en zet ze op uw telefoon. Oortjes in\, hit the play button en en rennen maar! \n\n\n\n\nMeer informatie over VISSER IJDAGENLOOP op Hardloopkalender.nl  \n  \n  \n 
URL:https://hardloopevenementen.com/loopagenda/visser-ijdagenloop-harlingen-fr-4/
END:VEVENT
BEGIN:VEVENT
DTSTART;VALUE=DATE:20190828
DTEND;VALUE=DATE:20190829
DTSTAMP:20260422T172429
CREATED:20141023T202504Z
LAST-MODIFIED:20191114T112507Z
UID:43397-1566950400-1566950400@hardloopevenementen.com
SUMMARY:VISSER IJDAGENLOOP Harlingen (FR)
DESCRIPTION:Doe mee met het hardloopevenement VISSER IJDAGENLOOP te Harlingen (FR) op wo 28 aug 2019. De volgende afstanden staan op het programma: 5 km – 10 km – 10 Engelse mijl hardlopen. Wilt u inschrijven voor dit loopevenement?  Raadpleeg hiervoor dan de website van de organisatie\nDe uitslagen van deze hardloopwedstrijd zijn te raadplegen via dezelfde website of via de bekende websites zoals uitslagen.nl\, runtimer en mylaps. Doet u mee met dit evenement\, zorg dan dat u goed voorbereid aan de start staat! Met een goed trainingsschema komt u een heel eind. Train bijvoorbeeld met start to run van Evy Gruyaert. Download de start to run mp3 bestanden en zet ze op uw telefoon. Oortjes in\, hit the play button en en rennen maar! \n\n\n\n\nMeer informatie over VISSER IJDAGENLOOP op Hardloopkalender.nl  \n  \n  \n 
URL:https://hardloopevenementen.com/loopagenda/visser-ijdagenloop-harlingen-fr-3/
END:VEVENT
BEGIN:VEVENT
DTSTART;VALUE=DATE:20180829
DTEND;VALUE=DATE:20180830
DTSTAMP:20260422T172429
CREATED:20100813T225117Z
LAST-MODIFIED:20190423T120313Z
UID:16109-1535500800-1535500800@hardloopevenementen.com
SUMMARY:VISSER IJDAGENLOOP Harlingen (FR)
DESCRIPTION:Doe mee met het hardloopevenement VISSER IJDAGENLOOP te Harlingen (FR) op wo 29 aug 2018. De volgende afstanden staan op het programma: 5 km – 10 km – 10 Engelse mijl hardlopen. Wilt u inschrijven voor dit loopevenement?  Raadpleeg hiervoor dan de website van de organisatie\nDe uitslagen van deze hardloopwedstrijd zijn te raadplegen via dezelfde website of via de bekende websites zoals uitslagen.nl\, runtimer en mylaps. Doet u mee met dit evenement\, zorg dan dat u goed voorbereid aan de start staat! Met een goed trainingsschema komt u een heel eind. Train bijvoorbeeld met start to run van Evy Gruyaert. Download de start to run mp3 bestanden en zet ze op uw telefoon. Oortjes in\, hit the play button en en rennen maar! \n\n\n\n\nMeer informatie over VISSER IJDAGENLOOP op Hardloopkalender.nl  \n  \n  \n 
URL:https://hardloopevenementen.com/loopagenda/visser-ijdagenloop-harlingen-fr-2/
END:VEVENT
BEGIN:VEVENT
DTSTART;VALUE=DATE:20170830
DTEND;VALUE=DATE:20170831
DTSTAMP:20260422T172429
CREATED:20160425T152930Z
LAST-MODIFIED:20190423T114428Z
UID:14223-1504051200-1504051200@hardloopevenementen.com
SUMMARY:Visser-IJdagenloop Harlingen (FR)
DESCRIPTION:Doe mee met het hardloopevenement Visser-IJdagenloop te Harlingen (FR) op wo 30 aug 2017. De volgende afstanden staan op het programma: 5 km – 10 km – 10 Engelse mijl hardlopen. Wilt u inschrijven voor dit loopevenement?  Raadpleeg hiervoor dan de website van de organisatie\nDe uitslagen van deze hardloopwedstrijd zijn te raadplegen via dezelfde website of via de bekende websites zoals uitslagen.nl\, runtimer en mylaps. Doet u mee met dit evenement\, zorg dan dat u goed voorbereid aan de start staat! Met een goed trainingsschema komt u een heel eind. Train bijvoorbeeld met start to run van Evy Gruyaert. Download de start to run mp3 bestanden en zet ze op uw telefoon. Oortjes in\, hit the play button en en rennen maar! \n\n\n\n\nMeer informatie over Visser-IJdagenloop op Hardloopkalender.nl  \n  \n  \n 
URL:https://hardloopevenementen.com/loopagenda/visser-ijdagenloop-harlingen-fr/
END:VEVENT
END:VCALENDAR