BEGIN:VCALENDAR
VERSION:2.0
PRODID:-//Hardloopevenementen - ECPv6.15.14//NONSGML v1.0//EN
CALSCALE:GREGORIAN
METHOD:PUBLISH
X-WR-CALNAME:Hardloopevenementen
X-ORIGINAL-URL:https://hardloopevenementen.com
X-WR-CALDESC:Evenementen voor Hardloopevenementen
REFRESH-INTERVAL;VALUE=DURATION:PT1H
X-Robots-Tag:noindex
X-PUBLISHED-TTL:PT1H
BEGIN:VTIMEZONE
TZID:UTC
BEGIN:STANDARD
TZOFFSETFROM:+0000
TZOFFSETTO:+0000
TZNAME:UTC
DTSTART:20080101T000000
END:STANDARD
END:VTIMEZONE
BEGIN:VEVENT
DTSTART;VALUE=DATE:20110529
DTEND;VALUE=DATE:20110530
DTSTAMP:20260423T193013
CREATED:20170604T152809Z
LAST-MODIFIED:20190423T102113Z
UID:6895-1306627200-1306627200@hardloopevenementen.com
SUMMARY:De IJsselsteinse Marathon IJsselstein (UT)
DESCRIPTION:Doe mee met het hardloopevenement De IJsselsteinse Marathon te IJsselstein (UT) op zo 29 mei 2011. De volgende afstanden staan op het programma: 10 km – marathon hardlopen. Wilt u inschrijven voor dit loopevenement?  Raadpleeg hiervoor dan de website van de organisatie\nDe uitslagen van deze hardloopwedstrijd zijn te raadplegen via dezelfde website of via de bekende websites zoals uitslagen.nl\, runtimer en mylaps. Doet u mee met dit evenement\, zorg dan dat u goed voorbereid aan de start staat! Met een goed trainingsschema komt u een heel eind. Train bijvoorbeeld met start to run van Evy Gruyaert. Download de start to run mp3 bestanden en zet ze op uw telefoon. Oortjes in\, hit the play button en en rennen maar! \n\n\n\n\nMeer informatie over De IJsselsteinse Marathon op Hardloopkalender.nl  \nHet loopevenement De IJsselsteinse Marathon te Ijsselstein vindt plaats op zondag 29 mei 2011. De loop wordt georganiseerd door De IJsselsteinse marathon. Inschrijven is mogelijk vanaf 01 november 2010. Klik hier voor het adres van de start (Google Maps).Er is verkleedaccomodatie met douchemogelijkheid aanwezig. Er is EHBO aanwezig. Afstand(km)Inschrijfgeld()Starttijdindividuelemarathon25\,0012.30uurestafettemarathon50\,0012.30uur10km10\,0011.00uur5km5\,0011.45uurVoor meer informatie:John van Vlietjmvvliet@caiway.nl0611398694http:  www.dijm.nl \n  \n  \n 
URL:https://hardloopevenementen.com/loopagenda/de-ijsselsteinse-marathon-ijsselstein-ut-2/
END:VEVENT
BEGIN:VEVENT
DTSTART;VALUE=DATE:20091003
DTEND;VALUE=DATE:20091004
DTSTAMP:20260423T193013
CREATED:20110322T061406Z
LAST-MODIFIED:20190423T095827Z
UID:1704-1254528000-1254528000@hardloopevenementen.com
SUMMARY:de IJsselsteinse Marathon IJsselstein (UT)
DESCRIPTION:Doe mee met het hardloopevenement de IJsselsteinse Marathon te IJsselstein (UT) op za 03 okt 2009. De volgende afstanden staan op het programma: marathon hardlopen. Wilt u inschrijven voor dit loopevenement?  Raadpleeg hiervoor dan de website van de organisatie\nDe uitslagen van deze hardloopwedstrijd zijn te raadplegen via dezelfde website of via de bekende websites zoals uitslagen.nl\, runtimer en mylaps. Doet u mee met dit evenement\, zorg dan dat u goed voorbereid aan de start staat! Met een goed trainingsschema komt u een heel eind. Train bijvoorbeeld met start to run van Evy Gruyaert. Download de start to run mp3 bestanden en zet ze op uw telefoon. Oortjes in\, hit the play button en en rennen maar! \n\n\n\n\nMeer informatie over de IJsselsteinse Marathon op Hardloopkalender.nl  \n42\,2-42\,2 km 14:19 uur \n  \n  \n 
URL:https://hardloopevenementen.com/loopagenda/de-ijsselsteinse-marathon-ijsselstein-ut/
END:VEVENT
END:VCALENDAR