BEGIN:VCALENDAR
VERSION:2.0
PRODID:-//Hardloopevenementen - ECPv6.15.14//NONSGML v1.0//EN
CALSCALE:GREGORIAN
METHOD:PUBLISH
X-ORIGINAL-URL:https://hardloopevenementen.com
X-WR-CALDESC:Evenementen voor Hardloopevenementen
REFRESH-INTERVAL;VALUE=DURATION:PT1H
X-Robots-Tag:noindex
X-PUBLISHED-TTL:PT1H
BEGIN:VTIMEZONE
TZID:UTC
BEGIN:STANDARD
TZOFFSETFROM:+0000
TZOFFSETTO:+0000
TZNAME:UTC
DTSTART:20090101T000000
END:STANDARD
END:VTIMEZONE
BEGIN:VEVENT
DTSTART;VALUE=DATE:20100516
DTEND;VALUE=DATE:20100517
DTSTAMP:20260421T000059
CREATED:20080606T132217Z
LAST-MODIFIED:20190423T101149Z
UID:23460-1273968000-1273968000@hardloopevenementen.com
SUMMARY:GGZ inGeest Loop Bennebroek (NH)
DESCRIPTION:Doe mee met het hardloopevenement GGZ inGeest Loop te Bennebroek (NH) op zo 16 mei 2010. De volgende afstanden staan op het programma: 1\,2 km – 10\,5 km hardlopen. Wilt u inschrijven voor dit loopevenement?  Raadpleeg hiervoor dan de website van de organisatie\nDe uitslagen van deze hardloopwedstrijd zijn te raadplegen via dezelfde website of via de bekende websites zoals uitslagen.nl\, runtimer en mylaps. Doet u mee met dit evenement\, zorg dan dat u goed voorbereid aan de start staat! Met een goed trainingsschema komt u een heel eind. Train bijvoorbeeld met start to run van Evy Gruyaert. Download de start to run mp3 bestanden en zet ze op uw telefoon. Oortjes in\, hit the play button en en rennen maar! \n\n\n\n\nMeer informatie over GGZ inGeest Loop op Hardloopkalender.nl  \nDit loopevenement wordt georganiseerd door GGZ inGeest.De eerste afstand (of onderdeel) start om 10:45.Het adres van de start en de finish is Rijksstraatweg 113Categorie(ën): mannen\, vrouwen\, jeugdVooraf inschrijven is mogelijk vanaf 01 maart 2010 tot 05 mei 2010.Inschrijven op de dag van de loop is mogelijk (vanaf 09.45 uur) op dit adres: Rijksstraatweg 113.Meer informatie:Contactpersoon: hr. Claudy EbbelingTel.: 0653952595Email: loop@ggzingeest.nlEr is een kleedaccomodatie aanwezig. Douchen is niet mogelijk.Het parcours is deels onverhard.Vorig jaar deden er 450 lopers mee aan dit evenement.Overige bijzonderheden:  gehele parcours verkeersvrij \n  \n  \n 
URL:https://hardloopevenementen.com/loopagenda/ggz-ingeest-loop-bennebroek-nh/
END:VEVENT
END:VCALENDAR