BEGIN:VCALENDAR
VERSION:2.0
PRODID:-//Hardloopevenementen - ECPv6.15.14//NONSGML v1.0//EN
CALSCALE:GREGORIAN
METHOD:PUBLISH
X-ORIGINAL-URL:https://hardloopevenementen.com
X-WR-CALDESC:Evenementen voor Hardloopevenementen
REFRESH-INTERVAL;VALUE=DURATION:PT1H
X-Robots-Tag:noindex
X-PUBLISHED-TTL:PT1H
BEGIN:VTIMEZONE
TZID:UTC
BEGIN:STANDARD
TZOFFSETFROM:+0000
TZOFFSETTO:+0000
TZNAME:UTC
DTSTART:20070101T000000
END:STANDARD
END:VTIMEZONE
BEGIN:VEVENT
DTSTART;VALUE=DATE:20141116
DTEND;VALUE=DATE:20141117
DTSTAMP:20260421T005816
CREATED:20160514T022621Z
LAST-MODIFIED:20190423T104923Z
UID:8688-1416096000-1416096000@hardloopevenementen.com
SUMMARY:Joop van den Enk Crossloop Raalte (OV)
DESCRIPTION:Doe mee met het hardloopevenement Joop van den Enk Crossloop te Raalte (OV) op zo 16 nov 2014. De volgende afstanden staan op het programma: 0\,8 km – 1\,5 km – 3 km – 5 km – 10 km hardlopen. Wilt u inschrijven voor dit loopevenement?  Raadpleeg hiervoor dan de website van de organisatie\nDe uitslagen van deze hardloopwedstrijd zijn te raadplegen via dezelfde website of via de bekende websites zoals uitslagen.nl\, runtimer en mylaps. Doet u mee met dit evenement\, zorg dan dat u goed voorbereid aan de start staat! Met een goed trainingsschema komt u een heel eind. Train bijvoorbeeld met start to run van Evy Gruyaert. Download de start to run mp3 bestanden en zet ze op uw telefoon. Oortjes in\, hit the play button en en rennen maar! \n\n\n\n\nMeer informatie over Joop van den Enk Crossloop op Hardloopkalender.nl  \nHet loopevenement Joop van den Enk Crossloop te Raalte vindt plaats op zondag 16 november 2014. De loop wordt georganisseerd door AV Salland. Klik hier voor het adres van de start (Google Maps). \n  \n  \n 
URL:https://hardloopevenementen.com/loopagenda/joop-van-den-enk-crossloop-raalte-ov-2/
END:VEVENT
BEGIN:VEVENT
DTSTART;VALUE=DATE:20131117
DTEND;VALUE=DATE:20131118
DTSTAMP:20260421T005816
CREATED:20151110T195548Z
LAST-MODIFIED:20190423T103811Z
UID:8070-1384646400-1384646400@hardloopevenementen.com
SUMMARY:Joop van den Enk Loop Raalte (OV)
DESCRIPTION:Doe mee met het hardloopevenement Joop van den Enk Loop te Raalte (OV) op zo 17 nov 2013. De volgende afstanden staan op het programma: 0\,8 km – 1\,5 km – 3 km – 5 km – 10 km hardlopen. Wilt u inschrijven voor dit loopevenement?  Raadpleeg hiervoor dan de website van de organisatie\nDe uitslagen van deze hardloopwedstrijd zijn te raadplegen via dezelfde website of via de bekende websites zoals uitslagen.nl\, runtimer en mylaps. Doet u mee met dit evenement\, zorg dan dat u goed voorbereid aan de start staat! Met een goed trainingsschema komt u een heel eind. Train bijvoorbeeld met start to run van Evy Gruyaert. Download de start to run mp3 bestanden en zet ze op uw telefoon. Oortjes in\, hit the play button en en rennen maar! \n\n\n\n\nMeer informatie over Joop van den Enk Loop op Hardloopkalender.nl  \nHet loopevenement Joop van den Enk Loop te Raalte vindt plaats op zondag 17 november 2013. De loop wordt georganisseerd door AV Salland. Inschrijven is mogelijk vanaf 01 oktober 2013. Klik hier voor het adres van de start (Google Maps).Er is verkleedaccomodatie met douchemogelijkheid aanwezig. Er is EHBO aanwezig. Voor meer informatie:Andre Duteweertinfo@avsalland.nl0572357271http:  www.avsalland.nl \n  \n  \n 
URL:https://hardloopevenementen.com/loopagenda/joop-van-den-enk-loop-raalte-ov-5/
END:VEVENT
BEGIN:VEVENT
DTSTART;VALUE=DATE:20121118
DTEND;VALUE=DATE:20121119
DTSTAMP:20260421T005816
CREATED:20110908T095230Z
LAST-MODIFIED:20190423T102745Z
UID:7332-1353196800-1353196800@hardloopevenementen.com
SUMMARY:Joop van den Enk Crossloop Raalte (OV)
DESCRIPTION:Doe mee met het hardloopevenement Joop van den Enk Crossloop te Raalte (OV) op zo 18 nov 2012. De volgende afstanden staan op het programma: 0\,8 km – 1\,5 km – 3 km – 5 km – 10 km hardlopen. Wilt u inschrijven voor dit loopevenement?  Raadpleeg hiervoor dan de website van de organisatie\nDe uitslagen van deze hardloopwedstrijd zijn te raadplegen via dezelfde website of via de bekende websites zoals uitslagen.nl\, runtimer en mylaps. Doet u mee met dit evenement\, zorg dan dat u goed voorbereid aan de start staat! Met een goed trainingsschema komt u een heel eind. Train bijvoorbeeld met start to run van Evy Gruyaert. Download de start to run mp3 bestanden en zet ze op uw telefoon. Oortjes in\, hit the play button en en rennen maar! \n\n\n\n\nMeer informatie over Joop van den Enk Crossloop op Hardloopkalender.nl  \nHet loopevenement Joop van den Enk Crossloop te Raalte vindt plaats op zondag 18 november 2012. De loop wordt georganiseerd door AV Salland. Inschrijven is mogelijk vanaf 16 oktober 2012 via http:  mijninschrijving.nl subscribers wizard division 66 tot 17 november 22.00 uur.      Starttijd	Afstand	Startgeld  10.00 uur	5 km	 5.00  10.05 uur	750 m	 1.00  10.45 uur	3 km	 2.00  11.20 uur	1.5 km	 1.00  11.40 uur	10 km	 5.00 \n  \n  \n 
URL:https://hardloopevenementen.com/loopagenda/joop-van-den-enk-crossloop-raalte-ov/
END:VEVENT
BEGIN:VEVENT
DTSTART;VALUE=DATE:20111204
DTEND;VALUE=DATE:20111205
DTSTAMP:20260421T005816
CREATED:20170212T193913Z
LAST-MODIFIED:20190423T101647Z
UID:5852-1322956800-1322956800@hardloopevenementen.com
SUMMARY:Joop van den Enk Loop Raalte (OV)
DESCRIPTION:Doe mee met het hardloopevenement Joop van den Enk Loop te Raalte (OV) op zo 04 dec 2011. De volgende afstanden staan op het programma: 1\,2 km – 2\,1 km – 5\,5 km – 11 km hardlopen. Wilt u inschrijven voor dit loopevenement?  Raadpleeg hiervoor dan de website van de organisatie\nDe uitslagen van deze hardloopwedstrijd zijn te raadplegen via dezelfde website of via de bekende websites zoals uitslagen.nl\, runtimer en mylaps. Doet u mee met dit evenement\, zorg dan dat u goed voorbereid aan de start staat! Met een goed trainingsschema komt u een heel eind. Train bijvoorbeeld met start to run van Evy Gruyaert. Download de start to run mp3 bestanden en zet ze op uw telefoon. Oortjes in\, hit the play button en en rennen maar! \n\n\n\n\nMeer informatie over Joop van den Enk Loop op Hardloopkalender.nl  \nHet loopevenement Joop van den Enk Loop te Raalte vindt plaats op zondag 04 december 2011. De loop wordt georganiseerd door AV Salland. Inschrijven is mogelijk vanaf 01 september 2011. Klik hier voor het adres van de start (Google Maps).Er is verkleedaccomodatie met douchemogelijkheid aanwezig. Er is EHBO aanwezig. Afstand(km)Inschrijfgeld(€)Starttijd1\,2€1\,0010:002\,1€2\,0010:155\,5€5\,0010:4511€5\,0011:45Voor meer informatie:Andre Duteweertinfo@avsalland.nl0572357271http:  www.avsalland.nl \n  \n  \n 
URL:https://hardloopevenementen.com/loopagenda/joop-van-den-enk-loop-raalte-ov-4/
END:VEVENT
BEGIN:VEVENT
DTSTART;VALUE=DATE:20101205
DTEND;VALUE=DATE:20101206
DTSTAMP:20260421T005816
CREATED:20121121T014749Z
LAST-MODIFIED:20190423T100604Z
UID:3148-1291507200-1291507200@hardloopevenementen.com
SUMMARY:Joop van den Enk Loop Raalte (OV)
DESCRIPTION:Doe mee met het hardloopevenement Joop van den Enk Loop te Raalte (OV) op zo 05 dec 2010. De volgende afstanden staan op het programma: 0\,7 km – 1\,4 km – 5\,1 km – 10 km hardlopen. Wilt u inschrijven voor dit loopevenement?  Raadpleeg hiervoor dan de website van de organisatie\nDe uitslagen van deze hardloopwedstrijd zijn te raadplegen via dezelfde website of via de bekende websites zoals uitslagen.nl\, runtimer en mylaps. Doet u mee met dit evenement\, zorg dan dat u goed voorbereid aan de start staat! Met een goed trainingsschema komt u een heel eind. Train bijvoorbeeld met start to run van Evy Gruyaert. Download de start to run mp3 bestanden en zet ze op uw telefoon. Oortjes in\, hit the play button en en rennen maar! \n\n\n\n\nMeer informatie over Joop van den Enk Loop op Hardloopkalender.nl  \nDit loopevenement wordt georganiseerd door AV Salland.De eerste afstand (of onderdeel) start om 10:30.Het adres van de start en de finish is Knapenveldsweg 3Categorie(ën): mannen\, vrouwen\, jeugdVooraf inschrijven is mogelijk vanaf 01 september 2010 tot 04 december 2010.Inschrijven op de dag van de loop is mogelijk (vanaf 09:30) op dit adres: Schouwburg Hoftheater  Knapenveldsweg 3  8102 RR Raalte.Meer informatie:Contactpersoon: Andre DuteweertTel.: 0572357271Email: info@avsalland.nlEr is een kleedaccomodatie aanwezig. Douchen is niet mogelijk.Het parcours is deels onverhard.Overige bijzonderheden:  Prachtig parcours in het heuvelachtige Montferland \n  \n  \n 
URL:https://hardloopevenementen.com/loopagenda/joop-van-den-enk-loop-raalte-ov-3/
END:VEVENT
BEGIN:VEVENT
DTSTART;VALUE=DATE:20091206
DTEND;VALUE=DATE:20091207
DTSTAMP:20260421T005816
CREATED:20150902T043420Z
LAST-MODIFIED:20190423T095644Z
UID:1355-1260057600-1260057600@hardloopevenementen.com
SUMMARY:Joop van den Enk Loop Raalte (OV)
DESCRIPTION:Doe mee met het hardloopevenement Joop van den Enk Loop te Raalte (OV) op zo 06 dec 2009. De volgende afstanden staan op het programma: 1 km – 2 km – 5 km – 10 km hardlopen. Wilt u inschrijven voor dit loopevenement?  Raadpleeg hiervoor dan de website van de organisatie\nDe uitslagen van deze hardloopwedstrijd zijn te raadplegen via dezelfde website of via de bekende websites zoals uitslagen.nl\, runtimer en mylaps. Doet u mee met dit evenement\, zorg dan dat u goed voorbereid aan de start staat! Met een goed trainingsschema komt u een heel eind. Train bijvoorbeeld met start to run van Evy Gruyaert. Download de start to run mp3 bestanden en zet ze op uw telefoon. Oortjes in\, hit the play button en en rennen maar! \n\n\n\n\nMeer informatie over Joop van den Enk Loop op Hardloopkalender.nl  \n1 km 10:30 uur\, 2 km 10:45 uur\, 5 km 11:00 uur\, 10 km 11:45 uur \n  \n  \n 
URL:https://hardloopevenementen.com/loopagenda/joop-van-den-enk-loop-raalte-ov-2/
END:VEVENT
BEGIN:VEVENT
DTSTART;VALUE=DATE:20081207
DTEND;VALUE=DATE:20081208
DTSTAMP:20260421T005816
CREATED:20170317T070910Z
LAST-MODIFIED:20190423T094349Z
UID:971-1228608000-1228608000@hardloopevenementen.com
SUMMARY:Joop van den Enk Loop Raalte (OV)
DESCRIPTION:Doe mee met het hardloopevenement Joop van den Enk Loop te Raalte (OV) op zo 07 dec 2008. De volgende afstanden staan op het programma: 0\,7 km – 1\,4 km – 5\,1 km – 10 km hardlopen. Wilt u inschrijven voor dit loopevenement?  Raadpleeg hiervoor dan de website van de organisatie\nDe uitslagen van deze hardloopwedstrijd zijn te raadplegen via dezelfde website of via de bekende websites zoals uitslagen.nl\, runtimer en mylaps. Doet u mee met dit evenement\, zorg dan dat u goed voorbereid aan de start staat! Met een goed trainingsschema komt u een heel eind. Train bijvoorbeeld met start to run van Evy Gruyaert. Download de start to run mp3 bestanden en zet ze op uw telefoon. Oortjes in\, hit the play button en en rennen maar! \n\n\n\n\nMeer informatie over Joop van den Enk Loop op Hardloopkalender.nl  \nStarttijden  0\,7 km          10:30 uur  1\,4 km          10:45 uur  5\,1 km          11:15 uur  10 km           12:00 uur      Afstanden meetellend voor het Sallands Cross Circuit zijn 5\,1 km en 10 km \n  \n  \n 
URL:https://hardloopevenementen.com/loopagenda/joop-van-den-enk-loop-raalte-ov/
END:VEVENT
END:VCALENDAR