BEGIN:VCALENDAR
VERSION:2.0
PRODID:-//Hardloopevenementen - ECPv6.15.14//NONSGML v1.0//EN
CALSCALE:GREGORIAN
METHOD:PUBLISH
X-WR-CALNAME:Hardloopevenementen
X-ORIGINAL-URL:https://hardloopevenementen.com
X-WR-CALDESC:Evenementen voor Hardloopevenementen
REFRESH-INTERVAL;VALUE=DURATION:PT1H
X-Robots-Tag:noindex
X-PUBLISHED-TTL:PT1H
BEGIN:VTIMEZONE
TZID:UTC
BEGIN:STANDARD
TZOFFSETFROM:+0000
TZOFFSETTO:+0000
TZNAME:UTC
DTSTART:20080101T000000
END:STANDARD
END:VTIMEZONE
BEGIN:VEVENT
DTSTART;VALUE=DATE:20090915
DTEND;VALUE=DATE:20090916
DTSTAMP:20260420T022848
CREATED:20130512T003237Z
LAST-MODIFIED:20190423T095850Z
UID:1793-1252972800-1252972800@hardloopevenementen.com
SUMMARY:Jos Bogman Avondlopen Beek (LI)
DESCRIPTION:Doe mee met het hardloopevenement Jos Bogman Avondlopen te Beek (LI) op di 15 sep 2009. De volgende afstanden staan op het programma: 5 km hardlopen. Wilt u inschrijven voor dit loopevenement?  Raadpleeg hiervoor dan de website van de organisatie\nDe uitslagen van deze hardloopwedstrijd zijn te raadplegen via dezelfde website of via de bekende websites zoals uitslagen.nl\, runtimer en mylaps. Doet u mee met dit evenement\, zorg dan dat u goed voorbereid aan de start staat! Met een goed trainingsschema komt u een heel eind. Train bijvoorbeeld met start to run van Evy Gruyaert. Download de start to run mp3 bestanden en zet ze op uw telefoon. Oortjes in\, hit the play button en en rennen maar! \n\n\n\n\nMeer informatie over Jos Bogman Avondlopen op Hardloopkalender.nl  \n5 km 19:00 uur \n  \n  \n 
URL:https://hardloopevenementen.com/loopagenda/jos-bogman-avondlopen-beek-li/
END:VEVENT
BEGIN:VEVENT
DTSTART;VALUE=DATE:20090818
DTEND;VALUE=DATE:20090819
DTSTAMP:20260420T022848
CREATED:20160121T202053Z
LAST-MODIFIED:20190423T095929Z
UID:1942-1250553600-1250553600@hardloopevenementen.com
SUMMARY:Jos Bogman Avondlopen Beek (LI)
DESCRIPTION:Doe mee met het hardloopevenement Jos Bogman Avondlopen te Beek (LI) op di 18 aug 2009. De volgende afstanden staan op het programma: 1\,5 km hardlopen. Wilt u inschrijven voor dit loopevenement?  Raadpleeg hiervoor dan de website van de organisatie\nDe uitslagen van deze hardloopwedstrijd zijn te raadplegen via dezelfde website of via de bekende websites zoals uitslagen.nl\, runtimer en mylaps. Doet u mee met dit evenement\, zorg dan dat u goed voorbereid aan de start staat! Met een goed trainingsschema komt u een heel eind. Train bijvoorbeeld met start to run van Evy Gruyaert. Download de start to run mp3 bestanden en zet ze op uw telefoon. Oortjes in\, hit the play button en en rennen maar! \n\n\n\n\nMeer informatie over Jos Bogman Avondlopen op Hardloopkalender.nl  \n1\,5 km 19:00 uur \n  \n  \n 
URL:https://hardloopevenementen.com/loopagenda/jos-bogman-avondlopen-beek-li-2/
END:VEVENT
BEGIN:VEVENT
DTSTART;VALUE=DATE:20090707
DTEND;VALUE=DATE:20090708
DTSTAMP:20260420T022848
CREATED:20081208T151758Z
LAST-MODIFIED:20190423T100011Z
UID:2060-1246924800-1246924800@hardloopevenementen.com
SUMMARY:Jos Bogman Avondlopen Beek (LI)
DESCRIPTION:Doe mee met het hardloopevenement Jos Bogman Avondlopen te Beek (LI) op di 07 jul 2009. De volgende afstanden staan op het programma: 3 km hardlopen. Wilt u inschrijven voor dit loopevenement?  Raadpleeg hiervoor dan de website van de organisatie\nDe uitslagen van deze hardloopwedstrijd zijn te raadplegen via dezelfde website of via de bekende websites zoals uitslagen.nl\, runtimer en mylaps. Doet u mee met dit evenement\, zorg dan dat u goed voorbereid aan de start staat! Met een goed trainingsschema komt u een heel eind. Train bijvoorbeeld met start to run van Evy Gruyaert. Download de start to run mp3 bestanden en zet ze op uw telefoon. Oortjes in\, hit the play button en en rennen maar! \n\n\n\n\nMeer informatie over Jos Bogman Avondlopen op Hardloopkalender.nl  \n3 km 19:00 uur \n  \n  \n 
URL:https://hardloopevenementen.com/loopagenda/jos-bogman-avondlopen-beek-li-3/
END:VEVENT
BEGIN:VEVENT
DTSTART;VALUE=DATE:20090609
DTEND;VALUE=DATE:20090610
DTSTAMP:20260420T022848
CREATED:20170806T093234Z
LAST-MODIFIED:20190423T100051Z
UID:2194-1244505600-1244505600@hardloopevenementen.com
SUMMARY:Jos Bogman Avondlopen Beek (LI)
DESCRIPTION:Doe mee met het hardloopevenement Jos Bogman Avondlopen te Beek (LI) op di 09 jun 2009. De volgende afstanden staan op het programma: 2 km hardlopen. Wilt u inschrijven voor dit loopevenement?  Raadpleeg hiervoor dan de website van de organisatie\nDe uitslagen van deze hardloopwedstrijd zijn te raadplegen via dezelfde website of via de bekende websites zoals uitslagen.nl\, runtimer en mylaps. Doet u mee met dit evenement\, zorg dan dat u goed voorbereid aan de start staat! Met een goed trainingsschema komt u een heel eind. Train bijvoorbeeld met start to run van Evy Gruyaert. Download de start to run mp3 bestanden en zet ze op uw telefoon. Oortjes in\, hit the play button en en rennen maar! \n\n\n\n\nMeer informatie over Jos Bogman Avondlopen op Hardloopkalender.nl  \n2 km 19:00 uur \n  \n  \n 
URL:https://hardloopevenementen.com/loopagenda/jos-bogman-avondlopen-beek-li-4/
END:VEVENT
BEGIN:VEVENT
DTSTART;VALUE=DATE:20090512
DTEND;VALUE=DATE:20090513
DTSTAMP:20260420T022848
CREATED:20070203T030438Z
LAST-MODIFIED:20190423T100130Z
UID:2348-1242086400-1242086400@hardloopevenementen.com
SUMMARY:Jos Bogman Avondlopen Beek (LI)
DESCRIPTION:Doe mee met het hardloopevenement Jos Bogman Avondlopen te Beek (LI) op di 12 mei 2009. De volgende afstanden staan op het programma: 1\,5 km hardlopen. Wilt u inschrijven voor dit loopevenement?  Raadpleeg hiervoor dan de website van de organisatie\nDe uitslagen van deze hardloopwedstrijd zijn te raadplegen via dezelfde website of via de bekende websites zoals uitslagen.nl\, runtimer en mylaps. Doet u mee met dit evenement\, zorg dan dat u goed voorbereid aan de start staat! Met een goed trainingsschema komt u een heel eind. Train bijvoorbeeld met start to run van Evy Gruyaert. Download de start to run mp3 bestanden en zet ze op uw telefoon. Oortjes in\, hit the play button en en rennen maar! \n\n\n\n\nMeer informatie over Jos Bogman Avondlopen op Hardloopkalender.nl  \n1\,5 km 19:00 uur \n  \n  \n 
URL:https://hardloopevenementen.com/loopagenda/jos-bogman-avondlopen-beek-li-5/
END:VEVENT
END:VCALENDAR