BEGIN:VCALENDAR
VERSION:2.0
PRODID:-//Hardloopevenementen - ECPv6.15.14//NONSGML v1.0//EN
CALSCALE:GREGORIAN
METHOD:PUBLISH
X-ORIGINAL-URL:https://hardloopevenementen.com
X-WR-CALDESC:Evenementen voor Hardloopevenementen
REFRESH-INTERVAL;VALUE=DURATION:PT1H
X-Robots-Tag:noindex
X-PUBLISHED-TTL:PT1H
BEGIN:VTIMEZONE
TZID:UTC
BEGIN:STANDARD
TZOFFSETFROM:+0000
TZOFFSETTO:+0000
TZNAME:UTC
DTSTART:20130101T000000
END:STANDARD
END:VTIMEZONE
BEGIN:VEVENT
DTSTART;VALUE=DATE:20150516
DTEND;VALUE=DATE:20150517
DTSTAMP:20260423T134320
CREATED:20140331T142940Z
LAST-MODIFIED:20190423T111223Z
UID:10481-1431734400-1431734400@hardloopevenementen.com
SUMMARY:K leefrun Paleis het Loo Apeldoorn (GE)
DESCRIPTION:Doe mee met het hardloopevenement K leefrun Paleis het Loo te Apeldoorn (GE) op za 16 mei 2015. De volgende afstanden staan op het programma: 1 km – 5 km – 10 km hardlopen. Wilt u inschrijven voor dit loopevenement?  Raadpleeg hiervoor dan de website van de organisatie\nDe uitslagen van deze hardloopwedstrijd zijn te raadplegen via dezelfde website of via de bekende websites zoals uitslagen.nl\, runtimer en mylaps. Doet u mee met dit evenement\, zorg dan dat u goed voorbereid aan de start staat! Met een goed trainingsschema komt u een heel eind. Train bijvoorbeeld met start to run van Evy Gruyaert. Download de start to run mp3 bestanden en zet ze op uw telefoon. Oortjes in\, hit the play button en en rennen maar! \n\n\n\n\nMeer informatie over K leefrun Paleis het Loo op Hardloopkalender.nl  \nStart en finish op het voorterrein van Paleis het Loo \n  \n  \n 
URL:https://hardloopevenementen.com/loopagenda/k-leefrun-paleis-het-loo-apeldoorn-ge/
END:VEVENT
BEGIN:VEVENT
DTSTART;VALUE=DATE:20140907
DTEND;VALUE=DATE:20140908
DTSTAMP:20260423T134320
CREATED:20121220T151151Z
LAST-MODIFIED:20190423T105151Z
UID:33321-1410048000-1410048000@hardloopevenementen.com
SUMMARY:Rabobank Tilburg Ladies Run 10 K Tilburg (NB)
DESCRIPTION:Doe mee met het hardloopevenement Rabobank Tilburg Ladies Run 10 K te Tilburg (NB) op zo 07 sep 2014. De volgende afstanden staan op het programma: 10 km hardlopen. Wilt u inschrijven voor dit loopevenement?  Raadpleeg hiervoor dan de website van de organisatie\nDe uitslagen van deze hardloopwedstrijd zijn te raadplegen via dezelfde website of via de bekende websites zoals uitslagen.nl\, runtimer en mylaps. Doet u mee met dit evenement\, zorg dan dat u goed voorbereid aan de start staat! Met een goed trainingsschema komt u een heel eind. Train bijvoorbeeld met start to run van Evy Gruyaert. Download de start to run mp3 bestanden en zet ze op uw telefoon. Oortjes in\, hit the play button en en rennen maar! \n\n\n\n\nMeer informatie over Rabobank Tilburg Ladies Run 10 K op Hardloopkalender.nl  \nHet loopevenement Rabobank Tilburg Ladies Run 10 K te Tilburg vindt plaats op zondag 07 september 2014. De loop wordt georganisseerd door Stichting Tilburg Ten Miles. Klik hier voor het adres van de start (Google Maps).Bijzonderheden: Speciale Ladies Run 10 km tijdens TTM\, snel parcours\, sfeervol evenement. \n  \n  \n 
URL:https://hardloopevenementen.com/loopagenda/rabobank-tilburg-ladies-run-10-k-tilburg-nb/
END:VEVENT
END:VCALENDAR