BEGIN:VCALENDAR
VERSION:2.0
PRODID:-//Hardloopevenementen - ECPv6.15.14//NONSGML v1.0//EN
CALSCALE:GREGORIAN
METHOD:PUBLISH
X-WR-CALNAME:Hardloopevenementen
X-ORIGINAL-URL:https://hardloopevenementen.com
X-WR-CALDESC:Evenementen voor Hardloopevenementen
REFRESH-INTERVAL;VALUE=DURATION:PT1H
X-Robots-Tag:noindex
X-PUBLISHED-TTL:PT1H
BEGIN:VTIMEZONE
TZID:UTC
BEGIN:STANDARD
TZOFFSETFROM:+0000
TZOFFSETTO:+0000
TZNAME:UTC
DTSTART:20170101T000000
END:STANDARD
END:VTIMEZONE
BEGIN:VEVENT
DTSTART;VALUE=DATE:20181027
DTEND;VALUE=DATE:20181028
DTSTAMP:20260425T150650
CREATED:20180809T020818Z
LAST-MODIFIED:20190423T120157Z
UID:15773-1540598400-1540598400@hardloopevenementen.com
SUMMARY:De Kaaisjouwer Run Nijmegen (GE)
DESCRIPTION:Doe mee met het hardloopevenement De Kaaisjouwer Run te Nijmegen (GE) op za 27 okt 2018. De volgende afstanden staan op het programma: 2 km hardlopen. Wilt u inschrijven voor dit loopevenement?  Raadpleeg hiervoor dan de website van de organisatie\nDe uitslagen van deze hardloopwedstrijd zijn te raadplegen via dezelfde website of via de bekende websites zoals uitslagen.nl\, runtimer en mylaps. Doet u mee met dit evenement\, zorg dan dat u goed voorbereid aan de start staat! Met een goed trainingsschema komt u een heel eind. Train bijvoorbeeld met start to run van Evy Gruyaert. Download de start to run mp3 bestanden en zet ze op uw telefoon. Oortjes in\, hit the play button en en rennen maar! \n\n\n\n\nMeer informatie over De Kaaisjouwer Run op Hardloopkalender.nl  \nEen loodzware run waarbij deelnemers een parcours vanaf de Waalkade naar de Grote Markt en weer terug afleggen. Het parcours heeft een lengte van 2\,5 kilometer en moet meerdere keren achtereenvolgend worden afgelegd met een jute zak van vijf\, tien of vijftien kilogram. Onderdeel van het parcours zijn o.a. de Voerweg\, de Lieve Vrouwentrappen en natuurlijk de Veerpoort trappen. Start en finish zijn onder de brug bij de Lindenberghaven\, beter bekend als de Kaaij. \n  \n  \n 
URL:https://hardloopevenementen.com/loopagenda/de-kaaisjouwer-run-nijmegen-ge/
END:VEVENT
END:VCALENDAR