BEGIN:VCALENDAR
VERSION:2.0
PRODID:-//Hardloopevenementen - ECPv6.15.14//NONSGML v1.0//EN
CALSCALE:GREGORIAN
METHOD:PUBLISH
X-ORIGINAL-URL:https://hardloopevenementen.com
X-WR-CALDESC:Evenementen voor Hardloopevenementen
REFRESH-INTERVAL;VALUE=DURATION:PT1H
X-Robots-Tag:noindex
X-PUBLISHED-TTL:PT1H
BEGIN:VTIMEZONE
TZID:UTC
BEGIN:STANDARD
TZOFFSETFROM:+0000
TZOFFSETTO:+0000
TZNAME:UTC
DTSTART:20070101T000000
END:STANDARD
END:VTIMEZONE
BEGIN:VEVENT
DTSTART;VALUE=DATE:20110410
DTEND;VALUE=DATE:20110411
DTSTAMP:20260422T064638
CREATED:20080622T115905Z
LAST-MODIFIED:20190423T102228Z
UID:26555-1302393600-1302393600@hardloopevenementen.com
SUMMARY:HAN KAN estafette en marathon Arnhem (GE)
DESCRIPTION:Doe mee met het hardloopevenement HAN KAN estafette en marathon te Arnhem (GE) op zo 10 apr 2011. De volgende afstanden staan op het programma: 10\,5 km – halve marathon – marathon hardlopen. Wilt u inschrijven voor dit loopevenement?  Raadpleeg hiervoor dan de website van de organisatie\nDe uitslagen van deze hardloopwedstrijd zijn te raadplegen via dezelfde website of via de bekende websites zoals uitslagen.nl\, runtimer en mylaps. Doet u mee met dit evenement\, zorg dan dat u goed voorbereid aan de start staat! Met een goed trainingsschema komt u een heel eind. Train bijvoorbeeld met start to run van Evy Gruyaert. Download de start to run mp3 bestanden en zet ze op uw telefoon. Oortjes in\, hit the play button en en rennen maar! \n\n\n\n\nMeer informatie over HAN KAN estafette en marathon op Hardloopkalender.nl  \nOp 10 april 2011 start de HAN-KAN estafette & marathon voor de 6e keer. Lopers kunnen de marathon in zijn geheel lopen of met twee of vier personen in een estafette meedoen. \n  \n  \n 
URL:https://hardloopevenementen.com/loopagenda/han-kan-estafette-en-marathon-arnhem-ge-2/
END:VEVENT
BEGIN:VEVENT
DTSTART;VALUE=DATE:20100509
DTEND;VALUE=DATE:20100510
DTSTAMP:20260422T064638
CREATED:20080525T024852Z
LAST-MODIFIED:20190423T101200Z
UID:23500-1273363200-1273363200@hardloopevenementen.com
SUMMARY:HAN-KAN Marathon Nijmegen (GE)
DESCRIPTION:Doe mee met het hardloopevenement HAN-KAN Marathon te Nijmegen (GE) op zo 09 mei 2010. De volgende afstanden staan op het programma: marathon hardlopen. Wilt u inschrijven voor dit loopevenement?  Raadpleeg hiervoor dan de website van de organisatie\nDe uitslagen van deze hardloopwedstrijd zijn te raadplegen via dezelfde website of via de bekende websites zoals uitslagen.nl\, runtimer en mylaps. Doet u mee met dit evenement\, zorg dan dat u goed voorbereid aan de start staat! Met een goed trainingsschema komt u een heel eind. Train bijvoorbeeld met start to run van Evy Gruyaert. Download de start to run mp3 bestanden en zet ze op uw telefoon. Oortjes in\, hit the play button en en rennen maar! \n\n\n\n\nMeer informatie over HAN-KAN Marathon op Hardloopkalender.nl  \nDe HAN-KAN estafette & marathon is een loopfestijn van precies 42 kilometer en 195 meter tussen de HAN Campus Nijmegen en de HAN Campus Arnhem. De start van de wedstrijd is om 09.00 uur op de HAN Campus aan de Kapittelweg in Nijmegen. Vanaf hier leidt de route naar de Betuwe. Hier loop je voornamelijk op de dijken door de mooie natuur van de gemeente Lingewaard. Via de gemeente Lingewaard loop je naar Arnhem. Dit is ook de finishplaats van de marathon op de HAN Campus aan de Ruitenberglaan in Arnhem.    De minimale leeftijd voor deelname aan aan de HAN-KAN estafette & marathon is 18 jaar. Ook voor deelname aan de estafette-2 en estafette-4 adviseren we een minimale leeftijd van 18 jaar. De looptijd van 10 km is ca. 1 uur en 13 minuten. De uiterste tijd van binnenkomst van de hele marathon is 14.00 uur. \n  \n  \n 
URL:https://hardloopevenementen.com/loopagenda/han-kan-marathon-nijmegen-ge/
END:VEVENT
BEGIN:VEVENT
DTSTART;VALUE=DATE:20090510
DTEND;VALUE=DATE:20090511
DTSTAMP:20260422T064638
CREATED:20130408T041131Z
LAST-MODIFIED:20190423T100131Z
UID:2353-1241913600-1241913600@hardloopevenementen.com
SUMMARY:HAN-KAN estafette en marathon Arnhem (GE)
DESCRIPTION:Doe mee met het hardloopevenement HAN-KAN estafette en marathon te Arnhem (GE) op zo 10 mei 2009. De volgende afstanden staan op het programma: marathon hardlopen. Wilt u inschrijven voor dit loopevenement?  Raadpleeg hiervoor dan de website van de organisatie\nDe uitslagen van deze hardloopwedstrijd zijn te raadplegen via dezelfde website of via de bekende websites zoals uitslagen.nl\, runtimer en mylaps. Doet u mee met dit evenement\, zorg dan dat u goed voorbereid aan de start staat! Met een goed trainingsschema komt u een heel eind. Train bijvoorbeeld met start to run van Evy Gruyaert. Download de start to run mp3 bestanden en zet ze op uw telefoon. Oortjes in\, hit the play button en en rennen maar! \n\n\n\n\nMeer informatie over HAN-KAN estafette en marathon op Hardloopkalender.nl  \nMarathon van Arnhem naar Nijmegen.    Afstanden: Marathon\, Estafette 4 en Estafette 2.    Tevens bedrijvenloop!    * E-mail: info@hankanmarathon.nl     * Tel: 026 – 369 1224   * Kleedgelegenheid: Bij de start kun je je omkleden. Zowel bij de start als bij de wisselposten kun je ook je bagage afgeven. Deze wordt voor alle lopers naar de finish gebracht. Het afgeven van de bagage is op eigen risico. Bij de finish kun je douchen en of gebruik maken van  ervaren sportmasseurs.   * Lid van atletiekunie: ja \n  \n  \n 
URL:https://hardloopevenementen.com/loopagenda/han-kan-estafette-en-marathon-arnhem-ge/
END:VEVENT
BEGIN:VEVENT
DTSTART;VALUE=DATE:20080511
DTEND;VALUE=DATE:20080512
DTSTAMP:20260422T064638
CREATED:20060905T095431Z
LAST-MODIFIED:20190423T094728Z
UID:19724-1210464000-1210464000@hardloopevenementen.com
SUMMARY:Han-Kan marathon Nijmegen
DESCRIPTION:Doe mee met het hardloopevenement Han-Kan marathon te Nijmegen op zo 11 mei 2008. De volgende afstanden staan op het programma: marathon hardlopen. Wilt u inschrijven voor dit loopevenement?  Raadpleeg hiervoor dan de website van de organisatie\nDe uitslagen van deze hardloopwedstrijd zijn te raadplegen via dezelfde website of via de bekende websites zoals uitslagen.nl\, runtimer en mylaps. Doet u mee met dit evenement\, zorg dan dat u goed voorbereid aan de start staat! Met een goed trainingsschema komt u een heel eind. Train bijvoorbeeld met start to run van Evy Gruyaert. Download de start to run mp3 bestanden en zet ze op uw telefoon. Oortjes in\, hit the play button en en rennen maar! \n\n\n\n\nMeer informatie over Han-Kan marathon op Hardloopkalender.nl  \nLoop mee met de HAN-KAN marathon op 11 mei 2008  De Hogeschool van Arnhem en Nijmegen (HAN) organiseert op zondag 11 mei 2008 de 3e HAN-KAN marathon. Dit regionale evenement verbindt de twee HAN Campussen van Nijmegen en Arnhem met elkaar. De start is dit jaar in Nijmegen en de finish in Arnhem. Ben je sportief? Schrijf je in en loop mee!      Actie: schrijf je vroeg in!  Schrijf je vóór 31 januari 2008 in voor de HAN-KAN marathon via www.inschrijven.nl  en ontvang  2\,50 vroege-lopers-korting.        Gratis hardloopclinics voor alle deelnemers  Ter voorbereiding op de HAN-KAN marathon organiseert de HAN 6 gratis hardloopclinics voor alle deelnemers op woensdag van 19.00 – 21.30 uur bij atletiekvereniging CIKO ’66 in Arnhem en het Universitair Sport Centrum in Nijmegen. Geef je snel op!        Marathon en estafette  Je kunt de marathon alleen lopen\, maar ook met z’n tweeën of vieren\, de estafette-2 of estafette-4. Met name de estafette 4 neemt in populariteit toe waarbij elk teamlid 10\,1 km loopt. De route gaat vanaf de HAN Campus aan de Kapittelweg in Nijmegen door de gemeente Lingewaard via de dijken en de dorpen naar de HAN Campus aan de Ruitenberglaan in Arnhem. Een mooie omgeving in de Stadsregio Arnhem Nijmegen. \n  \n  \n 
URL:https://hardloopevenementen.com/loopagenda/han-kan-marathon-nijmegen/
END:VEVENT
END:VCALENDAR