BEGIN:VCALENDAR
VERSION:2.0
PRODID:-//Hardloopevenementen - ECPv6.15.14//NONSGML v1.0//EN
CALSCALE:GREGORIAN
METHOD:PUBLISH
X-ORIGINAL-URL:https://hardloopevenementen.com
X-WR-CALDESC:Evenementen voor Hardloopevenementen
REFRESH-INTERVAL;VALUE=DURATION:PT1H
X-Robots-Tag:noindex
X-PUBLISHED-TTL:PT1H
BEGIN:VTIMEZONE
TZID:UTC
BEGIN:STANDARD
TZOFFSETFROM:+0000
TZOFFSETTO:+0000
TZNAME:UTC
DTSTART:20110101T000000
END:STANDARD
END:VTIMEZONE
BEGIN:VEVENT
DTSTART;VALUE=DATE:20150627
DTEND;VALUE=DATE:20150628
DTSTAMP:20260423T174701
CREATED:20111002T201104Z
LAST-MODIFIED:20190423T111102Z
UID:10182-1435363200-1435363200@hardloopevenementen.com
SUMMARY:De Burgh Karpenrun Eindhoven (NB)
DESCRIPTION:Doe mee met het hardloopevenement De Burgh Karpenrun te Eindhoven (NB) op za 27 jun 2015. De volgende afstanden staan op het programma: 1 km – 5 km – 10 km hardlopen. Wilt u inschrijven voor dit loopevenement?  Raadpleeg hiervoor dan de website van de organisatie\nDe uitslagen van deze hardloopwedstrijd zijn te raadplegen via dezelfde website of via de bekende websites zoals uitslagen.nl\, runtimer en mylaps. Doet u mee met dit evenement\, zorg dan dat u goed voorbereid aan de start staat! Met een goed trainingsschema komt u een heel eind. Train bijvoorbeeld met start to run van Evy Gruyaert. Download de start to run mp3 bestanden en zet ze op uw telefoon. Oortjes in\, hit the play button en en rennen maar! \n\n\n\n\nMeer informatie over De Burgh Karpenrun op Hardloopkalender.nl  \nHet loopevenement De Burgh Karpenrun te Eindhoven vindt plaats op zaterdag 27 juni 2015. \n  \n  \n 
URL:https://hardloopevenementen.com/loopagenda/de-burgh-karpenrun-eindhoven-nb/
END:VEVENT
BEGIN:VEVENT
DTSTART;VALUE=DATE:20140627
DTEND;VALUE=DATE:20140628
DTSTAMP:20260423T174701
CREATED:20101026T124000Z
LAST-MODIFIED:20190423T105345Z
UID:33734-1403827200-1403827200@hardloopevenementen.com
SUMMARY:De Burgh Karpenrun Eindhoven (NB)
DESCRIPTION:Doe mee met het hardloopevenement De Burgh Karpenrun te Eindhoven (NB) op vr 27 jun 2014. De volgende afstanden staan op het programma: 5 km – 10 km hardlopen. Wilt u inschrijven voor dit loopevenement?  Raadpleeg hiervoor dan de website van de organisatie\nDe uitslagen van deze hardloopwedstrijd zijn te raadplegen via dezelfde website of via de bekende websites zoals uitslagen.nl\, runtimer en mylaps. Doet u mee met dit evenement\, zorg dan dat u goed voorbereid aan de start staat! Met een goed trainingsschema komt u een heel eind. Train bijvoorbeeld met start to run van Evy Gruyaert. Download de start to run mp3 bestanden en zet ze op uw telefoon. Oortjes in\, hit the play button en en rennen maar! \n\n\n\n\nMeer informatie over De Burgh Karpenrun op Hardloopkalender.nl  \nHet loopevenement De Burgh Karpenrun te Eindhoven vindt plaats op vrijdag 27 juni 2014. De loop wordt georganisseerd door Eindhoven Atletiek. Klik hier voor het adres van de start (Google Maps). \n  \n  \n 
URL:https://hardloopevenementen.com/loopagenda/de-burgh-karpenrun-eindhoven-nb-4/
END:VEVENT
BEGIN:VEVENT
DTSTART;VALUE=DATE:20130621
DTEND;VALUE=DATE:20130622
DTSTAMP:20260423T174701
CREATED:20090415T075115Z
LAST-MODIFIED:20190423T104155Z
UID:31535-1371772800-1371772800@hardloopevenementen.com
SUMMARY:De Burgh Karpenrun Eindhoven (NB)
DESCRIPTION:Doe mee met het hardloopevenement De Burgh Karpenrun te Eindhoven (NB) op vr 21 jun 2013. De volgende afstanden staan op het programma: 5 km – 10 km hardlopen. Wilt u inschrijven voor dit loopevenement?  Raadpleeg hiervoor dan de website van de organisatie\nDe uitslagen van deze hardloopwedstrijd zijn te raadplegen via dezelfde website of via de bekende websites zoals uitslagen.nl\, runtimer en mylaps. Doet u mee met dit evenement\, zorg dan dat u goed voorbereid aan de start staat! Met een goed trainingsschema komt u een heel eind. Train bijvoorbeeld met start to run van Evy Gruyaert. Download de start to run mp3 bestanden en zet ze op uw telefoon. Oortjes in\, hit the play button en en rennen maar! \n\n\n\n\nMeer informatie over De Burgh Karpenrun op Hardloopkalender.nl  \nHet loopevenement De Burgh Karpenrun te Eindhoven vindt plaats op vrijdag 21 juni 2013. De loop wordt georganisseerd door Eindhoven Atletiek. Inschrijven is mogelijk vanaf 01 april 2013. Klik hier voor het adres van de start (Google Maps).Er is verkleedaccomodatie met douchemogelijkheid aanwezig. Er is EHBO aanwezig. Voor meer informatie:Joop Broedersmidzomer@eindhovenatletiek.nl0612422389http:  midzomer.eindhovenatletiek.nl \n  \n  \n 
URL:https://hardloopevenementen.com/loopagenda/de-burgh-karpenrun-eindhoven-nb-3/
END:VEVENT
BEGIN:VEVENT
DTSTART;VALUE=DATE:20120622
DTEND;VALUE=DATE:20120623
DTSTAMP:20260423T174701
CREATED:20110516T025004Z
LAST-MODIFIED:20190423T103124Z
UID:28116-1340323200-1340323200@hardloopevenementen.com
SUMMARY:De Burgh Karpenrun Eindhoven (NB)
DESCRIPTION:Doe mee met het hardloopevenement De Burgh Karpenrun te Eindhoven (NB) op vr 22 jun 2012. De volgende afstanden staan op het programma: 3\,8 km – 6\,9 km – 10 km hardlopen. Wilt u inschrijven voor dit loopevenement?  Raadpleeg hiervoor dan de website van de organisatie\nDe uitslagen van deze hardloopwedstrijd zijn te raadplegen via dezelfde website of via de bekende websites zoals uitslagen.nl\, runtimer en mylaps. Doet u mee met dit evenement\, zorg dan dat u goed voorbereid aan de start staat! Met een goed trainingsschema komt u een heel eind. Train bijvoorbeeld met start to run van Evy Gruyaert. Download de start to run mp3 bestanden en zet ze op uw telefoon. Oortjes in\, hit the play button en en rennen maar! \n\n\n\n\nMeer informatie over De Burgh Karpenrun op Hardloopkalender.nl  \nHet loopevenement De Burgh Midzomeravondrun te Eindhoven vindt plaats op vrijdag 22 juni 2012. De loop wordt georganiseerd door Eindhoven Atletiek. Inschrijven is mogelijk vanaf 01 april 2012. Klik hier voor het adres van de start (Google Maps).Er is EHBO aanwezig.  \n  \n  \n 
URL:https://hardloopevenementen.com/loopagenda/de-burgh-karpenrun-eindhoven-nb-2/
END:VEVENT
END:VCALENDAR