BEGIN:VCALENDAR
VERSION:2.0
PRODID:-//Hardloopevenementen - ECPv6.15.14//NONSGML v1.0//EN
CALSCALE:GREGORIAN
METHOD:PUBLISH
X-WR-CALNAME:Hardloopevenementen
X-ORIGINAL-URL:https://hardloopevenementen.com
X-WR-CALDESC:Evenementen voor Hardloopevenementen
REFRESH-INTERVAL;VALUE=DURATION:PT1H
X-Robots-Tag:noindex
X-PUBLISHED-TTL:PT1H
BEGIN:VTIMEZONE
TZID:UTC
BEGIN:STANDARD
TZOFFSETFROM:+0000
TZOFFSETTO:+0000
TZNAME:UTC
DTSTART:20080101T000000
END:STANDARD
END:VTIMEZONE
BEGIN:VEVENT
DTSTART;VALUE=DATE:20140906
DTEND;VALUE=DATE:20140907
DTSTAMP:20260421T005205
CREATED:20080309T031101Z
LAST-MODIFIED:20190423T105202Z
UID:33363-1409961600-1409961600@hardloopevenementen.com
SUMMARY:Kersenloop Mierlo\, gemeente Geldrop-Mierlo (NB)
DESCRIPTION:Doe mee met het hardloopevenement Kersenloop te Mierlo\, gemeente Geldrop-Mierlo (NB) op za 06 sep 2014. De volgende afstanden staan op het programma: 5\,2 km – 10\,4 km – 15\,6 km hardlopen. Wilt u inschrijven voor dit loopevenement?  Raadpleeg hiervoor dan de website van de organisatie\nDe uitslagen van deze hardloopwedstrijd zijn te raadplegen via dezelfde website of via de bekende websites zoals uitslagen.nl\, runtimer en mylaps. Doet u mee met dit evenement\, zorg dan dat u goed voorbereid aan de start staat! Met een goed trainingsschema komt u een heel eind. Train bijvoorbeeld met start to run van Evy Gruyaert. Download de start to run mp3 bestanden en zet ze op uw telefoon. Oortjes in\, hit the play button en en rennen maar! \n\n\n\n\nMeer informatie over Kersenloop op Hardloopkalender.nl  \nStart en finish bij Gasterij ’t Spitje\, Past. de Winterstraat in Mierlo.    Start 18:30 uur  Inschrijven : 17:00 tot 18:15 uur  Kosten :  5\,00 PP \n  \n  \n 
URL:https://hardloopevenementen.com/loopagenda/kersenloop-mierlo-gemeente-geldrop-mierlo-nb-4/
END:VEVENT
BEGIN:VEVENT
DTSTART;VALUE=DATE:20130907
DTEND;VALUE=DATE:20130908
DTSTAMP:20260421T005205
CREATED:20170201T041910Z
LAST-MODIFIED:20190423T104023Z
UID:31189-1378512000-1378512000@hardloopevenementen.com
SUMMARY:Kersenloop Mierlo 2013 Mierlo\, gemeente Geldrop-Mierlo (NB)
DESCRIPTION:Doe mee met het hardloopevenement Kersenloop Mierlo 2013 te Mierlo\, gemeente Geldrop-Mierlo (NB) op za 07 sep 2013. De volgende afstanden staan op het programma: 5\,3 km – 10\,3 km – 15\,9 km hardlopen. Wilt u inschrijven voor dit loopevenement?  Raadpleeg hiervoor dan de website van de organisatie\nDe uitslagen van deze hardloopwedstrijd zijn te raadplegen via dezelfde website of via de bekende websites zoals uitslagen.nl\, runtimer en mylaps. Doet u mee met dit evenement\, zorg dan dat u goed voorbereid aan de start staat! Met een goed trainingsschema komt u een heel eind. Train bijvoorbeeld met start to run van Evy Gruyaert. Download de start to run mp3 bestanden en zet ze op uw telefoon. Oortjes in\, hit the play button en en rennen maar! \n\n\n\n\nMeer informatie over Kersenloop Mierlo 2013 op Hardloopkalender.nl  \nDe Kersenloop in Mierlo wordt al meer dan 20 jaar georganiseerd. Het parkoers levert al jaren heel snelle tijden op en loopt voor een belangrijk deel door natuurgebied. De Kersenloop is zeer geschikt voor wedstrijdlopers (bijvoorbeeld als voorbereiding op een (halve) marathon\, maar zeker ook voor de recreatieve lopers. Per afstand worden voor de eerste 3 aankomenden prijzen gegeven. Na afloop is het prima napraten. Kortom de Kersenloop staat voor sportief\, snel en gezellig. \n  \n  \n 
URL:https://hardloopevenementen.com/loopagenda/kersenloop-mierlo-2013-mierlo-gemeente-geldrop-mierlo-nb/
END:VEVENT
BEGIN:VEVENT
DTSTART;VALUE=DATE:20120901
DTEND;VALUE=DATE:20120902
DTSTAMP:20260421T005205
CREATED:20160518T205326Z
LAST-MODIFIED:20190423T102958Z
UID:27804-1346457600-1346457600@hardloopevenementen.com
SUMMARY:Kersenloop Mierlo\, gemeente Geldrop-Mierlo (NB)
DESCRIPTION:Doe mee met het hardloopevenement Kersenloop te Mierlo\, gemeente Geldrop-Mierlo (NB) op za 01 sep 2012. De volgende afstanden staan op het programma: 5 km – 10 km – 15 km hardlopen. Wilt u inschrijven voor dit loopevenement?  Raadpleeg hiervoor dan de website van de organisatie\nDe uitslagen van deze hardloopwedstrijd zijn te raadplegen via dezelfde website of via de bekende websites zoals uitslagen.nl\, runtimer en mylaps. Doet u mee met dit evenement\, zorg dan dat u goed voorbereid aan de start staat! Met een goed trainingsschema komt u een heel eind. Train bijvoorbeeld met start to run van Evy Gruyaert. Download de start to run mp3 bestanden en zet ze op uw telefoon. Oortjes in\, hit the play button en en rennen maar! \n\n\n\n\nMeer informatie over Kersenloop op Hardloopkalender.nl  \n  \n  \n 
URL:https://hardloopevenementen.com/loopagenda/kersenloop-mierlo-gemeente-geldrop-mierlo-nb-3/
END:VEVENT
BEGIN:VEVENT
DTSTART;VALUE=DATE:20100828
DTEND;VALUE=DATE:20100829
DTSTAMP:20260421T005205
CREATED:20131103T051421Z
LAST-MODIFIED:20190423T100928Z
UID:3741-1282953600-1282953600@hardloopevenementen.com
SUMMARY:Kersenloop Mierlo\, gemeente Geldrop-Mierlo (NB)
DESCRIPTION:Doe mee met het hardloopevenement Kersenloop te Mierlo\, gemeente Geldrop-Mierlo (NB) op za 28 aug 2010. De volgende afstanden staan op het programma: 5 km – 10 km – 15 km hardlopen. Wilt u inschrijven voor dit loopevenement?  Raadpleeg hiervoor dan de website van de organisatie\nDe uitslagen van deze hardloopwedstrijd zijn te raadplegen via dezelfde website of via de bekende websites zoals uitslagen.nl\, runtimer en mylaps. Doet u mee met dit evenement\, zorg dan dat u goed voorbereid aan de start staat! Met een goed trainingsschema komt u een heel eind. Train bijvoorbeeld met start to run van Evy Gruyaert. Download de start to run mp3 bestanden en zet ze op uw telefoon. Oortjes in\, hit the play button en en rennen maar! \n\n\n\n\nMeer informatie over Kersenloop op Hardloopkalender.nl  \n  \n  \n 
URL:https://hardloopevenementen.com/loopagenda/kersenloop-mierlo-gemeente-geldrop-mierlo-nb-2/
END:VEVENT
BEGIN:VEVENT
DTSTART;VALUE=DATE:20090829
DTEND;VALUE=DATE:20090830
DTSTAMP:20260421T005205
CREATED:20100903T175355Z
LAST-MODIFIED:20190423T095918Z
UID:1899-1251504000-1251504000@hardloopevenementen.com
SUMMARY:Kersenloop Mierlo\, gemeente Geldrop-Mierlo (NB)
DESCRIPTION:Doe mee met het hardloopevenement Kersenloop te Mierlo\, gemeente Geldrop-Mierlo (NB) op za 29 aug 2009. De volgende afstanden staan op het programma: 5 km – 10 km – 15 km hardlopen. Wilt u inschrijven voor dit loopevenement?  Raadpleeg hiervoor dan de website van de organisatie\nDe uitslagen van deze hardloopwedstrijd zijn te raadplegen via dezelfde website of via de bekende websites zoals uitslagen.nl\, runtimer en mylaps. Doet u mee met dit evenement\, zorg dan dat u goed voorbereid aan de start staat! Met een goed trainingsschema komt u een heel eind. Train bijvoorbeeld met start to run van Evy Gruyaert. Download de start to run mp3 bestanden en zet ze op uw telefoon. Oortjes in\, hit the play button en en rennen maar! \n\n\n\n\nMeer informatie over Kersenloop op Hardloopkalender.nl  \nStart en finish bij Gasterij ’t Spitje\, Pastoor de Winterstraat 18 te Mierlo.  Parcours loopt door de kom van Mierlo en het buitengebied.  Omkleden in Gasterij ’t Spitje.  Parkeren bij sporthal De Weijer.  Inschrijgeld  3\,50 per deelnemer.  Inlichtingen bij Rien van Asten tel 0492-662409. \n  \n  \n 
URL:https://hardloopevenementen.com/loopagenda/kersenloop-mierlo-gemeente-geldrop-mierlo-nb/
END:VEVENT
END:VCALENDAR