BEGIN:VCALENDAR
VERSION:2.0
PRODID:-//Hardloopevenementen - ECPv6.15.14//NONSGML v1.0//EN
CALSCALE:GREGORIAN
METHOD:PUBLISH
X-WR-CALNAME:Hardloopevenementen
X-ORIGINAL-URL:https://hardloopevenementen.com
X-WR-CALDESC:Evenementen voor Hardloopevenementen
REFRESH-INTERVAL;VALUE=DURATION:PT1H
X-Robots-Tag:noindex
X-PUBLISHED-TTL:PT1H
BEGIN:VTIMEZONE
TZID:UTC
BEGIN:STANDARD
TZOFFSETFROM:+0000
TZOFFSETTO:+0000
TZNAME:UTC
DTSTART:20060101T000000
END:STANDARD
END:VTIMEZONE
BEGIN:VEVENT
DTSTART;VALUE=DATE:20171226
DTEND;VALUE=DATE:20171227
DTSTAMP:20260421T110035
CREATED:20070611T090345Z
LAST-MODIFIED:20190423T114200Z
UID:13567-1514246400-1514246400@hardloopevenementen.com
SUMMARY:Kerststrandloop Den Haag (ZH)
DESCRIPTION:Doe mee met het hardloopevenement Kerststrandloop te Den Haag (ZH) op di 26 dec 2017. De volgende afstanden staan op het programma: 1\,2 km – 5 km – 10 km hardlopen. Wilt u inschrijven voor dit loopevenement?  Raadpleeg hiervoor dan de website van de organisatie\nDe uitslagen van deze hardloopwedstrijd zijn te raadplegen via dezelfde website of via de bekende websites zoals uitslagen.nl\, runtimer en mylaps. Doet u mee met dit evenement\, zorg dan dat u goed voorbereid aan de start staat! Met een goed trainingsschema komt u een heel eind. Train bijvoorbeeld met start to run van Evy Gruyaert. Download de start to run mp3 bestanden en zet ze op uw telefoon. Oortjes in\, hit the play button en en rennen maar! \n\n\n\n\nMeer informatie over Kerststrandloop op Hardloopkalender.nl  \nWegatletiekvereniging The Hague Road Runners\, gelegen aan de duinrand tussen Den Haag en Wassenaar voor de wedstrijdatleet en recreant. \n  \n  \n 
URL:https://hardloopevenementen.com/loopagenda/kerststrandloop-den-haag-zh/
END:VEVENT
BEGIN:VEVENT
DTSTART;VALUE=DATE:20151226
DTEND;VALUE=DATE:20151227
DTSTAMP:20260421T110035
CREATED:20101024T065810Z
LAST-MODIFIED:20190423T110627Z
UID:9162-1451088000-1451088000@hardloopevenementen.com
SUMMARY:Kerststrandloop Scheveningen\, gemeente Den Haag (ZH)
DESCRIPTION:Doe mee met het hardloopevenement Kerststrandloop te Scheveningen\, gemeente Den Haag (ZH) op za 26 dec 2015. De volgende afstanden staan op het programma: 1\,5 km – 5 km – 10 km hardlopen. Wilt u inschrijven voor dit loopevenement?  Raadpleeg hiervoor dan de website van de organisatie\nDe uitslagen van deze hardloopwedstrijd zijn te raadplegen via dezelfde website of via de bekende websites zoals uitslagen.nl\, runtimer en mylaps. Doet u mee met dit evenement\, zorg dan dat u goed voorbereid aan de start staat! Met een goed trainingsschema komt u een heel eind. Train bijvoorbeeld met start to run van Evy Gruyaert. Download de start to run mp3 bestanden en zet ze op uw telefoon. Oortjes in\, hit the play button en en rennen maar! \n\n\n\n\nMeer informatie over Kerststrandloop op Hardloopkalender.nl  \nHet loopevenement Kerststrandloop te Scheveningen vindt plaats op zaterdag 26 december 2015. \n  \n  \n 
URL:https://hardloopevenementen.com/loopagenda/kerststrandloop-scheveningen-gemeente-den-haag-zh-4/
END:VEVENT
BEGIN:VEVENT
DTSTART;VALUE=DATE:20141226
DTEND;VALUE=DATE:20141227
DTSTAMP:20260421T110035
CREATED:20130620T125259Z
LAST-MODIFIED:20190423T104826Z
UID:8472-1419552000-1419552000@hardloopevenementen.com
SUMMARY:Kerststrandloop Scheveningen\, gemeente Den Haag (ZH)
DESCRIPTION:Doe mee met het hardloopevenement Kerststrandloop te Scheveningen\, gemeente Den Haag (ZH) op vr 26 dec 2014. De volgende afstanden staan op het programma: 1\,5 km – 5 km – 10 km hardlopen. Wilt u inschrijven voor dit loopevenement?  Raadpleeg hiervoor dan de website van de organisatie\nDe uitslagen van deze hardloopwedstrijd zijn te raadplegen via dezelfde website of via de bekende websites zoals uitslagen.nl\, runtimer en mylaps. Doet u mee met dit evenement\, zorg dan dat u goed voorbereid aan de start staat! Met een goed trainingsschema komt u een heel eind. Train bijvoorbeeld met start to run van Evy Gruyaert. Download de start to run mp3 bestanden en zet ze op uw telefoon. Oortjes in\, hit the play button en en rennen maar! \n\n\n\n\nMeer informatie over Kerststrandloop op Hardloopkalender.nl  \nHet loopevenement Kerststrandloop te Scheveningen vindt plaats op vrijdag 26 december 2014. De loop wordt georganisseerd door The Hague Road Runners. Klik hier voor het adres van de start (Google Maps). \n  \n  \n 
URL:https://hardloopevenementen.com/loopagenda/kerststrandloop-scheveningen-gemeente-den-haag-zh-3/
END:VEVENT
BEGIN:VEVENT
DTSTART;VALUE=DATE:20131226
DTEND;VALUE=DATE:20131227
DTSTAMP:20260421T110035
CREATED:20130304T040119Z
LAST-MODIFIED:20190423T103719Z
UID:7881-1388016000-1388016000@hardloopevenementen.com
SUMMARY:HRR Kerststrandloop Scheveningen\, gemeente Den Haag (ZH)
DESCRIPTION:Doe mee met het hardloopevenement HRR Kerststrandloop te Scheveningen\, gemeente Den Haag (ZH) op do 26 dec 2013. De volgende afstanden staan op het programma: 1 km – 5 km – 10 km hardlopen. Wilt u inschrijven voor dit loopevenement?  Raadpleeg hiervoor dan de website van de organisatie\nDe uitslagen van deze hardloopwedstrijd zijn te raadplegen via dezelfde website of via de bekende websites zoals uitslagen.nl\, runtimer en mylaps. Doet u mee met dit evenement\, zorg dan dat u goed voorbereid aan de start staat! Met een goed trainingsschema komt u een heel eind. Train bijvoorbeeld met start to run van Evy Gruyaert. Download de start to run mp3 bestanden en zet ze op uw telefoon. Oortjes in\, hit the play button en en rennen maar! \n\n\n\n\nMeer informatie over HRR Kerststrandloop op Hardloopkalender.nl  \nHet loopevenement HRR Kerststrandloop te Scheveningen vindt plaats op donderdag 26 december 2013. De loop wordt georganisseerd door The Hague Road Runners. Inschrijven is mogelijk vanaf 26 december 2013. Klik hier voor het adres van de start (Google Maps).Er is geen verkleedaccomodatie aanwezig. Er is EHBO aanwezig. Bijzonderheden: Inschrijven en prijsuitreiking bij de Aquajutter\, bij het Noorderhavenhoofd..Voor meer informatie:Izaak Luteijnizkltn@bart.nl0622398576http:  www.hagueroadrunners.nl \n  \n  \n 
URL:https://hardloopevenementen.com/loopagenda/hrr-kerststrandloop-scheveningen-gemeente-den-haag-zh/
END:VEVENT
BEGIN:VEVENT
DTSTART;VALUE=DATE:20121226
DTEND;VALUE=DATE:20121227
DTSTAMP:20260421T110035
CREATED:20160411T111442Z
LAST-MODIFIED:20190423T102656Z
UID:7141-1356480000-1356480000@hardloopevenementen.com
SUMMARY:Kerststrandloop Scheveningen\, gemeente Den Haag (ZH)
DESCRIPTION:Doe mee met het hardloopevenement Kerststrandloop te Scheveningen\, gemeente Den Haag (ZH) op wo 26 dec 2012. De volgende afstanden staan op het programma: 1\,5 km – 5 km – 10 km hardlopen. Wilt u inschrijven voor dit loopevenement?  Raadpleeg hiervoor dan de website van de organisatie\nDe uitslagen van deze hardloopwedstrijd zijn te raadplegen via dezelfde website of via de bekende websites zoals uitslagen.nl\, runtimer en mylaps. Doet u mee met dit evenement\, zorg dan dat u goed voorbereid aan de start staat! Met een goed trainingsschema komt u een heel eind. Train bijvoorbeeld met start to run van Evy Gruyaert. Download de start to run mp3 bestanden en zet ze op uw telefoon. Oortjes in\, hit the play button en en rennen maar! \n\n\n\n\nMeer informatie over Kerststrandloop op Hardloopkalender.nl  \nHet loopevenement Kerststrandloop te Scheveningen vindt plaats op woensdag 26 december 2012. De loop wordt georganiseerd door The Hague Road Runners. Inschrijven is mogelijk vanaf 26 december 2011. Klik hier voor het adres van de start (Google Maps).Er is EHBO aanwezig. Afstand SoortloopInschrijfgeldStarttijdInfo10 km6\,0012:00uur5 km6\,0012:00uur1.5 km0\,0012:00urVoor meer informatie:H.Hoogeveenhenk.hoogeveen@vodafone.nl0654721822http:  hagueroadrunners.nl \n  \n  \n 
URL:https://hardloopevenementen.com/loopagenda/kerststrandloop-scheveningen-gemeente-den-haag-zh-2/
END:VEVENT
BEGIN:VEVENT
DTSTART;VALUE=DATE:20111226
DTEND;VALUE=DATE:20111227
DTSTAMP:20260421T110035
CREATED:20080306T190144Z
LAST-MODIFIED:20190423T101616Z
UID:5731-1324857600-1324857600@hardloopevenementen.com
SUMMARY:Kerststrandloop Scheveningen\, gemeente Den Haag (ZH)
DESCRIPTION:Doe mee met het hardloopevenement Kerststrandloop te Scheveningen\, gemeente Den Haag (ZH) op ma 26 dec 2011. De volgende afstanden staan op het programma: 1\,2 km – 5 km – 10 km hardlopen. Wilt u inschrijven voor dit loopevenement?  Raadpleeg hiervoor dan de website van de organisatie\nDe uitslagen van deze hardloopwedstrijd zijn te raadplegen via dezelfde website of via de bekende websites zoals uitslagen.nl\, runtimer en mylaps. Doet u mee met dit evenement\, zorg dan dat u goed voorbereid aan de start staat! Met een goed trainingsschema komt u een heel eind. Train bijvoorbeeld met start to run van Evy Gruyaert. Download de start to run mp3 bestanden en zet ze op uw telefoon. Oortjes in\, hit the play button en en rennen maar! \n\n\n\n\nMeer informatie over Kerststrandloop op Hardloopkalender.nl  \nHet loopevenement Kerststrandloop te Scheveningen vindt plaats op maandag 26 december 2011. De loop wordt georganiseerd door The Hague Road Runners. Inschrijven is mogelijk vanaf 26 december 2011. Klik hier voor het adres van de start (Google Maps).Er is verkleedaccomodatie met douchemogelijkheid aanwezig. Er is EHBO aanwezig. Afstand(km)Inschrijfgeld(€)Starttijd10€6\,0012:00uur5€6\,0012:00uur1\,5€0\,0012:00urVoor meer informatie:H.Hoogeveenhenk.hoogeveen@vodafone.nl0654721822http:  hagueroadrunners.nl \n  \n  \n 
URL:https://hardloopevenementen.com/loopagenda/kerststrandloop-scheveningen-gemeente-den-haag-zh/
END:VEVENT
BEGIN:VEVENT
DTSTART;VALUE=DATE:20071226
DTEND;VALUE=DATE:20071227
DTSTAMP:20260421T110035
CREATED:20090527T044044Z
LAST-MODIFIED:20190423T093802Z
UID:48-1198627200-1198627200@hardloopevenementen.com
SUMMARY:HRR kerststrandloop Scheveningen
DESCRIPTION:Doe mee met het hardloopevenement HRR kerststrandloop te Scheveningen op wo 26 dec 2007. De volgende afstanden staan op het programma: 5 km – 10 km hardlopen. Wilt u inschrijven voor dit loopevenement?  Raadpleeg hiervoor dan de website van de organisatie\nDe uitslagen van deze hardloopwedstrijd zijn te raadplegen via dezelfde website of via de bekende websites zoals uitslagen.nl\, runtimer en mylaps. Doet u mee met dit evenement\, zorg dan dat u goed voorbereid aan de start staat! Met een goed trainingsschema komt u een heel eind. Train bijvoorbeeld met start to run van Evy Gruyaert. Download de start to run mp3 bestanden en zet ze op uw telefoon. Oortjes in\, hit the play button en en rennen maar! \n\n\n\n\nMeer informatie over HRR kerststrandloop op Hardloopkalender.nl  \n  \n  \n 
URL:https://hardloopevenementen.com/loopagenda/hrr-kerststrandloop-scheveningen/
END:VEVENT
END:VCALENDAR