BEGIN:VCALENDAR
VERSION:2.0
PRODID:-//Hardloopevenementen - ECPv6.15.14//NONSGML v1.0//EN
CALSCALE:GREGORIAN
METHOD:PUBLISH
X-ORIGINAL-URL:https://hardloopevenementen.com
X-WR-CALDESC:Evenementen voor Hardloopevenementen
REFRESH-INTERVAL;VALUE=DURATION:PT1H
X-Robots-Tag:noindex
X-PUBLISHED-TTL:PT1H
BEGIN:VTIMEZONE
TZID:UTC
BEGIN:STANDARD
TZOFFSETFROM:+0000
TZOFFSETTO:+0000
TZNAME:UTC
DTSTART:20150101T000000
END:STANDARD
END:VTIMEZONE
BEGIN:VEVENT
DTSTART;VALUE=DATE:20160903
DTEND;VALUE=DATE:20160904
DTSTAMP:20260419T235234
CREATED:20170203T063111Z
LAST-MODIFIED:20190423T112246Z
UID:12108-1472860800-1472860800@hardloopevenementen.com
SUMMARY:Kill the Hill Groningen (GR)
DESCRIPTION:Doe mee met het hardloopevenement Kill the Hill te Groningen (GR) op za 03 sep 2016. De volgende afstanden staan op het programma: 2 km – 4 km – 8 km – 10 Engelse mijl hardlopen. Wilt u inschrijven voor dit loopevenement?  Raadpleeg hiervoor dan de website van de organisatie\nDe uitslagen van deze hardloopwedstrijd zijn te raadplegen via dezelfde website of via de bekende websites zoals uitslagen.nl\, runtimer en mylaps. Doet u mee met dit evenement\, zorg dan dat u goed voorbereid aan de start staat! Met een goed trainingsschema komt u een heel eind. Train bijvoorbeeld met start to run van Evy Gruyaert. Download de start to run mp3 bestanden en zet ze op uw telefoon. Oortjes in\, hit the play button en en rennen maar! \n\n\n\n\nMeer informatie over Kill the Hill op Hardloopkalender.nl  \nIedere 2 km 125 meter stijgen!   Dus op de 10 mijl (16 km)\, 1000 mtr (1 KM) sijgen! \n  \n  \n 
URL:https://hardloopevenementen.com/loopagenda/kill-the-hill-groningen-gr/
END:VEVENT
END:VCALENDAR