BEGIN:VCALENDAR
VERSION:2.0
PRODID:-//Hardloopevenementen - ECPv6.15.14//NONSGML v1.0//EN
CALSCALE:GREGORIAN
METHOD:PUBLISH
X-ORIGINAL-URL:https://hardloopevenementen.com
X-WR-CALDESC:Evenementen voor Hardloopevenementen
REFRESH-INTERVAL;VALUE=DURATION:PT1H
X-Robots-Tag:noindex
X-PUBLISHED-TTL:PT1H
BEGIN:VTIMEZONE
TZID:UTC
BEGIN:STANDARD
TZOFFSETFROM:+0000
TZOFFSETTO:+0000
TZNAME:UTC
DTSTART:20130101T000000
END:STANDARD
END:VTIMEZONE
BEGIN:VEVENT
DTSTART;VALUE=DATE:20151122
DTEND;VALUE=DATE:20151123
DTSTAMP:20260423T214253
CREATED:20071212T164133Z
LAST-MODIFIED:20190423T110716Z
UID:9351-1448150400-1448150400@hardloopevenementen.com
SUMMARY:Prestatieloop voor een Kind Rotterdam (ZH)
DESCRIPTION:Doe mee met het hardloopevenement Prestatieloop voor een Kind te Rotterdam (ZH) op zo 22 nov 2015. De volgende afstanden staan op het programma: 2\,5 km – 5 km – 10 km hardlopen. Wilt u inschrijven voor dit loopevenement?  Raadpleeg hiervoor dan de website van de organisatie\nDe uitslagen van deze hardloopwedstrijd zijn te raadplegen via dezelfde website of via de bekende websites zoals uitslagen.nl\, runtimer en mylaps. Doet u mee met dit evenement\, zorg dan dat u goed voorbereid aan de start staat! Met een goed trainingsschema komt u een heel eind. Train bijvoorbeeld met start to run van Evy Gruyaert. Download de start to run mp3 bestanden en zet ze op uw telefoon. Oortjes in\, hit the play button en en rennen maar! \n\n\n\n\nMeer informatie over Prestatieloop voor een Kind op Hardloopkalender.nl  \n  \n  \n 
URL:https://hardloopevenementen.com/loopagenda/prestatieloop-voor-een-kind-rotterdam-zh/
END:VEVENT
BEGIN:VEVENT
DTSTART;VALUE=DATE:20140323
DTEND;VALUE=DATE:20140324
DTSTAMP:20260423T214253
CREATED:20071230T112323Z
LAST-MODIFIED:20190423T105702Z
UID:34477-1395532800-1395532800@hardloopevenementen.com
SUMMARY:Achmea 1-2-3 Mijl Run 4 het vergeten kind Hoogeveen (DR)
DESCRIPTION:Doe mee met het hardloopevenement Achmea 1-2-3 Mijl Run 4 het vergeten kind te Hoogeveen (DR) op zo 23 mrt 2014. De volgende afstanden staan op het programma: 1\,6 km – 3\,2 km – 4\,8 km – 6\,4 km hardlopen. Wilt u inschrijven voor dit loopevenement?  Raadpleeg hiervoor dan de website van de organisatie\nDe uitslagen van deze hardloopwedstrijd zijn te raadplegen via dezelfde website of via de bekende websites zoals uitslagen.nl\, runtimer en mylaps. Doet u mee met dit evenement\, zorg dan dat u goed voorbereid aan de start staat! Met een goed trainingsschema komt u een heel eind. Train bijvoorbeeld met start to run van Evy Gruyaert. Download de start to run mp3 bestanden en zet ze op uw telefoon. Oortjes in\, hit the play button en en rennen maar! \n\n\n\n\nMeer informatie over Achmea 1-2-3 Mijl Run 4 het vergeten kind op Hardloopkalender.nl  \nDe Achmea 1-2-3 Mijl Run 4 het vergeten kind is een recreatieloop waarbij deelnemers kunnen kiezen uit het lopen van 1\, 2\, 3 of 4 mijl. Deze Run staat in het teken van het ‘vergeten kind’: www.vergetenkind.nl.  Inschrijfkosten 5 euro\, meer doneren mag.  Inschrijven kan via www.inschrijven.nl of op de dag zelf tot een half uur voor aanvang van de start.  Voor elke deelnemer is er een herinnering. \n  \n  \n 
URL:https://hardloopevenementen.com/loopagenda/achmea-1-2-3-mijl-run-4-het-vergeten-kind-hoogeveen-dr/
END:VEVENT
END:VCALENDAR