BEGIN:VCALENDAR
VERSION:2.0
PRODID:-//Hardloopevenementen - ECPv6.15.14//NONSGML v1.0//EN
CALSCALE:GREGORIAN
METHOD:PUBLISH
X-WR-CALNAME:Hardloopevenementen
X-ORIGINAL-URL:https://hardloopevenementen.com
X-WR-CALDESC:Evenementen voor Hardloopevenementen
REFRESH-INTERVAL;VALUE=DURATION:PT1H
X-Robots-Tag:noindex
X-PUBLISHED-TTL:PT1H
BEGIN:VTIMEZONE
TZID:UTC
BEGIN:STANDARD
TZOFFSETFROM:+0000
TZOFFSETTO:+0000
TZNAME:UTC
DTSTART:20130101T000000
END:STANDARD
END:VTIMEZONE
BEGIN:VEVENT
DTSTART;VALUE=DATE:20141207
DTEND;VALUE=DATE:20141208
DTSTAMP:20260420T083910
CREATED:20170829T224730Z
LAST-MODIFIED:20190423T104855Z
UID:8585-1417910400-1417910400@hardloopevenementen.com
SUMMARY:De 18 bij Kip Vollenhove\, gemeente Steenwijkerland (OV)
DESCRIPTION:Doe mee met het hardloopevenement De 18 bij Kip te Vollenhove\, gemeente Steenwijkerland (OV) op zo 07 dec 2014. De volgende afstanden staan op het programma: 18\,5 km hardlopen. Wilt u inschrijven voor dit loopevenement?  Raadpleeg hiervoor dan de website van de organisatie\nDe uitslagen van deze hardloopwedstrijd zijn te raadplegen via dezelfde website of via de bekende websites zoals uitslagen.nl\, runtimer en mylaps. Doet u mee met dit evenement\, zorg dan dat u goed voorbereid aan de start staat! Met een goed trainingsschema komt u een heel eind. Train bijvoorbeeld met start to run van Evy Gruyaert. Download de start to run mp3 bestanden en zet ze op uw telefoon. Oortjes in\, hit the play button en en rennen maar! \n\n\n\n\nMeer informatie over De 18 bij Kip op Hardloopkalender.nl  \nHet loopevenement De 18 bij Kip te Vollenhove vindt plaats op zondag 07 december 2014. De loop wordt georganisseerd door Van Bloois Sportadvies. Klik hier voor het adres van de start (Google Maps).Bijzonderheden: Recreatieve natuurloop\, gebonden aan een beperkt aantal deelnemers. \n  \n  \n 
URL:https://hardloopevenementen.com/loopagenda/de-18-bij-kip-vollenhove-gemeente-steenwijkerland-ov/
END:VEVENT
END:VCALENDAR