BEGIN:VCALENDAR
VERSION:2.0
PRODID:-//Hardloopevenementen - ECPv6.15.14//NONSGML v1.0//EN
CALSCALE:GREGORIAN
METHOD:PUBLISH
X-ORIGINAL-URL:https://hardloopevenementen.com
X-WR-CALDESC:Evenementen voor Hardloopevenementen
REFRESH-INTERVAL;VALUE=DURATION:PT1H
X-Robots-Tag:noindex
X-PUBLISHED-TTL:PT1H
BEGIN:VTIMEZONE
TZID:UTC
BEGIN:STANDARD
TZOFFSETFROM:+0000
TZOFFSETTO:+0000
TZNAME:UTC
DTSTART:20070101T000000
END:STANDARD
END:VTIMEZONE
BEGIN:VEVENT
DTSTART;VALUE=DATE:20190407
DTEND;VALUE=DATE:20190408
DTSTAMP:20260422T030243
CREATED:20111211T082348Z
LAST-MODIFIED:20191114T112715Z
UID:17805-1554595200-1554595200@hardloopevenementen.com
SUMMARY:Klifloop Nijmegen (GE)
DESCRIPTION:Doe mee met het hardloopevenement Klifloop te Nijmegen (GE) op zo 07 apr 2019. De volgende afstanden staan op het programma: 0\,7 km – 1\,4 km – 5 km – 10 km hardlopen. Wilt u inschrijven voor dit loopevenement?  Raadpleeg hiervoor dan de website van de organisatie\nDe uitslagen van deze hardloopwedstrijd zijn te raadplegen via dezelfde website of via de bekende websites zoals uitslagen.nl\, runtimer en mylaps. Doet u mee met dit evenement\, zorg dan dat u goed voorbereid aan de start staat! Met een goed trainingsschema komt u een heel eind. Train bijvoorbeeld met start to run van Evy Gruyaert. Download de start to run mp3 bestanden en zet ze op uw telefoon. Oortjes in\, hit the play button en en rennen maar! \n\n\n\n\nMeer informatie over Klifloop op Hardloopkalender.nl  \nVoor de kinderen:  rondje rondom De Klif 3-4 jaar	675 m		   rondje rondom De Klif 5-6 jaar	675 m		   rondje rondom De Klif 7-8 jaar	1350 m		   rondje rondom De Klif 9-10 jaar	1350 m		   rondje rondom De Klif 11-12 jaar  1350 m \n  \n  \n 
URL:https://hardloopevenementen.com/loopagenda/klifloop-nijmegen-ge-4/
END:VEVENT
BEGIN:VEVENT
DTSTART;VALUE=DATE:20190405
DTEND;VALUE=DATE:20190406
DTSTAMP:20260422T030243
CREATED:20130729T173359Z
LAST-MODIFIED:20191114T112717Z
UID:142664-1554422400-1554422400@hardloopevenementen.com
SUMMARY:De Klifloop Nijmegen (GE)
DESCRIPTION:Doe mee met het hardloopevenement De Klifloop te Nijmegen (GE) op vr 05 apr 2019. De volgende afstanden staan op het programma: 5 km – 10 km hardlopen. Wilt u inschrijven voor dit loopevenement?  Raadpleeg hiervoor dan de website van de organisatie\nDe uitslagen van deze hardloopwedstrijd zijn te raadplegen via dezelfde website of via de bekende websites zoals uitslagen.nl\, runtimer en mylaps. Doet u mee met dit evenement\, zorg dan dat u goed voorbereid aan de start staat! Met een goed trainingsschema komt u een heel eind. Train bijvoorbeeld met start to run van Evy Gruyaert. Download de start to run mp3 bestanden en zet ze op uw telefoon. Oortjes in\, hit the play button en en rennen maar! \n\n\n\n\nMeer informatie over De Klifloop op Hardloopkalender.nl  \nOp zondag 5 april 2020 klinkt het startschot voor de 13de editie van de Klifloop. Deelnemers kunnen 5 of 10 km hardlopen en voor de jongste deelnemers is er natuurlijk de kidsrun. \n  \n  \n 
URL:https://hardloopevenementen.com/loopagenda/de-klifloop-nijmegen-ge/
END:VEVENT
BEGIN:VEVENT
DTSTART;VALUE=DATE:20170402
DTEND;VALUE=DATE:20170403
DTSTAMP:20260422T030243
CREATED:20150202T122903Z
LAST-MODIFIED:20190423T114723Z
UID:15010-1491091200-1491091200@hardloopevenementen.com
SUMMARY:Klifloop Nijmegen (GE)
DESCRIPTION:Doe mee met het hardloopevenement Klifloop te Nijmegen (GE) op zo 02 apr 2017. De volgende afstanden staan op het programma: 0\,7 km – 1\,4 km – 5 km – 10 km hardlopen. Wilt u inschrijven voor dit loopevenement?  Raadpleeg hiervoor dan de website van de organisatie\nDe uitslagen van deze hardloopwedstrijd zijn te raadplegen via dezelfde website of via de bekende websites zoals uitslagen.nl\, runtimer en mylaps. Doet u mee met dit evenement\, zorg dan dat u goed voorbereid aan de start staat! Met een goed trainingsschema komt u een heel eind. Train bijvoorbeeld met start to run van Evy Gruyaert. Download de start to run mp3 bestanden en zet ze op uw telefoon. Oortjes in\, hit the play button en en rennen maar! \n\n\n\n\nMeer informatie over Klifloop op Hardloopkalender.nl  \nOp zondag 2 april organiseert Loopvereniging Nijmegen Noord alweer de 11e  editie van de Klifloop. Om 10:30 u klinkt het startschot voor de 5 km\, om 11:30 u gaan de 10 km-lopers van start en vanaf 13:00 u zijn de 3- tot en met 12-jarigen aan de beurt voor hun rondje om de Klif \n  \n  \n 
URL:https://hardloopevenementen.com/loopagenda/klifloop-nijmegen-ge-3/
END:VEVENT
BEGIN:VEVENT
DTSTART;VALUE=DATE:20160410
DTEND;VALUE=DATE:20160411
DTSTAMP:20260422T030243
CREATED:20151102T032644Z
LAST-MODIFIED:20190423T112607Z
UID:12982-1460246400-1460246400@hardloopevenementen.com
SUMMARY:Klifloop Nijmegen (GE)
DESCRIPTION:Doe mee met het hardloopevenement Klifloop te Nijmegen (GE) op zo 10 apr 2016. De volgende afstanden staan op het programma: 0\,7 km – 1\,4 km – 5 km – 10 km hardlopen. Wilt u inschrijven voor dit loopevenement?  Raadpleeg hiervoor dan de website van de organisatie\nDe uitslagen van deze hardloopwedstrijd zijn te raadplegen via dezelfde website of via de bekende websites zoals uitslagen.nl\, runtimer en mylaps. Doet u mee met dit evenement\, zorg dan dat u goed voorbereid aan de start staat! Met een goed trainingsschema komt u een heel eind. Train bijvoorbeeld met start to run van Evy Gruyaert. Download de start to run mp3 bestanden en zet ze op uw telefoon. Oortjes in\, hit the play button en en rennen maar! \n\n\n\n\nMeer informatie over Klifloop op Hardloopkalender.nl  \nHardloopevenement met loopjes voor kinderen en volwassenen. Tevens een gezellige markt op het plein bij de Klif. Low-profile maar mét chip-tijdmeting\, foto en video bij de 5 en 10 km.  Kinderen lopen 1 (675 meter) of 2 (1350 meter) rondjes om de Klif en ontvangen een medaille. Pijlpuntstraat 1\, Nijmegen-Noord. \n  \n  \n 
URL:https://hardloopevenementen.com/loopagenda/klifloop-nijmegen-ge-2/
END:VEVENT
BEGIN:VEVENT
DTSTART;VALUE=DATE:20150412
DTEND;VALUE=DATE:20150413
DTSTAMP:20260422T030243
CREATED:20131206T023527Z
LAST-MODIFIED:20190423T111309Z
UID:10699-1428796800-1428796800@hardloopevenementen.com
SUMMARY:Klifloop Nijmegen (GE)
DESCRIPTION:Doe mee met het hardloopevenement Klifloop te Nijmegen (GE) op zo 12 apr 2015. De volgende afstanden staan op het programma: 5 km – 10 km hardlopen. Wilt u inschrijven voor dit loopevenement?  Raadpleeg hiervoor dan de website van de organisatie\nDe uitslagen van deze hardloopwedstrijd zijn te raadplegen via dezelfde website of via de bekende websites zoals uitslagen.nl\, runtimer en mylaps. Doet u mee met dit evenement\, zorg dan dat u goed voorbereid aan de start staat! Met een goed trainingsschema komt u een heel eind. Train bijvoorbeeld met start to run van Evy Gruyaert. Download de start to run mp3 bestanden en zet ze op uw telefoon. Oortjes in\, hit the play button en en rennen maar! \n\n\n\n\nMeer informatie over Klifloop op Hardloopkalender.nl  \nHet loopevenement Klifloop te Nijmegen Noord vindt plaats op zondag 12 april 2015. \n  \n  \n 
URL:https://hardloopevenementen.com/loopagenda/klifloop-nijmegen-ge/
END:VEVENT
BEGIN:VEVENT
DTSTART;VALUE=DATE:20140413
DTEND;VALUE=DATE:20140414
DTSTAMP:20260422T030243
CREATED:20090310T112020Z
LAST-MODIFIED:20190423T105627Z
UID:34339-1397347200-1397347200@hardloopevenementen.com
SUMMARY:Klifloop Nijmegen (GE)
DESCRIPTION:Doe mee met het hardloopevenement Klifloop te Nijmegen (GE) op zo 13 apr 2014. De volgende afstanden staan op het programma: 5 km – 10 km hardlopen. Wilt u inschrijven voor dit loopevenement?  Raadpleeg hiervoor dan de website van de organisatie\nDe uitslagen van deze hardloopwedstrijd zijn te raadplegen via dezelfde website of via de bekende websites zoals uitslagen.nl\, runtimer en mylaps. Doet u mee met dit evenement\, zorg dan dat u goed voorbereid aan de start staat! Met een goed trainingsschema komt u een heel eind. Train bijvoorbeeld met start to run van Evy Gruyaert. Download de start to run mp3 bestanden en zet ze op uw telefoon. Oortjes in\, hit the play button en en rennen maar! \n\n\n\n\nMeer informatie over Klifloop op Hardloopkalender.nl  \nHet loopevenement Klifloop te Nijmegen Noord vindt plaats op zondag 13 april 2014. De loop wordt georganisseerd door Loopvereniging Nijmegen Noord. Klik hier voor het adres van de start (Google Maps). \n  \n  \n 
URL:https://hardloopevenementen.com/loopagenda/klifloop-nijmegen-ge-5/
END:VEVENT
BEGIN:VEVENT
DTSTART;VALUE=DATE:20080316
DTEND;VALUE=DATE:20080317
DTSTAMP:20260422T030243
CREATED:20160621T000605Z
LAST-MODIFIED:20190423T094837Z
UID:20022-1205625600-1205625600@hardloopevenementen.com
SUMMARY:De Klifloop Oosterhout  gem. Nijmegen
DESCRIPTION:Doe mee met het hardloopevenement De Klifloop te Oosterhout  gem. Nijmegen op zo 16 mrt 2008. De volgende afstanden staan op het programma: 0\,6 km – 1\,3 km – 2 km – 5 km – 10 km hardlopen. Wilt u inschrijven voor dit loopevenement?  Raadpleeg hiervoor dan de website van de organisatie\nDe uitslagen van deze hardloopwedstrijd zijn te raadplegen via dezelfde website of via de bekende websites zoals uitslagen.nl\, runtimer en mylaps. Doet u mee met dit evenement\, zorg dan dat u goed voorbereid aan de start staat! Met een goed trainingsschema komt u een heel eind. Train bijvoorbeeld met start to run van Evy Gruyaert. Download de start to run mp3 bestanden en zet ze op uw telefoon. Oortjes in\, hit the play button en en rennen maar! \n\n\n\n\nMeer informatie over De Klifloop op Hardloopkalender.nl  \n0\,6 km 10:15 uur\, 1\,3 km 10:30 uur\, 2 km 10:50 uur\, 5-10 km 11:15 uur \n  \n  \n 
URL:https://hardloopevenementen.com/loopagenda/de-klifloop-oosterhout-gem-nijmegen/
END:VEVENT
END:VCALENDAR