BEGIN:VCALENDAR
VERSION:2.0
PRODID:-//Hardloopevenementen - ECPv6.15.14//NONSGML v1.0//EN
CALSCALE:GREGORIAN
METHOD:PUBLISH
X-WR-CALNAME:Hardloopevenementen
X-ORIGINAL-URL:https://hardloopevenementen.com
X-WR-CALDESC:Evenementen voor Hardloopevenementen
REFRESH-INTERVAL;VALUE=DURATION:PT1H
X-Robots-Tag:noindex
X-PUBLISHED-TTL:PT1H
BEGIN:VTIMEZONE
TZID:UTC
BEGIN:STANDARD
TZOFFSETFROM:+0000
TZOFFSETTO:+0000
TZNAME:UTC
DTSTART:20120101T000000
END:STANDARD
END:VTIMEZONE
BEGIN:VEVENT
DTSTART;VALUE=DATE:20131208
DTEND;VALUE=DATE:20131209
DTSTAMP:20260420T181748
CREATED:20160320T170429Z
LAST-MODIFIED:20190423T103743Z
UID:7973-1386460800-1386460800@hardloopevenementen.com
SUMMARY:Run2Day Veldloop Klinkenvlier Coevorden (DR)
DESCRIPTION:Doe mee met het hardloopevenement Run2Day Veldloop Klinkenvlier te Coevorden (DR) op zo 08 dec 2013. De volgende afstanden staan op het programma: 1 km – 5 km – 10 km hardlopen. Wilt u inschrijven voor dit loopevenement?  Raadpleeg hiervoor dan de website van de organisatie\nDe uitslagen van deze hardloopwedstrijd zijn te raadplegen via dezelfde website of via de bekende websites zoals uitslagen.nl\, runtimer en mylaps. Doet u mee met dit evenement\, zorg dan dat u goed voorbereid aan de start staat! Met een goed trainingsschema komt u een heel eind. Train bijvoorbeeld met start to run van Evy Gruyaert. Download de start to run mp3 bestanden en zet ze op uw telefoon. Oortjes in\, hit the play button en en rennen maar! \n\n\n\n\nMeer informatie over Run2Day Veldloop Klinkenvlier op Hardloopkalender.nl  \nHet loopevenement Run2Day Veldloop Klinkenvlier te Coevorden vindt plaats op zondag 08 december 2013. De loop wordt georganisseerd door Vechtdalloopsportpromotie. Inschrijven is mogelijk vanaf 01 mei 2013. Klik hier voor het adres van de start (Google Maps).Er is verkleedaccomodatie met douchemogelijkheid aanwezig. Er is EHBO aanwezig. Bijzonderheden: Veldloop\, geheel onderhard..Voor meer informatie:J. Koopsjans_ankie_koops@hotmail.com0613087664http:  www.vechtdalloopsportpromotie.nl \n  \n  \n 
URL:https://hardloopevenementen.com/loopagenda/run2day-veldloop-klinkenvlier-coevorden-dr/
END:VEVENT
END:VCALENDAR