BEGIN:VCALENDAR
VERSION:2.0
PRODID:-//Hardloopevenementen - ECPv6.15.14//NONSGML v1.0//EN
CALSCALE:GREGORIAN
METHOD:PUBLISH
X-WR-CALNAME:Hardloopevenementen
X-ORIGINAL-URL:https://hardloopevenementen.com
X-WR-CALDESC:Evenementen voor Hardloopevenementen
REFRESH-INTERVAL;VALUE=DURATION:PT1H
X-Robots-Tag:noindex
X-PUBLISHED-TTL:PT1H
BEGIN:VTIMEZONE
TZID:UTC
BEGIN:STANDARD
TZOFFSETFROM:+0000
TZOFFSETTO:+0000
TZNAME:UTC
DTSTART:20060101T000000
END:STANDARD
END:VTIMEZONE
BEGIN:VEVENT
DTSTART;VALUE=DATE:20080126
DTEND;VALUE=DATE:20080127
DTSTAMP:20260420T233004
CREATED:20120227T145603Z
LAST-MODIFIED:20190423T094936Z
UID:20279-1201305600-1201305600@hardloopevenementen.com
SUMMARY:FH Koningcross Apeldoorn
DESCRIPTION:Doe mee met het hardloopevenement FH Koningcross te Apeldoorn op za 26 jan 2008. De volgende afstanden staan op het programma: 6 km – 11 km – 15 km hardlopen. Wilt u inschrijven voor dit loopevenement?  Raadpleeg hiervoor dan de website van de organisatie\nDe uitslagen van deze hardloopwedstrijd zijn te raadplegen via dezelfde website of via de bekende websites zoals uitslagen.nl\, runtimer en mylaps. Doet u mee met dit evenement\, zorg dan dat u goed voorbereid aan de start staat! Met een goed trainingsschema komt u een heel eind. Train bijvoorbeeld met start to run van Evy Gruyaert. Download de start to run mp3 bestanden en zet ze op uw telefoon. Oortjes in\, hit the play button en en rennen maar! \n\n\n\n\nMeer informatie over FH Koningcross op Hardloopkalender.nl  \n6-11-15 km 11:00 uur  Organisatie: Politie Sport Vereniging  Telefoonnummer: 055-5486000  Locatie: Sportpark Orderbos 5\, Apeldoorn \n  \n  \n 
URL:https://hardloopevenementen.com/loopagenda/fh-koningcross-apeldoorn-2/
END:VEVENT
BEGIN:VEVENT
DTSTART;VALUE=DATE:20070120
DTEND;VALUE=DATE:20070121
DTSTAMP:20260420T233004
CREATED:20180430T073116Z
LAST-MODIFIED:20190423T094058Z
UID:786-1169251200-1169251200@hardloopevenementen.com
SUMMARY:FH Koningcross Apeldoorn
DESCRIPTION:Doe mee met het hardloopevenement FH Koningcross te Apeldoorn op za 20 jan 2007. De volgende afstanden staan op het programma: 6 km – 11 km – 15 km hardlopen. Wilt u inschrijven voor dit loopevenement?  Raadpleeg hiervoor dan de website van de organisatie\nDe uitslagen van deze hardloopwedstrijd zijn te raadplegen via dezelfde website of via de bekende websites zoals uitslagen.nl\, runtimer en mylaps. Doet u mee met dit evenement\, zorg dan dat u goed voorbereid aan de start staat! Met een goed trainingsschema komt u een heel eind. Train bijvoorbeeld met start to run van Evy Gruyaert. Download de start to run mp3 bestanden en zet ze op uw telefoon. Oortjes in\, hit the play button en en rennen maar! \n\n\n\n\nMeer informatie over FH Koningcross op Hardloopkalender.nl  \n  \n  \n 
URL:https://hardloopevenementen.com/loopagenda/fh-koningcross-apeldoorn/
END:VEVENT
END:VCALENDAR