BEGIN:VCALENDAR
VERSION:2.0
PRODID:-//Hardloopevenementen - ECPv6.15.14//NONSGML v1.0//EN
CALSCALE:GREGORIAN
METHOD:PUBLISH
X-ORIGINAL-URL:https://hardloopevenementen.com
X-WR-CALDESC:Evenementen voor Hardloopevenementen
REFRESH-INTERVAL;VALUE=DURATION:PT1H
X-Robots-Tag:noindex
X-PUBLISHED-TTL:PT1H
BEGIN:VTIMEZONE
TZID:UTC
BEGIN:STANDARD
TZOFFSETFROM:+0000
TZOFFSETTO:+0000
TZNAME:UTC
DTSTART:20160101T000000
END:STANDARD
END:VTIMEZONE
BEGIN:VEVENT
DTSTART;VALUE=DATE:20200329
DTEND;VALUE=DATE:20200330
DTSTAMP:20260425T115605
CREATED:20141003T013932Z
LAST-MODIFIED:20141003T013932Z
UID:146354-1585440000-1585440000@hardloopevenementen.com
SUMMARY:Kruisberg Trailrun Hummelo\, gemeente Bronckhorst (GE)
DESCRIPTION:Doe mee met het hardloopevenement Kruisberg Trailrun te Hummelo\, gemeente Bronckhorst (GE) op zo 29 mrt 2020. De volgende afstanden staan op het programma: 1 km – 5 km – 10 km – 15 km hardlopen. Wilt u inschrijven voor dit loopevenement?  Raadpleeg hiervoor dan de website van de organisatie\nDe uitslagen van deze hardloopwedstrijd zijn te raadplegen via dezelfde website of via de bekende websites zoals uitslagen.nl\, runtimer en mylaps. Doet u mee met dit evenement\, zorg dan dat u goed voorbereid aan de start staat! Met een goed trainingsschema komt u een heel eind. Train bijvoorbeeld met start to run van Evy Gruyaert. Download de start to run mp3 bestanden en zet ze op uw telefoon. Oortjes in\, hit the play button en en rennen maar! \n\n\n\n\nMeer informatie over Kruisberg Trailrun op Hardloopkalender.nl  \nDe loop wordt georganiseerd voor het Jeugdfonds Sport. De totale opbrengst gaat naar het goede doel. \n  \n  \n 
URL:https://hardloopevenementen.com/loopagenda/kruisberg-trailrun-hummelo-gemeente-bronckhorst-ge/
END:VEVENT
BEGIN:VEVENT
DTSTART;VALUE=DATE:20190331
DTEND;VALUE=DATE:20190401
DTSTAMP:20260425T115605
CREATED:20070329T033842Z
LAST-MODIFIED:20191114T112718Z
UID:17535-1553990400-1553990400@hardloopevenementen.com
SUMMARY:Kruisberg Trailrun 2019 Doetinchem (GE)
DESCRIPTION:Doe mee met het hardloopevenement Kruisberg Trailrun 2019 te Doetinchem (GE) op zo 31 mrt 2019. De volgende afstanden staan op het programma: 5 km – 10 km – 15 km hardlopen. Wilt u inschrijven voor dit loopevenement?  Raadpleeg hiervoor dan de website van de organisatie\nDe uitslagen van deze hardloopwedstrijd zijn te raadplegen via dezelfde website of via de bekende websites zoals uitslagen.nl\, runtimer en mylaps. Doet u mee met dit evenement\, zorg dan dat u goed voorbereid aan de start staat! Met een goed trainingsschema komt u een heel eind. Train bijvoorbeeld met start to run van Evy Gruyaert. Download de start to run mp3 bestanden en zet ze op uw telefoon. Oortjes in\, hit the play button en en rennen maar! \n\n\n\n\nMeer informatie over Kruisberg Trailrun 2019 op Hardloopkalender.nl  \nRennen voor het goede doel door de prachtige Kruisbergse Bossen!  Kijk ook op: www.facebook.nl kruisbergtrailrun \n  \n  \n 
URL:https://hardloopevenementen.com/loopagenda/kruisberg-trailrun-2019-doetinchem-ge/
END:VEVENT
BEGIN:VEVENT
DTSTART;VALUE=DATE:20180325
DTEND;VALUE=DATE:20180326
DTSTAMP:20260425T115605
CREATED:20080316T192531Z
LAST-MODIFIED:20190423T120604Z
UID:16878-1521936000-1521936000@hardloopevenementen.com
SUMMARY:Kruisberg Trailrun 2018 Doetinchem (GE)
DESCRIPTION:Doe mee met het hardloopevenement Kruisberg Trailrun 2018 te Doetinchem (GE) op zo 25 mrt 2018. De volgende afstanden staan op het programma: 5 km – 10 km – 15 km hardlopen. Wilt u inschrijven voor dit loopevenement?  Raadpleeg hiervoor dan de website van de organisatie\nDe uitslagen van deze hardloopwedstrijd zijn te raadplegen via dezelfde website of via de bekende websites zoals uitslagen.nl\, runtimer en mylaps. Doet u mee met dit evenement\, zorg dan dat u goed voorbereid aan de start staat! Met een goed trainingsschema komt u een heel eind. Train bijvoorbeeld met start to run van Evy Gruyaert. Download de start to run mp3 bestanden en zet ze op uw telefoon. Oortjes in\, hit the play button en en rennen maar! \n\n\n\n\nMeer informatie over Kruisberg Trailrun 2018 op Hardloopkalender.nl  \nRennen voor het goede doel door de Kruisbergse Bossen. Naast de genoemde afstanden is er voor de jongsten ook een Kidsrun van 1 km uitgezet over het terrein van motorsportaccomodatie ‘De Heksenplas’. \n  \n  \n 
URL:https://hardloopevenementen.com/loopagenda/kruisberg-trailrun-2018-doetinchem-ge/
END:VEVENT
BEGIN:VEVENT
DTSTART;VALUE=DATE:20170326
DTEND;VALUE=DATE:20170327
DTSTAMP:20260425T115605
CREATED:20140702T035145Z
LAST-MODIFIED:20190423T114732Z
UID:15048-1490486400-1490486400@hardloopevenementen.com
SUMMARY:Kruisberg Trailrun Doetinchem (GE)
DESCRIPTION:Doe mee met het hardloopevenement Kruisberg Trailrun te Doetinchem (GE) op zo 26 mrt 2017. De volgende afstanden staan op het programma: 5 km – 10 km hardlopen. Wilt u inschrijven voor dit loopevenement?  Raadpleeg hiervoor dan de website van de organisatie\nDe uitslagen van deze hardloopwedstrijd zijn te raadplegen via dezelfde website of via de bekende websites zoals uitslagen.nl\, runtimer en mylaps. Doet u mee met dit evenement\, zorg dan dat u goed voorbereid aan de start staat! Met een goed trainingsschema komt u een heel eind. Train bijvoorbeeld met start to run van Evy Gruyaert. Download de start to run mp3 bestanden en zet ze op uw telefoon. Oortjes in\, hit the play button en en rennen maar! \n\n\n\n\nMeer informatie over Kruisberg Trailrun op Hardloopkalender.nl  \nHardlopen door de Kruisbergse Bossen voor het goede doel: het kinderen financieel mogelijk maken om lid te worden van een sportvereniging \n  \n  \n 
URL:https://hardloopevenementen.com/loopagenda/kruisberg-trailrun-doetinchem-ge/
END:VEVENT
END:VCALENDAR