BEGIN:VCALENDAR
VERSION:2.0
PRODID:-//Hardloopevenementen - ECPv6.15.14//NONSGML v1.0//EN
CALSCALE:GREGORIAN
METHOD:PUBLISH
X-WR-CALNAME:Hardloopevenementen
X-ORIGINAL-URL:https://hardloopevenementen.com
X-WR-CALDESC:Evenementen voor Hardloopevenementen
REFRESH-INTERVAL;VALUE=DURATION:PT1H
X-Robots-Tag:noindex
X-PUBLISHED-TTL:PT1H
BEGIN:VTIMEZONE
TZID:UTC
BEGIN:STANDARD
TZOFFSETFROM:+0000
TZOFFSETTO:+0000
TZNAME:UTC
DTSTART:20090101T000000
END:STANDARD
END:VTIMEZONE
BEGIN:VEVENT
DTSTART;VALUE=DATE:20110903
DTEND;VALUE=DATE:20110904
DTSTAMP:20260423T171303
CREATED:20100411T064449Z
LAST-MODIFIED:20190423T101912Z
UID:6431-1315008000-1315008000@hardloopevenementen.com
SUMMARY:Unive Stad en Land Hanzeloop Warnsveld\, gemeente Zutphen (GE)
DESCRIPTION:Doe mee met het hardloopevenement Unive Stad en Land Hanzeloop te Warnsveld\, gemeente Zutphen (GE) op za 03 sep 2011. De volgende afstanden staan op het programma: 2\,5 km – 5 km – 10 km – halve marathon hardlopen. Wilt u inschrijven voor dit loopevenement?  Raadpleeg hiervoor dan de website van de organisatie\nDe uitslagen van deze hardloopwedstrijd zijn te raadplegen via dezelfde website of via de bekende websites zoals uitslagen.nl\, runtimer en mylaps. Doet u mee met dit evenement\, zorg dan dat u goed voorbereid aan de start staat! Met een goed trainingsschema komt u een heel eind. Train bijvoorbeeld met start to run van Evy Gruyaert. Download de start to run mp3 bestanden en zet ze op uw telefoon. Oortjes in\, hit the play button en en rennen maar! \n\n\n\n\nMeer informatie over Unive Stad en Land Hanzeloop op Hardloopkalender.nl  \nHet loopevenement Univé Stad en Land Hanzeloop te Warnsveld vindt plaats op zaterdag 03 september 2011. De loop wordt georganiseerd door AV Hanzesport. Inschrijven is mogelijk vanaf 01 juni 2011. Klik hier voor het adres van de start (Google Maps).Er is verkleedaccomodatie met douchemogelijkheid aanwezig. Er is EHBO aanwezig. Afstand(km)Inschrijfgeld(€)Starttijd2\,5€1\,0013.305\,0€4\,5013.3510€5\,5014.3021€6\,5014.30Voor meer informatie:J. Roodrood.j@hetnet.nl0570541809http:  hanzesport.nl \n  \n  \n 
URL:https://hardloopevenementen.com/loopagenda/unive-stad-en-land-hanzeloop-warnsveld-gemeente-zutphen-ge-2/
END:VEVENT
BEGIN:VEVENT
DTSTART;VALUE=DATE:20100904
DTEND;VALUE=DATE:20100905
DTSTAMP:20260423T171303
CREATED:20160207T201237Z
LAST-MODIFIED:20190423T100911Z
UID:3682-1283558400-1283558400@hardloopevenementen.com
SUMMARY:Unive Stad en Land Hanzeloop Warnsveld\, gemeente Zutphen (GE)
DESCRIPTION:Doe mee met het hardloopevenement Unive Stad en Land Hanzeloop te Warnsveld\, gemeente Zutphen (GE) op za 04 sep 2010. De volgende afstanden staan op het programma: 2\,5 km – 5 km – 10 km – halve marathon hardlopen. Wilt u inschrijven voor dit loopevenement?  Raadpleeg hiervoor dan de website van de organisatie\nDe uitslagen van deze hardloopwedstrijd zijn te raadplegen via dezelfde website of via de bekende websites zoals uitslagen.nl\, runtimer en mylaps. Doet u mee met dit evenement\, zorg dan dat u goed voorbereid aan de start staat! Met een goed trainingsschema komt u een heel eind. Train bijvoorbeeld met start to run van Evy Gruyaert. Download de start to run mp3 bestanden en zet ze op uw telefoon. Oortjes in\, hit the play button en en rennen maar! \n\n\n\n\nMeer informatie over Unive Stad en Land Hanzeloop op Hardloopkalender.nl  \nDit loopevenement wordt georganiseerd door AV Hanzesport.De eerste afstand (of onderdeel) start om 13:30.Het adres van de start en de finish is Dreiumme 1Categorie(ën): mannen\, vrouwen\, jeugdVooraf inschrijven is mogelijk vanaf 01 juni 2010 tot 22 augustus 2010.Inschrijven op de dag van de loop is mogelijk (vanaf 11.00 uur) op dit adres: Sporthal de Kei  Bussenweide 2  Warnsveld.Meer informatie:Contactpersoon: J. RoodTel.: 0570541809Email: rood.j@hetnet.nlEr is een kleedaccomodatie aanwezig. Douchen is mogelijk.Het parcours is verhard.Vorig jaar deden er 550 lopers mee aan dit evenement.Overige bijzonderheden:  Deelname aan meer lopen: korting op inschrijfgeld bij voorinschrijving \n  \n  \n 
URL:https://hardloopevenementen.com/loopagenda/unive-stad-en-land-hanzeloop-warnsveld-gemeente-zutphen-ge/
END:VEVENT
BEGIN:VEVENT
DTSTART;VALUE=DATE:20100612
DTEND;VALUE=DATE:20100613
DTSTAMP:20260423T171303
CREATED:20100915T220445Z
LAST-MODIFIED:20190423T101104Z
UID:4071-1276300800-1276300800@hardloopevenementen.com
SUMMARY:Groene Land Achmea Halve Marathon Festival Zwolle Zwolle (OV)
DESCRIPTION:Doe mee met het hardloopevenement Groene Land Achmea Halve Marathon Festival Zwolle te Zwolle (OV) op za 12 jun 2010. De volgende afstanden staan op het programma: 6\,4 km – halve marathon hardlopen. Wilt u inschrijven voor dit loopevenement?  Raadpleeg hiervoor dan de website van de organisatie\nDe uitslagen van deze hardloopwedstrijd zijn te raadplegen via dezelfde website of via de bekende websites zoals uitslagen.nl\, runtimer en mylaps. Doet u mee met dit evenement\, zorg dan dat u goed voorbereid aan de start staat! Met een goed trainingsschema komt u een heel eind. Train bijvoorbeeld met start to run van Evy Gruyaert. Download de start to run mp3 bestanden en zet ze op uw telefoon. Oortjes in\, hit the play button en en rennen maar! \n\n\n\n\nMeer informatie over Groene Land Achmea Halve Marathon Festival Zwolle op Hardloopkalender.nl  \nDit loopevenement wordt georganiseerd door Stichting Halve Marathon Zwolle.De eerste afstand (of onderdeel) start om 19:15.Het adres van de start is Koggelaan 1 Het adres van de finish is Grote Markt 1Categorie(ën): mannen\, vrouwenVooraf inschrijven is mogelijk vanaf 12 december 2009 tot 04 juni 2010.Inschrijven op de dag van de loop is mogelijk (vanaf 11:30 uur) op dit adres: Arend Baanstraat 107.Meer informatie:Contactpersoon: Janny StevensTel.: 0384652948Email: jannystevens@halvemarathonzwolle.nlEr is een kleedaccomodatie aanwezig. Douchen is mogelijk.Het parcours is verhard.Vorig jaar deden er 5500 lopers mee aan dit evenement.Overige bijzonderheden:  Jubileumeditie 10e keer \n  \n  \n 
URL:https://hardloopevenementen.com/loopagenda/groene-land-achmea-halve-marathon-festival-zwolle-zwolle-ov/
END:VEVENT
END:VCALENDAR