BEGIN:VCALENDAR
VERSION:2.0
PRODID:-//Hardloopevenementen - ECPv6.15.14//NONSGML v1.0//EN
CALSCALE:GREGORIAN
METHOD:PUBLISH
X-ORIGINAL-URL:https://hardloopevenementen.com
X-WR-CALDESC:Evenementen voor Hardloopevenementen
REFRESH-INTERVAL;VALUE=DURATION:PT1H
X-Robots-Tag:noindex
X-PUBLISHED-TTL:PT1H
BEGIN:VTIMEZONE
TZID:UTC
BEGIN:STANDARD
TZOFFSETFROM:+0000
TZOFFSETTO:+0000
TZNAME:UTC
DTSTART:20120101T000000
END:STANDARD
END:VTIMEZONE
BEGIN:VEVENT
DTSTART;VALUE=DATE:20141012
DTEND;VALUE=DATE:20141013
DTSTAMP:20260425T185300
CREATED:20090329T022130Z
LAST-MODIFIED:20190423T105028Z
UID:8928-1413072000-1413072000@hardloopevenementen.com
SUMMARY:De Lage Landen Marathon Eindhoven Eindhoven (NB)
DESCRIPTION:Doe mee met het hardloopevenement De Lage Landen Marathon Eindhoven te Eindhoven (NB) op zo 12 okt 2014. De volgende afstanden staan op het programma: 2\,5 km – 5 km – halve marathon – marathon hardlopen. Wilt u inschrijven voor dit loopevenement?  Raadpleeg hiervoor dan de website van de organisatie\nDe uitslagen van deze hardloopwedstrijd zijn te raadplegen via dezelfde website of via de bekende websites zoals uitslagen.nl\, runtimer en mylaps. Doet u mee met dit evenement\, zorg dan dat u goed voorbereid aan de start staat! Met een goed trainingsschema komt u een heel eind. Train bijvoorbeeld met start to run van Evy Gruyaert. Download de start to run mp3 bestanden en zet ze op uw telefoon. Oortjes in\, hit the play button en en rennen maar! \n\n\n\n\nMeer informatie over De Lage Landen Marathon Eindhoven op Hardloopkalender.nl  \nHet loopevenement De Lage Landen Marathon Eindhoven te Eindhoven vindt plaats op zondag 12 oktober 2014. De loop wordt georganisseerd door Stichting Marathon Eindhoven. Klik hier voor het adres van de start (Google Maps).Bijzonderheden: Marathon Eindhoven is het grootste eendaags sportevenement in Noord Brabant . \n  \n  \n 
URL:https://hardloopevenementen.com/loopagenda/de-lage-landen-marathon-eindhoven-eindhoven-nb-2/
END:VEVENT
BEGIN:VEVENT
DTSTART;VALUE=DATE:20131013
DTEND;VALUE=DATE:20131014
DTSTAMP:20260425T185300
CREATED:20070628T014943Z
LAST-MODIFIED:20190423T103911Z
UID:8289-1381622400-1381622400@hardloopevenementen.com
SUMMARY:De  Lage Landen Marathon Eindhoven Eindhoven (NB)
DESCRIPTION:Doe mee met het hardloopevenement De  Lage Landen Marathon Eindhoven te Eindhoven (NB) op zo 13 okt 2013. De volgende afstanden staan op het programma: 2\,5 km – 5 km – halve marathon – marathon hardlopen. Wilt u inschrijven voor dit loopevenement?  Raadpleeg hiervoor dan de website van de organisatie\nDe uitslagen van deze hardloopwedstrijd zijn te raadplegen via dezelfde website of via de bekende websites zoals uitslagen.nl\, runtimer en mylaps. Doet u mee met dit evenement\, zorg dan dat u goed voorbereid aan de start staat! Met een goed trainingsschema komt u een heel eind. Train bijvoorbeeld met start to run van Evy Gruyaert. Download de start to run mp3 bestanden en zet ze op uw telefoon. Oortjes in\, hit the play button en en rennen maar! \n\n\n\n\nMeer informatie over De  Lage Landen Marathon Eindhoven op Hardloopkalender.nl  \nHet loopevenement De  Lage Landen Marathon Eindhoven te Eindhoven vindt plaats op zondag 13 oktober 2013. De loop wordt georganisseerd door Stichting Marathon Eindhoven. Inschrijven is mogelijk vanaf 01 februari 2013. Klik hier voor het adres van de start (Google Maps).Er is verkleedaccomodatie met douchemogelijkheid aanwezig. Er is EHBO aanwezig. Bijzonderheden: Marathon Eindhoven is het grootste eendaags sportevenement in Noord Brabant.Voor meer informatie:Els Vogelselsvogels@marathoneindhoven.nl0402388911http:  www.marathoneindhoven.nl \n  \n  \n 
URL:https://hardloopevenementen.com/loopagenda/de-lage-landen-marathon-eindhoven-eindhoven-nb/
END:VEVENT
END:VCALENDAR