BEGIN:VCALENDAR
VERSION:2.0
PRODID:-//Hardloopevenementen - ECPv6.15.14//NONSGML v1.0//EN
CALSCALE:GREGORIAN
METHOD:PUBLISH
X-WR-CALNAME:Hardloopevenementen
X-ORIGINAL-URL:https://hardloopevenementen.com
X-WR-CALDESC:Evenementen voor Hardloopevenementen
REFRESH-INTERVAL;VALUE=DURATION:PT1H
X-Robots-Tag:noindex
X-PUBLISHED-TTL:PT1H
BEGIN:VTIMEZONE
TZID:UTC
BEGIN:STANDARD
TZOFFSETFROM:+0000
TZOFFSETTO:+0000
TZNAME:UTC
DTSTART:20100101T000000
END:STANDARD
END:VTIMEZONE
BEGIN:VEVENT
DTSTART;VALUE=DATE:20160221
DTEND;VALUE=DATE:20160222
DTSTAMP:20260420T070223
CREATED:20180204T171259Z
LAST-MODIFIED:20190423T112709Z
UID:13260-1456012800-1456012800@hardloopevenementen.com
SUMMARY:LAT winterserie snelwandelen Amsterdam (NH)
DESCRIPTION:Doe mee met het hardloopevenement LAT winterserie snelwandelen te Amsterdam (NH) op zo 21 feb 2016. De volgende afstanden staan op het programma: 5 km – 10 km – 15 km – 20 km hardlopen. Wilt u inschrijven voor dit loopevenement?  Raadpleeg hiervoor dan de website van de organisatie\nDe uitslagen van deze hardloopwedstrijd zijn te raadplegen via dezelfde website of via de bekende websites zoals uitslagen.nl\, runtimer en mylaps. Doet u mee met dit evenement\, zorg dan dat u goed voorbereid aan de start staat! Met een goed trainingsschema komt u een heel eind. Train bijvoorbeeld met start to run van Evy Gruyaert. Download de start to run mp3 bestanden en zet ze op uw telefoon. Oortjes in\, hit the play button en en rennen maar! \n\n\n\n\nMeer informatie over LAT winterserie snelwandelen op Hardloopkalender.nl  \nHet loopevenement LAT winterserie snelwandelen te Amsterdam vindt plaats op zondag 21 februari 2016. \n  \n  \n 
URL:https://hardloopevenementen.com/loopagenda/lat-winterserie-snelwandelen-amsterdam-nh/
END:VEVENT
BEGIN:VEVENT
DTSTART;VALUE=DATE:20111218
DTEND;VALUE=DATE:20111219
DTSTAMP:20260420T070223
CREATED:20170427T090129Z
LAST-MODIFIED:20190423T101625Z
UID:5766-1324166400-1324166400@hardloopevenementen.com
SUMMARY:LAT winterserie Amsterdam (NH)
DESCRIPTION:Doe mee met het hardloopevenement LAT winterserie te Amsterdam (NH) op zo 18 dec 2011. De volgende afstanden staan op het programma: 5 km – 10 km hardlopen. Wilt u inschrijven voor dit loopevenement?  Raadpleeg hiervoor dan de website van de organisatie\nDe uitslagen van deze hardloopwedstrijd zijn te raadplegen via dezelfde website of via de bekende websites zoals uitslagen.nl\, runtimer en mylaps. Doet u mee met dit evenement\, zorg dan dat u goed voorbereid aan de start staat! Met een goed trainingsschema komt u een heel eind. Train bijvoorbeeld met start to run van Evy Gruyaert. Download de start to run mp3 bestanden en zet ze op uw telefoon. Oortjes in\, hit the play button en en rennen maar! \n\n\n\n\nMeer informatie over LAT winterserie op Hardloopkalender.nl  \nHet loopevenement LAT winterserie te Amsterdam vindt plaats op zondag 18 december 2011. De loop wordt georganiseerd door De Lat. Inschrijven is mogelijk vanaf 18 december 2011. Klik hier voor het adres van de start (Google Maps).Er is verkleedaccomodatie met douchemogelijkheid aanwezig. Er is EHBO aanwezig. Bijzonderheden: wedstrijd snelwandelen.Afstand(km)Inschrijfgeld(€)Starttijd10kmsnelwandelen€4\,5012:00uur5kmsnelwandelen€4\,5012:00uurVoor meer informatie:Alex Wijsmaninfo@delat.nl0206900036http:  www.delat.nl \n  \n  \n 
URL:https://hardloopevenementen.com/loopagenda/lat-winterserie-amsterdam-nh/
END:VEVENT
BEGIN:VEVENT
DTSTART;VALUE=DATE:20110213
DTEND;VALUE=DATE:20110214
DTSTAMP:20260420T070223
CREATED:20090702T213259Z
LAST-MODIFIED:20190423T102358Z
UID:26881-1297555200-1297555200@hardloopevenementen.com
SUMMARY:LAT winterserie Amsterdam (NH)
DESCRIPTION:Doe mee met het hardloopevenement LAT winterserie te Amsterdam (NH) op zo 13 feb 2011. De volgende afstanden staan op het programma: 5 km – 10 km hardlopen. Wilt u inschrijven voor dit loopevenement?  Raadpleeg hiervoor dan de website van de organisatie\nDe uitslagen van deze hardloopwedstrijd zijn te raadplegen via dezelfde website of via de bekende websites zoals uitslagen.nl\, runtimer en mylaps. Doet u mee met dit evenement\, zorg dan dat u goed voorbereid aan de start staat! Met een goed trainingsschema komt u een heel eind. Train bijvoorbeeld met start to run van Evy Gruyaert. Download de start to run mp3 bestanden en zet ze op uw telefoon. Oortjes in\, hit the play button en en rennen maar! \n\n\n\n\nMeer informatie over LAT winterserie op Hardloopkalender.nl  \nHet loopevenement LAT winterserie te Amsterdam vindt plaats op zondag 13 februari 2011. De loop wordt georganiseerd door De Lat. Inschrijven is mogelijk vanaf 13 februari 2011. Klik hier voor het adres van de start (Google Maps).Er is verkleedaccomodatie met douchemogelijkheid aanwezig. Er is EHBO aanwezig. Bijzonderheden: wedstrijd snelwandelen.Afstand(km)Inschrijfgeld(€)Starttijd10kmsnelwandelen€4\,5012:00uur5kmsnelwandelen€4\,5012:00uurVoor meer informatie:Alex Wijsmaninfo@delat.nl0206900036http:  www.delat.nl \n  \n  \n 
URL:https://hardloopevenementen.com/loopagenda/lat-winterserie-amsterdam-nh-2/
END:VEVENT
BEGIN:VEVENT
DTSTART;VALUE=DATE:20110123
DTEND;VALUE=DATE:20110124
DTSTAMP:20260420T070223
CREATED:20110711T004826Z
LAST-MODIFIED:20190423T102428Z
UID:26998-1295740800-1295740800@hardloopevenementen.com
SUMMARY:LAT winterserie Amsterdam (NH)
DESCRIPTION:Doe mee met het hardloopevenement LAT winterserie te Amsterdam (NH) op zo 23 jan 2011. De volgende afstanden staan op het programma: 5 km – 10 km hardlopen. Wilt u inschrijven voor dit loopevenement?  Raadpleeg hiervoor dan de website van de organisatie\nDe uitslagen van deze hardloopwedstrijd zijn te raadplegen via dezelfde website of via de bekende websites zoals uitslagen.nl\, runtimer en mylaps. Doet u mee met dit evenement\, zorg dan dat u goed voorbereid aan de start staat! Met een goed trainingsschema komt u een heel eind. Train bijvoorbeeld met start to run van Evy Gruyaert. Download de start to run mp3 bestanden en zet ze op uw telefoon. Oortjes in\, hit the play button en en rennen maar! \n\n\n\n\nMeer informatie over LAT winterserie op Hardloopkalender.nl  \nHet loopevenement LAT winterserie te Amsterdam vindt plaats op zondag 23 januari 2011. De loop wordt georganiseerd door De Lat. Inschrijven is mogelijk vanaf 23 januari 2011. Klik hier voor het adres van de start (Google Maps).Er is verkleedaccomodatie met douchemogelijkheid aanwezig. Er is EHBO aanwezig. Bijzonderheden: wedstrijd snelwandelen.Afstand(km)Inschrijfgeld(€)Starttijd10kmsnelwandelen€4\,5012:00uur5kmsnelwandelen€4\,5012:00uurVoor meer informatie:Alex Wijsmaninfo@delat.nl0206900036http:  www.delat.nl \n  \n  \n 
URL:https://hardloopevenementen.com/loopagenda/lat-winterserie-amsterdam-nh-3/
END:VEVENT
END:VCALENDAR