BEGIN:VCALENDAR
VERSION:2.0
PRODID:-//Hardloopevenementen - ECPv6.15.14//NONSGML v1.0//EN
CALSCALE:GREGORIAN
METHOD:PUBLISH
X-ORIGINAL-URL:https://hardloopevenementen.com
X-WR-CALDESC:Evenementen voor Hardloopevenementen
REFRESH-INTERVAL;VALUE=DURATION:PT1H
X-Robots-Tag:noindex
X-PUBLISHED-TTL:PT1H
BEGIN:VTIMEZONE
TZID:UTC
BEGIN:STANDARD
TZOFFSETFROM:+0000
TZOFFSETTO:+0000
TZNAME:UTC
DTSTART:20170101T000000
END:STANDARD
END:VTIMEZONE
BEGIN:VEVENT
DTSTART;VALUE=DATE:20180728
DTEND;VALUE=DATE:20180729
DTSTAMP:20260421T212644
CREATED:20130115T222021Z
LAST-MODIFIED:20190423T120337Z
UID:16220-1532736000-1532736000@hardloopevenementen.com
SUMMARY:Leenderbos Trail Leende\, gemeente Heeze-Leende (NB)
DESCRIPTION:Doe mee met het hardloopevenement Leenderbos Trail te Leende\, gemeente Heeze-Leende (NB) op za 28 jul 2018. De volgende afstanden staan op het programma: 7 km – 12 km – halve marathon – 30 km – marathon hardlopen. Wilt u inschrijven voor dit loopevenement?  Raadpleeg hiervoor dan de website van de organisatie\nDe uitslagen van deze hardloopwedstrijd zijn te raadplegen via dezelfde website of via de bekende websites zoals uitslagen.nl\, runtimer en mylaps. Doet u mee met dit evenement\, zorg dan dat u goed voorbereid aan de start staat! Met een goed trainingsschema komt u een heel eind. Train bijvoorbeeld met start to run van Evy Gruyaert. Download de start to run mp3 bestanden en zet ze op uw telefoon. Oortjes in\, hit the play button en en rennen maar! \n\n\n\n\nMeer informatie over Leenderbos Trail op Hardloopkalender.nl  \nHet Leenderbos is 2300 hectare groot en onderdeel van Natura 2000-gebied Leenderbos\, Groote Heide & De Plateaux. De Leenderbos Trail loopt met verschillende afstanden door dit prachtige gebied. Alle routes zijn uitgezet in samenwerking met de boswachter van Staatsbosbeheer. Natuurschoon gegarandeerd! \n  \n  \n 
URL:https://hardloopevenementen.com/loopagenda/leenderbos-trail-leende-gemeente-heeze-leende-nb/
END:VEVENT
END:VCALENDAR