BEGIN:VCALENDAR
VERSION:2.0
PRODID:-//Hardloopevenementen - ECPv6.15.14//NONSGML v1.0//EN
CALSCALE:GREGORIAN
METHOD:PUBLISH
X-WR-CALNAME:Hardloopevenementen
X-ORIGINAL-URL:https://hardloopevenementen.com
X-WR-CALDESC:Evenementen voor Hardloopevenementen
REFRESH-INTERVAL;VALUE=DURATION:PT1H
X-Robots-Tag:noindex
X-PUBLISHED-TTL:PT1H
BEGIN:VTIMEZONE
TZID:UTC
BEGIN:STANDARD
TZOFFSETFROM:+0000
TZOFFSETTO:+0000
TZNAME:UTC
DTSTART:20160101T000000
END:STANDARD
END:VTIMEZONE
BEGIN:VEVENT
DTSTART;VALUE=DATE:20170402
DTEND;VALUE=DATE:20170403
DTSTAMP:20260420T150140
CREATED:20120512T094825Z
LAST-MODIFIED:20190423T114719Z
UID:14991-1491091200-1491091200@hardloopevenementen.com
SUMMARY:Rondje Bussloo Lenteeditie Bussloo\, gemeente Voorst (GE)
DESCRIPTION:Doe mee met het hardloopevenement Rondje Bussloo Lenteeditie te Bussloo\, gemeente Voorst (GE) op zo 02 apr 2017. De volgende afstanden staan op het programma: 7\,5 km – 15 km hardlopen. Wilt u inschrijven voor dit loopevenement?  Raadpleeg hiervoor dan de website van de organisatie\nDe uitslagen van deze hardloopwedstrijd zijn te raadplegen via dezelfde website of via de bekende websites zoals uitslagen.nl\, runtimer en mylaps. Doet u mee met dit evenement\, zorg dan dat u goed voorbereid aan de start staat! Met een goed trainingsschema komt u een heel eind. Train bijvoorbeeld met start to run van Evy Gruyaert. Download de start to run mp3 bestanden en zet ze op uw telefoon. Oortjes in\, hit the play button en en rennen maar! \n\n\n\n\nMeer informatie over Rondje Bussloo Lenteeditie op Hardloopkalender.nl  \nVanaf 15 november as. kun je inschrijven voor alle edities 2017.  We geven bij iedere editie in 2017 een mok weg met daarop de seizoenseditie. SPAAR ZE DUS ALLE 4!    Bovendien verloten we bij iedere editie een weekend aan zee  voor 2 personen in een luxe bungalow!  zie vakantiehuis \n  \n  \n 
URL:https://hardloopevenementen.com/loopagenda/rondje-bussloo-lenteeditie-bussloo-gemeente-voorst-ge/
END:VEVENT
END:VCALENDAR