BEGIN:VCALENDAR
VERSION:2.0
PRODID:-//Hardloopevenementen - ECPv6.15.14//NONSGML v1.0//EN
CALSCALE:GREGORIAN
METHOD:PUBLISH
X-ORIGINAL-URL:https://hardloopevenementen.com
X-WR-CALDESC:Evenementen voor Hardloopevenementen
REFRESH-INTERVAL;VALUE=DURATION:PT1H
X-Robots-Tag:noindex
X-PUBLISHED-TTL:PT1H
BEGIN:VTIMEZONE
TZID:UTC
BEGIN:STANDARD
TZOFFSETFROM:+0000
TZOFFSETTO:+0000
TZNAME:UTC
DTSTART:20110101T000000
END:STANDARD
END:VTIMEZONE
BEGIN:VEVENT
DTSTART;VALUE=DATE:20140315
DTEND;VALUE=DATE:20140316
DTSTAMP:20260423T055626
CREATED:20090813T104420Z
LAST-MODIFIED:20190423T105716Z
UID:34536-1394841600-1394841600@hardloopevenementen.com
SUMMARY:Leprarun Lelystad (FL)
DESCRIPTION:Doe mee met het hardloopevenement Leprarun te Lelystad (FL) op za 15 mrt 2014. De volgende afstanden staan op het programma: 5 km – 10 km hardlopen. Wilt u inschrijven voor dit loopevenement?  Raadpleeg hiervoor dan de website van de organisatie\nDe uitslagen van deze hardloopwedstrijd zijn te raadplegen via dezelfde website of via de bekende websites zoals uitslagen.nl\, runtimer en mylaps. Doet u mee met dit evenement\, zorg dan dat u goed voorbereid aan de start staat! Met een goed trainingsschema komt u een heel eind. Train bijvoorbeeld met start to run van Evy Gruyaert. Download de start to run mp3 bestanden en zet ze op uw telefoon. Oortjes in\, hit the play button en en rennen maar! \n\n\n\n\nMeer informatie over Leprarun op Hardloopkalender.nl  \nHet loopevenement Leprarun te Lelystad vindt plaats op zaterdag 15 maart 2014. De loop wordt georganisseerd door Leprastichting. Klik hier voor het adres van de start (Google Maps).Bijzonderheden: Een gezellige run voor een heel goed doel:  Leprastichting!. \n  \n  \n 
URL:https://hardloopevenementen.com/loopagenda/leprarun-lelystad-fl-3/
END:VEVENT
BEGIN:VEVENT
DTSTART;VALUE=DATE:20130316
DTEND;VALUE=DATE:20130317
DTSTAMP:20260423T055626
CREATED:20091018T103313Z
LAST-MODIFIED:20190423T104422Z
UID:32099-1363392000-1363392000@hardloopevenementen.com
SUMMARY:Leprarun Lelystad (FL)
DESCRIPTION:Doe mee met het hardloopevenement Leprarun te Lelystad (FL) op za 16 mrt 2013. De volgende afstanden staan op het programma: 5 km – 10 km hardlopen. Wilt u inschrijven voor dit loopevenement?  Raadpleeg hiervoor dan de website van de organisatie\nDe uitslagen van deze hardloopwedstrijd zijn te raadplegen via dezelfde website of via de bekende websites zoals uitslagen.nl\, runtimer en mylaps. Doet u mee met dit evenement\, zorg dan dat u goed voorbereid aan de start staat! Met een goed trainingsschema komt u een heel eind. Train bijvoorbeeld met start to run van Evy Gruyaert. Download de start to run mp3 bestanden en zet ze op uw telefoon. Oortjes in\, hit the play button en en rennen maar! \n\n\n\n\nMeer informatie over Leprarun op Hardloopkalender.nl  \nHet loopevenement Leprarun te Lelystad vindt plaats op zaterdag 16 maart 2013. De loop wordt georganisseerd door Leprastichting. Inschrijven is mogelijk vanaf 01 januari 2013. Klik hier voor het adres van de start (Google Maps).Er is verkleedaccomodatie met douchemogelijkheid aanwezig. Er is EHBO aanwezig. Bijzonderheden: Een klein stukje onverhard in de wijk Houtribhoogte\, rest verhard..Voor meer informatie:Jenny Schiltschiltje@gmail.com1234567890http:  www.atletiekunie.nl \n  \n  \n 
URL:https://hardloopevenementen.com/loopagenda/leprarun-lelystad-fl-2/
END:VEVENT
BEGIN:VEVENT
DTSTART;VALUE=DATE:20120310
DTEND;VALUE=DATE:20120311
DTSTAMP:20260423T055626
CREATED:20090925T012013Z
LAST-MODIFIED:20190423T103400Z
UID:28747-1331337600-1331337600@hardloopevenementen.com
SUMMARY:Leprarun Lelystad (FL)
DESCRIPTION:Doe mee met het hardloopevenement Leprarun te Lelystad (FL) op za 10 mrt 2012. De volgende afstanden staan op het programma: 3 km – 5 km – 10 km hardlopen. Wilt u inschrijven voor dit loopevenement?  Raadpleeg hiervoor dan de website van de organisatie\nDe uitslagen van deze hardloopwedstrijd zijn te raadplegen via dezelfde website of via de bekende websites zoals uitslagen.nl\, runtimer en mylaps. Doet u mee met dit evenement\, zorg dan dat u goed voorbereid aan de start staat! Met een goed trainingsschema komt u een heel eind. Train bijvoorbeeld met start to run van Evy Gruyaert. Download de start to run mp3 bestanden en zet ze op uw telefoon. Oortjes in\, hit the play button en en rennen maar! \n\n\n\n\nMeer informatie over Leprarun op Hardloopkalender.nl  \nMeer info:  www.bataviahaven.nl.    Inschrijving mogelijk via    leprarun@gmail.com    of bij    Runnersworld Lelystad\,  Stationslaan 4 Lelystad \n  \n  \n 
URL:https://hardloopevenementen.com/loopagenda/leprarun-lelystad-fl/
END:VEVENT
END:VCALENDAR